BEGIN:VCALENDAR
VERSION:2.0
PRODID:-//Evankelinen lähetysyhdistys ELY ry - ECPv6.15.18//NONSGML v1.0//EN
CALSCALE:GREGORIAN
METHOD:PUBLISH
X-WR-CALNAME:Evankelinen lähetysyhdistys ELY ry
X-ORIGINAL-URL:https://www.evankeliset.net
X-WR-CALDESC:Tapahtumat Evankelinen lähetysyhdistys ELY ry
REFRESH-INTERVAL;VALUE=DURATION:PT1H
X-Robots-Tag:noindex
X-PUBLISHED-TTL:PT1H
BEGIN:VTIMEZONE
TZID:Europe/Helsinki
BEGIN:DAYLIGHT
TZOFFSETFROM:+0200
TZOFFSETTO:+0300
TZNAME:EEST
DTSTART:20220327T010000
END:DAYLIGHT
BEGIN:STANDARD
TZOFFSETFROM:+0300
TZOFFSETTO:+0200
TZNAME:EET
DTSTART:20221030T010000
END:STANDARD
BEGIN:DAYLIGHT
TZOFFSETFROM:+0200
TZOFFSETTO:+0300
TZNAME:EEST
DTSTART:20230326T010000
END:DAYLIGHT
BEGIN:STANDARD
TZOFFSETFROM:+0300
TZOFFSETTO:+0200
TZNAME:EET
DTSTART:20231029T010000
END:STANDARD
BEGIN:DAYLIGHT
TZOFFSETFROM:+0200
TZOFFSETTO:+0300
TZNAME:EEST
DTSTART:20240331T010000
END:DAYLIGHT
BEGIN:STANDARD
TZOFFSETFROM:+0300
TZOFFSETTO:+0200
TZNAME:EET
DTSTART:20241027T010000
END:STANDARD
END:VTIMEZONE
BEGIN:VEVENT
DTSTART;TZID=Europe/Helsinki:20230416T100000
DTEND;TZID=Europe/Helsinki:20230416T130000
DTSTAMP:20260424T155517
CREATED:20230118T065743Z
LAST-MODIFIED:20230118T065743Z
UID:7666-1681639200-1681650000@www.evankeliset.net
SUMMARY:Hyvinkää\, Elyn kirkkopyhä
DESCRIPTION:
URL:https://www.evankeliset.net/tapahtuma/hyvinkaa-elyn-kirkkopyha-5/
END:VEVENT
BEGIN:VEVENT
DTSTART;TZID=Europe/Helsinki:20230416T100000
DTEND;TZID=Europe/Helsinki:20230416T150000
DTSTAMP:20260424T155517
CREATED:20230114T112657Z
LAST-MODIFIED:20230403T094704Z
UID:7648-1681639200-1681657200@www.evankeliset.net
SUMMARY:Ikaalinen\, Sansan ja Elyn lähetyspyhä
DESCRIPTION:
URL:https://www.evankeliset.net/tapahtuma/ikaalinen-elyn-ja-sansan-kirkkopyha/
END:VEVENT
BEGIN:VEVENT
DTSTART;TZID=Europe/Helsinki:20230416T100000
DTEND;TZID=Europe/Helsinki:20230416T150000
DTSTAMP:20260424T155517
CREATED:20230114T112852Z
LAST-MODIFIED:20230412T085434Z
UID:7650-1681639200-1681657200@www.evankeliset.net
SUMMARY:Jalasjärvi\, messu ja seurat
DESCRIPTION:
URL:https://www.evankeliset.net/tapahtuma/jalasjarvi-messu-ja-seurat/
END:VEVENT
BEGIN:VEVENT
DTSTART;TZID=Europe/Helsinki:20230416T110000
DTEND;TZID=Europe/Helsinki:20230416T200000
DTSTAMP:20260424T155518
CREATED:20230118T065934Z
LAST-MODIFIED:20230405T084356Z
UID:7668-1681642800-1681675200@www.evankeliset.net
SUMMARY:Äkäslompolo\, Messu ja Iltakirkko
DESCRIPTION:
URL:https://www.evankeliset.net/tapahtuma/akaslompolo-iltakirkko/
END:VEVENT
BEGIN:VEVENT
DTSTART;TZID=Europe/Helsinki:20230416T120000
DTEND;TZID=Europe/Helsinki:20230416T140000
DTSTAMP:20260424T155518
CREATED:20230109T120112Z
LAST-MODIFIED:20230109T120333Z
UID:7547-1681646400-1681653600@www.evankeliset.net
SUMMARY:Helsinki\, Elyn kirkkopyhä
DESCRIPTION:
URL:https://www.evankeliset.net/tapahtuma/helsinki-elyn-kirkkopyha-2/
END:VEVENT
END:VCALENDAR