BEGIN:VCALENDAR
VERSION:2.0
PRODID:-//Evankelinen lähetysyhdistys ELY ry - ECPv6.15.18//NONSGML v1.0//EN
CALSCALE:GREGORIAN
METHOD:PUBLISH
X-ORIGINAL-URL:https://www.evankeliset.net
X-WR-CALDESC:Tapahtumat Evankelinen lähetysyhdistys ELY ry
REFRESH-INTERVAL;VALUE=DURATION:PT1H
X-Robots-Tag:noindex
X-PUBLISHED-TTL:PT1H
BEGIN:VTIMEZONE
TZID:Europe/Helsinki
BEGIN:DAYLIGHT
TZOFFSETFROM:+0200
TZOFFSETTO:+0300
TZNAME:EEST
DTSTART:20220327T010000
END:DAYLIGHT
BEGIN:STANDARD
TZOFFSETFROM:+0300
TZOFFSETTO:+0200
TZNAME:EET
DTSTART:20221030T010000
END:STANDARD
BEGIN:DAYLIGHT
TZOFFSETFROM:+0200
TZOFFSETTO:+0300
TZNAME:EEST
DTSTART:20230326T010000
END:DAYLIGHT
BEGIN:STANDARD
TZOFFSETFROM:+0300
TZOFFSETTO:+0200
TZNAME:EET
DTSTART:20231029T010000
END:STANDARD
BEGIN:DAYLIGHT
TZOFFSETFROM:+0200
TZOFFSETTO:+0300
TZNAME:EEST
DTSTART:20240331T010000
END:DAYLIGHT
BEGIN:STANDARD
TZOFFSETFROM:+0300
TZOFFSETTO:+0200
TZNAME:EET
DTSTART:20241027T010000
END:STANDARD
END:VTIMEZONE
BEGIN:VEVENT
DTSTART;TZID=Europe/Helsinki:20230420T120000
DTEND;TZID=Europe/Helsinki:20230420T140000
DTSTAMP:20260424T155526
CREATED:20230312T151644Z
LAST-MODIFIED:20230312T151644Z
UID:7828-1681992000-1681999200@www.evankeliset.net
SUMMARY:Kokkola\, lauluhetki
DESCRIPTION:
URL:https://www.evankeliset.net/tapahtuma/kokkola-lauluhetki/
END:VEVENT
BEGIN:VEVENT
DTSTART;TZID=Europe/Helsinki:20230420T173000
DTEND;TZID=Europe/Helsinki:20230420T190000
DTSTAMP:20260424T155526
CREATED:20221109T125037Z
LAST-MODIFIED:20230123T123619Z
UID:7324-1682011800-1682017200@www.evankeliset.net
SUMMARY:Tampere\, Kahvia\, Sanaa ja Siionin kannelta
DESCRIPTION:
URL:https://www.evankeliset.net/tapahtuma/tampere-seurat/
END:VEVENT
BEGIN:VEVENT
DTSTART;TZID=Europe/Helsinki:20230420T190000
DTEND;TZID=Europe/Helsinki:20230420T203000
DTSTAMP:20260424T155526
CREATED:20230118T070112Z
LAST-MODIFIED:20230118T070112Z
UID:7670-1682017200-1682022600@www.evankeliset.net
SUMMARY:Äkäslompolo\, Messu
DESCRIPTION:
URL:https://www.evankeliset.net/tapahtuma/akaslompolo-messu/
END:VEVENT
END:VCALENDAR