BEGIN:VCALENDAR
VERSION:2.0
PRODID:-//Evankelinen lähetysyhdistys ELY ry - ECPv6.15.18//NONSGML v1.0//EN
CALSCALE:GREGORIAN
METHOD:PUBLISH
X-WR-CALNAME:Evankelinen lähetysyhdistys ELY ry
X-ORIGINAL-URL:https://www.evankeliset.net
X-WR-CALDESC:Tapahtumat Evankelinen lähetysyhdistys ELY ry
REFRESH-INTERVAL;VALUE=DURATION:PT1H
X-Robots-Tag:noindex
X-PUBLISHED-TTL:PT1H
BEGIN:VTIMEZONE
TZID:Europe/Helsinki
BEGIN:DAYLIGHT
TZOFFSETFROM:+0200
TZOFFSETTO:+0300
TZNAME:EEST
DTSTART:20220327T010000
END:DAYLIGHT
BEGIN:STANDARD
TZOFFSETFROM:+0300
TZOFFSETTO:+0200
TZNAME:EET
DTSTART:20221030T010000
END:STANDARD
BEGIN:DAYLIGHT
TZOFFSETFROM:+0200
TZOFFSETTO:+0300
TZNAME:EEST
DTSTART:20230326T010000
END:DAYLIGHT
BEGIN:STANDARD
TZOFFSETFROM:+0300
TZOFFSETTO:+0200
TZNAME:EET
DTSTART:20231029T010000
END:STANDARD
BEGIN:DAYLIGHT
TZOFFSETFROM:+0200
TZOFFSETTO:+0300
TZNAME:EEST
DTSTART:20240331T010000
END:DAYLIGHT
BEGIN:STANDARD
TZOFFSETFROM:+0300
TZOFFSETTO:+0200
TZNAME:EET
DTSTART:20241027T010000
END:STANDARD
END:VTIMEZONE
BEGIN:VEVENT
DTSTART;TZID=Europe/Helsinki:20230427T083000
DTEND;TZID=Europe/Helsinki:20230427T093000
DTSTAMP:20260424T155517
CREATED:20230125T112418Z
LAST-MODIFIED:20230125T112418Z
UID:7714-1682584200-1682587800@www.evankeliset.net
SUMMARY:Forssa\, Miesten aamiainen
DESCRIPTION:
URL:https://www.evankeliset.net/tapahtuma/forssa-miesten-aamiainen/
END:VEVENT
BEGIN:VEVENT
DTSTART;TZID=Europe/Helsinki:20230427T130000
DTEND;TZID=Europe/Helsinki:20230427T143000
DTSTAMP:20260424T155517
CREATED:20221125T105751Z
LAST-MODIFIED:20221125T105751Z
UID:7442-1682600400-1682605800@www.evankeliset.net
SUMMARY:Alavus\, Hyvässä seurassa
DESCRIPTION:
URL:https://www.evankeliset.net/tapahtuma/alavus-hyvassa-seurassa-25/
END:VEVENT
BEGIN:VEVENT
DTSTART;TZID=Europe/Helsinki:20230427T180000
DTEND;TZID=Europe/Helsinki:20230427T200000
DTSTAMP:20260424T155517
CREATED:20230425T043102Z
LAST-MODIFIED:20230425T043102Z
UID:7994-1682618400-1682625600@www.evankeliset.net
SUMMARY:Salo\, Seurakuntailta
DESCRIPTION:
URL:https://www.evankeliset.net/tapahtuma/salo-seurakuntailta/
END:VEVENT
END:VCALENDAR