BEGIN:VCALENDAR
VERSION:2.0
PRODID:-//Evankelinen lähetysyhdistys ELY ry - ECPv6.15.18//NONSGML v1.0//EN
CALSCALE:GREGORIAN
METHOD:PUBLISH
X-ORIGINAL-URL:https://www.evankeliset.net
X-WR-CALDESC:Tapahtumat Evankelinen lähetysyhdistys ELY ry
REFRESH-INTERVAL;VALUE=DURATION:PT1H
X-Robots-Tag:noindex
X-PUBLISHED-TTL:PT1H
BEGIN:VTIMEZONE
TZID:Europe/Helsinki
BEGIN:DAYLIGHT
TZOFFSETFROM:+0200
TZOFFSETTO:+0300
TZNAME:EEST
DTSTART:20220327T010000
END:DAYLIGHT
BEGIN:STANDARD
TZOFFSETFROM:+0300
TZOFFSETTO:+0200
TZNAME:EET
DTSTART:20221030T010000
END:STANDARD
BEGIN:DAYLIGHT
TZOFFSETFROM:+0200
TZOFFSETTO:+0300
TZNAME:EEST
DTSTART:20230326T010000
END:DAYLIGHT
BEGIN:STANDARD
TZOFFSETFROM:+0300
TZOFFSETTO:+0200
TZNAME:EET
DTSTART:20231029T010000
END:STANDARD
BEGIN:DAYLIGHT
TZOFFSETFROM:+0200
TZOFFSETTO:+0300
TZNAME:EEST
DTSTART:20240331T010000
END:DAYLIGHT
BEGIN:STANDARD
TZOFFSETFROM:+0300
TZOFFSETTO:+0200
TZNAME:EET
DTSTART:20241027T010000
END:STANDARD
END:VTIMEZONE
BEGIN:VEVENT
DTSTART;TZID=Europe/Helsinki:20230430T100000
DTEND;TZID=Europe/Helsinki:20230430T120000
DTSTAMP:20260424T155527
CREATED:20230114T113132Z
LAST-MODIFIED:20230313T064035Z
UID:7652-1682848800-1682856000@www.evankeliset.net
SUMMARY:Kaustinen\, Elyn kirkkopyhä
DESCRIPTION:
URL:https://www.evankeliset.net/tapahtuma/kaustinen-messu-ja-seurat/
END:VEVENT
BEGIN:VEVENT
DTSTART;TZID=Europe/Helsinki:20230430T100000
DTEND;TZID=Europe/Helsinki:20230430T140000
DTSTAMP:20260424T155527
CREATED:20230102T075233Z
LAST-MODIFIED:20230126T065503Z
UID:7517-1682848800-1682863200@www.evankeliset.net
SUMMARY:Nurmo\, kirkkopyhä
DESCRIPTION:
URL:https://www.evankeliset.net/tapahtuma/nurmo-kirkkopyha-2/
END:VEVENT
BEGIN:VEVENT
DTSTART;TZID=Europe/Helsinki:20230430T140000
DTEND;TZID=Europe/Helsinki:20230430T153000
DTSTAMP:20260424T155527
CREATED:20221116T110406Z
LAST-MODIFIED:20230412T043639Z
UID:7344-1682863200-1682868600@www.evankeliset.net
SUMMARY:Hämeenlinna\, Ilolauluja Siionin kanteleesta
DESCRIPTION:
URL:https://www.evankeliset.net/tapahtuma/hameenlinna-ilolauluja-siionin-kanteleesta/
END:VEVENT
BEGIN:VEVENT
DTSTART;TZID=Europe/Helsinki:20230430T140000
DTEND;TZID=Europe/Helsinki:20230430T170000
DTSTAMP:20260424T155527
CREATED:20230130T080146Z
LAST-MODIFIED:20230130T080146Z
UID:7731-1682863200-1682874000@www.evankeliset.net
SUMMARY:Lapua\, vappumyyjäiset ja seurat
DESCRIPTION:
URL:https://www.evankeliset.net/tapahtuma/lapua-vappumyyjaiset-ja-seurat-3/
END:VEVENT
END:VCALENDAR