BEGIN:VCALENDAR
VERSION:2.0
PRODID:-//Evankelinen lähetysyhdistys ELY ry - ECPv6.15.18//NONSGML v1.0//EN
CALSCALE:GREGORIAN
METHOD:PUBLISH
X-ORIGINAL-URL:https://www.evankeliset.net
X-WR-CALDESC:Tapahtumat Evankelinen lähetysyhdistys ELY ry
REFRESH-INTERVAL;VALUE=DURATION:PT1H
X-Robots-Tag:noindex
X-PUBLISHED-TTL:PT1H
BEGIN:VTIMEZONE
TZID:Europe/Helsinki
BEGIN:DAYLIGHT
TZOFFSETFROM:+0200
TZOFFSETTO:+0300
TZNAME:EEST
DTSTART:20220327T010000
END:DAYLIGHT
BEGIN:STANDARD
TZOFFSETFROM:+0300
TZOFFSETTO:+0200
TZNAME:EET
DTSTART:20221030T010000
END:STANDARD
BEGIN:DAYLIGHT
TZOFFSETFROM:+0200
TZOFFSETTO:+0300
TZNAME:EEST
DTSTART:20230326T010000
END:DAYLIGHT
BEGIN:STANDARD
TZOFFSETFROM:+0300
TZOFFSETTO:+0200
TZNAME:EET
DTSTART:20231029T010000
END:STANDARD
BEGIN:DAYLIGHT
TZOFFSETFROM:+0200
TZOFFSETTO:+0300
TZNAME:EEST
DTSTART:20240331T010000
END:DAYLIGHT
BEGIN:STANDARD
TZOFFSETFROM:+0300
TZOFFSETTO:+0200
TZNAME:EET
DTSTART:20241027T010000
END:STANDARD
END:VTIMEZONE
BEGIN:VEVENT
DTSTART;TZID=Europe/Helsinki:20231126T100000
DTEND;TZID=Europe/Helsinki:20231126T130000
DTSTAMP:20260424T013455
CREATED:20230815T054134Z
LAST-MODIFIED:20230815T054134Z
UID:8225-1700992800-1701003600@www.evankeliset.net
SUMMARY:Rautavaara\, Jumalanpalvelus ja lähetystilaisuus
DESCRIPTION:
URL:https://www.evankeliset.net/tapahtuma/rautavaara-jumalanpalvelus-ja-lahetystilaisuus/
END:VEVENT
BEGIN:VEVENT
DTSTART;TZID=Europe/Helsinki:20231126T113000
DTEND;TZID=Europe/Helsinki:20231126T130000
DTSTAMP:20260424T013455
CREATED:20231110T094325Z
LAST-MODIFIED:20231110T094325Z
UID:8493-1700998200-1701003600@www.evankeliset.net
SUMMARY:Espoo Tapiola\, lähetystilaisuus
DESCRIPTION:
URL:https://www.evankeliset.net/tapahtuma/espoo-tapiola-lahetystilaisuus/
END:VEVENT
BEGIN:VEVENT
DTSTART;TZID=Europe/Helsinki:20231126T140000
DTEND;TZID=Europe/Helsinki:20231126T160000
DTSTAMP:20260424T013455
CREATED:20230524T101944Z
LAST-MODIFIED:20231011T044738Z
UID:8057-1701007200-1701014400@www.evankeliset.net
SUMMARY:Seinäjoki\, Siionin kannel seurat
DESCRIPTION:
URL:https://www.evankeliset.net/tapahtuma/seinajoki-siionin-kannel-seurat-13/
END:VEVENT
END:VCALENDAR