BEGIN:VCALENDAR
VERSION:2.0
PRODID:-//Evankelinen lähetysyhdistys ELY ry - ECPv6.15.18//NONSGML v1.0//EN
CALSCALE:GREGORIAN
METHOD:PUBLISH
X-ORIGINAL-URL:https://www.evankeliset.net
X-WR-CALDESC:Tapahtumat Evankelinen lähetysyhdistys ELY ry
REFRESH-INTERVAL;VALUE=DURATION:PT1H
X-Robots-Tag:noindex
X-PUBLISHED-TTL:PT1H
BEGIN:VTIMEZONE
TZID:Europe/Helsinki
BEGIN:DAYLIGHT
TZOFFSETFROM:+0200
TZOFFSETTO:+0300
TZNAME:EEST
DTSTART:20220327T010000
END:DAYLIGHT
BEGIN:STANDARD
TZOFFSETFROM:+0300
TZOFFSETTO:+0200
TZNAME:EET
DTSTART:20221030T010000
END:STANDARD
BEGIN:DAYLIGHT
TZOFFSETFROM:+0200
TZOFFSETTO:+0300
TZNAME:EEST
DTSTART:20230326T010000
END:DAYLIGHT
BEGIN:STANDARD
TZOFFSETFROM:+0300
TZOFFSETTO:+0200
TZNAME:EET
DTSTART:20231029T010000
END:STANDARD
BEGIN:DAYLIGHT
TZOFFSETFROM:+0200
TZOFFSETTO:+0300
TZNAME:EEST
DTSTART:20240331T010000
END:DAYLIGHT
BEGIN:STANDARD
TZOFFSETFROM:+0300
TZOFFSETTO:+0200
TZNAME:EET
DTSTART:20241027T010000
END:STANDARD
END:VTIMEZONE
BEGIN:VEVENT
DTSTART;TZID=Europe/Helsinki:20231210T100000
DTEND;TZID=Europe/Helsinki:20231210T120000
DTSTAMP:20260424T031450
CREATED:20230904T063315Z
LAST-MODIFIED:20231003T064607Z
UID:8308-1702202400-1702209600@www.evankeliset.net
SUMMARY:Salo\, Messu ja lähetystyöhön siunaaminen
DESCRIPTION:
URL:https://www.evankeliset.net/tapahtuma/salo-messu-ja-lahetystyohon-siunaaminen/
END:VEVENT
BEGIN:VEVENT
DTSTART;TZID=Europe/Helsinki:20231210T113000
DTEND;TZID=Europe/Helsinki:20231210T140000
DTSTAMP:20260424T031450
CREATED:20230524T102157Z
LAST-MODIFIED:20231122T101044Z
UID:8059-1702207800-1702216800@www.evankeliset.net
SUMMARY:Seinäjoki\, Maakunnallinen joulujuhla
DESCRIPTION:
URL:https://www.evankeliset.net/tapahtuma/seinajoki-maakunnallinen-joulujuhla-4/
END:VEVENT
END:VCALENDAR