BEGIN:VCALENDAR
VERSION:2.0
PRODID:-//Evankelinen lähetysyhdistys ELY ry - ECPv6.15.18//NONSGML v1.0//EN
CALSCALE:GREGORIAN
METHOD:PUBLISH
X-ORIGINAL-URL:https://www.evankeliset.net
X-WR-CALDESC:Tapahtumat Evankelinen lähetysyhdistys ELY ry
REFRESH-INTERVAL;VALUE=DURATION:PT1H
X-Robots-Tag:noindex
X-PUBLISHED-TTL:PT1H
BEGIN:VTIMEZONE
TZID:Europe/Helsinki
BEGIN:DAYLIGHT
TZOFFSETFROM:+0200
TZOFFSETTO:+0300
TZNAME:EEST
DTSTART:20230326T010000
END:DAYLIGHT
BEGIN:STANDARD
TZOFFSETFROM:+0300
TZOFFSETTO:+0200
TZNAME:EET
DTSTART:20231029T010000
END:STANDARD
BEGIN:DAYLIGHT
TZOFFSETFROM:+0200
TZOFFSETTO:+0300
TZNAME:EEST
DTSTART:20240331T010000
END:DAYLIGHT
BEGIN:STANDARD
TZOFFSETFROM:+0300
TZOFFSETTO:+0200
TZNAME:EET
DTSTART:20241027T010000
END:STANDARD
BEGIN:DAYLIGHT
TZOFFSETFROM:+0200
TZOFFSETTO:+0300
TZNAME:EEST
DTSTART:20250330T010000
END:DAYLIGHT
BEGIN:STANDARD
TZOFFSETFROM:+0300
TZOFFSETTO:+0200
TZNAME:EET
DTSTART:20251026T010000
END:STANDARD
END:VTIMEZONE
BEGIN:VEVENT
DTSTART;TZID=Europe/Helsinki:20240321T080000
DTEND;TZID=Europe/Helsinki:20240321T170000
DTSTAMP:20260423T223150
CREATED:20240212T070505Z
LAST-MODIFIED:20240212T070505Z
UID:8966-1711008000-1711040400@www.evankeliset.net
SUMMARY:Taipale\, lähetyspiiri
DESCRIPTION:
URL:https://www.evankeliset.net/tapahtuma/taipale-lahetyspiiri/
END:VEVENT
BEGIN:VEVENT
DTSTART;TZID=Europe/Helsinki:20240321T123000
DTEND;TZID=Europe/Helsinki:20240321T143000
DTSTAMP:20260423T223150
CREATED:20231102T113455Z
LAST-MODIFIED:20240311T081855Z
UID:8458-1711024200-1711031400@www.evankeliset.net
SUMMARY:Alavus\, Hyvässä seurassa
DESCRIPTION:
URL:https://www.evankeliset.net/tapahtuma/alavus-hyvassa-seurassa-31/
END:VEVENT
BEGIN:VEVENT
DTSTART;TZID=Europe/Helsinki:20240321T173000
DTEND;TZID=Europe/Helsinki:20240321T193000
DTSTAMP:20260423T223150
CREATED:20240108T082623Z
LAST-MODIFIED:20240304T081954Z
UID:8701-1711042200-1711049400@www.evankeliset.net
SUMMARY:Tampere\, Kahvia\, sanaa ja Siionin kanteleen toivelauluja
DESCRIPTION:
URL:https://www.evankeliset.net/tapahtuma/tampere-kaukajarvi-siionin-kannel-seurat-3/
END:VEVENT
END:VCALENDAR