BEGIN:VCALENDAR
VERSION:2.0
PRODID:-//Evankelinen lähetysyhdistys ELY ry - ECPv6.15.18//NONSGML v1.0//EN
CALSCALE:GREGORIAN
METHOD:PUBLISH
X-WR-CALNAME:Evankelinen lähetysyhdistys ELY ry
X-ORIGINAL-URL:https://www.evankeliset.net
X-WR-CALDESC:Tapahtumat Evankelinen lähetysyhdistys ELY ry
REFRESH-INTERVAL;VALUE=DURATION:PT1H
X-Robots-Tag:noindex
X-PUBLISHED-TTL:PT1H
BEGIN:VTIMEZONE
TZID:Europe/Helsinki
BEGIN:DAYLIGHT
TZOFFSETFROM:+0200
TZOFFSETTO:+0300
TZNAME:EEST
DTSTART:20230326T010000
END:DAYLIGHT
BEGIN:STANDARD
TZOFFSETFROM:+0300
TZOFFSETTO:+0200
TZNAME:EET
DTSTART:20231029T010000
END:STANDARD
BEGIN:DAYLIGHT
TZOFFSETFROM:+0200
TZOFFSETTO:+0300
TZNAME:EEST
DTSTART:20240331T010000
END:DAYLIGHT
BEGIN:STANDARD
TZOFFSETFROM:+0300
TZOFFSETTO:+0200
TZNAME:EET
DTSTART:20241027T010000
END:STANDARD
BEGIN:DAYLIGHT
TZOFFSETFROM:+0200
TZOFFSETTO:+0300
TZNAME:EEST
DTSTART:20250330T010000
END:DAYLIGHT
BEGIN:STANDARD
TZOFFSETFROM:+0300
TZOFFSETTO:+0200
TZNAME:EET
DTSTART:20251026T010000
END:STANDARD
END:VTIMEZONE
BEGIN:VEVENT
DTSTART;TZID=Europe/Helsinki:20240428T140000
DTEND;TZID=Europe/Helsinki:20240428T160000
DTSTAMP:20260423T204503
CREATED:20231122T104027Z
LAST-MODIFIED:20231218T093501Z
UID:8593-1714312800-1714320000@www.evankeliset.net
SUMMARY:Seinäjoki\, Rakkain Kanteleen lauluni
DESCRIPTION:
URL:https://www.evankeliset.net/tapahtuma/seinajoki-rakkain-kanteleen-lauluni/
END:VEVENT
BEGIN:VEVENT
DTSTART;TZID=Europe/Helsinki:20240428T140000
DTEND;TZID=Europe/Helsinki:20240428T160000
DTSTAMP:20260423T204503
CREATED:20240311T131030Z
LAST-MODIFIED:20240311T131030Z
UID:9047-1714312800-1714320000@www.evankeliset.net
SUMMARY:Espoo\, Nojatuolimessu
DESCRIPTION:
URL:https://www.evankeliset.net/tapahtuma/espoo-nojatuolimessu/
END:VEVENT
END:VCALENDAR