BEGIN:VCALENDAR
VERSION:2.0
PRODID:-//Evankelinen lähetysyhdistys ELY ry - ECPv6.15.18//NONSGML v1.0//EN
CALSCALE:GREGORIAN
METHOD:PUBLISH
X-WR-CALNAME:Evankelinen lähetysyhdistys ELY ry
X-ORIGINAL-URL:https://www.evankeliset.net
X-WR-CALDESC:Tapahtumat Evankelinen lähetysyhdistys ELY ry
REFRESH-INTERVAL;VALUE=DURATION:PT1H
X-Robots-Tag:noindex
X-PUBLISHED-TTL:PT1H
BEGIN:VTIMEZONE
TZID:Europe/Helsinki
BEGIN:DAYLIGHT
TZOFFSETFROM:+0200
TZOFFSETTO:+0300
TZNAME:EEST
DTSTART:20230326T010000
END:DAYLIGHT
BEGIN:STANDARD
TZOFFSETFROM:+0300
TZOFFSETTO:+0200
TZNAME:EET
DTSTART:20231029T010000
END:STANDARD
BEGIN:DAYLIGHT
TZOFFSETFROM:+0200
TZOFFSETTO:+0300
TZNAME:EEST
DTSTART:20240331T010000
END:DAYLIGHT
BEGIN:STANDARD
TZOFFSETFROM:+0300
TZOFFSETTO:+0200
TZNAME:EET
DTSTART:20241027T010000
END:STANDARD
BEGIN:DAYLIGHT
TZOFFSETFROM:+0200
TZOFFSETTO:+0300
TZNAME:EEST
DTSTART:20250330T010000
END:DAYLIGHT
BEGIN:STANDARD
TZOFFSETFROM:+0300
TZOFFSETTO:+0200
TZNAME:EET
DTSTART:20251026T010000
END:STANDARD
END:VTIMEZONE
BEGIN:VEVENT
DTSTART;TZID=Europe/Helsinki:20240830T080000
DTEND;TZID=Europe/Helsinki:20240901T170000
DTSTAMP:20260423T141741
CREATED:20231113T164357Z
LAST-MODIFIED:20231113T164357Z
UID:8513-1725004800-1725210000@www.evankeliset.net
SUMMARY:Oulun hiippakunnan lähetysjuhla
DESCRIPTION:
URL:https://www.evankeliset.net/tapahtuma/oulun-hiippakunnan-lahetysjuhla/
END:VEVENT
BEGIN:VEVENT
DTSTART;VALUE=DATE:20240831
DTEND;VALUE=DATE:20240901
DTSTAMP:20260423T141741
CREATED:20240829T073314Z
LAST-MODIFIED:20240829T073433Z
UID:9683-1725062400-1725148799@www.evankeliset.net
SUMMARY:Tampere\, Kirkon mission päivä 2024
DESCRIPTION:
URL:https://www.evankeliset.net/tapahtuma/tampere-kirkon-mission-paiva-2024/
END:VEVENT
BEGIN:VEVENT
DTSTART;VALUE=DATE:20240831
DTEND;VALUE=DATE:20240902
DTSTAMP:20260423T141741
CREATED:20240829T070126Z
LAST-MODIFIED:20240829T074313Z
UID:9678-1725062400-1725235199@www.evankeliset.net
SUMMARY:Iisalmi\, Kuopion hiippakunnan lähetysjuhla
DESCRIPTION:
URL:https://www.evankeliset.net/tapahtuma/iisalmi-kuopion-hiippakunnan-lahetysjuhla/
END:VEVENT
BEGIN:VEVENT
DTSTART;TZID=Europe/Helsinki:20240831T090000
DTEND;TZID=Europe/Helsinki:20240831T160000
DTSTAMP:20260423T141741
CREATED:20240829T070345Z
LAST-MODIFIED:20240829T074952Z
UID:9680-1725094800-1725120000@www.evankeliset.net
SUMMARY:Kouvola\, Mikkelin hiippakunnan lähetysjuhla
DESCRIPTION:
URL:https://www.evankeliset.net/tapahtuma/kouvola-mikkelin-hiippakunnan-lahetysjuhla/
END:VEVENT
BEGIN:VEVENT
DTSTART;TZID=Europe/Helsinki:20240831T100000
DTEND;TZID=Europe/Helsinki:20240831T190000
DTSTAMP:20260423T141741
CREATED:20240110T092334Z
LAST-MODIFIED:20240523T050235Z
UID:8769-1725098400-1725130800@www.evankeliset.net
SUMMARY:Seinäjoki\, Hiippakunnan lähetysjuhla
DESCRIPTION:
URL:https://www.evankeliset.net/tapahtuma/seinajoki-hiippakunnan-lahetysjuhla/
END:VEVENT
END:VCALENDAR