BEGIN:VCALENDAR
VERSION:2.0
PRODID:-//Evankelinen lähetysyhdistys ELY ry - ECPv6.15.18//NONSGML v1.0//EN
CALSCALE:GREGORIAN
METHOD:PUBLISH
X-WR-CALNAME:Evankelinen lähetysyhdistys ELY ry
X-ORIGINAL-URL:https://www.evankeliset.net
X-WR-CALDESC:Tapahtumat Evankelinen lähetysyhdistys ELY ry
REFRESH-INTERVAL;VALUE=DURATION:PT1H
X-Robots-Tag:noindex
X-PUBLISHED-TTL:PT1H
BEGIN:VTIMEZONE
TZID:Europe/Helsinki
BEGIN:DAYLIGHT
TZOFFSETFROM:+0200
TZOFFSETTO:+0300
TZNAME:EEST
DTSTART:20230326T010000
END:DAYLIGHT
BEGIN:STANDARD
TZOFFSETFROM:+0300
TZOFFSETTO:+0200
TZNAME:EET
DTSTART:20231029T010000
END:STANDARD
BEGIN:DAYLIGHT
TZOFFSETFROM:+0200
TZOFFSETTO:+0300
TZNAME:EEST
DTSTART:20240331T010000
END:DAYLIGHT
BEGIN:STANDARD
TZOFFSETFROM:+0300
TZOFFSETTO:+0200
TZNAME:EET
DTSTART:20241027T010000
END:STANDARD
BEGIN:DAYLIGHT
TZOFFSETFROM:+0200
TZOFFSETTO:+0300
TZNAME:EEST
DTSTART:20250330T010000
END:DAYLIGHT
BEGIN:STANDARD
TZOFFSETFROM:+0300
TZOFFSETTO:+0200
TZNAME:EET
DTSTART:20251026T010000
END:STANDARD
END:VTIMEZONE
BEGIN:VEVENT
DTSTART;TZID=Europe/Helsinki:20241002T140000
DTEND;TZID=Europe/Helsinki:20241002T160000
DTSTAMP:20260423T130825
CREATED:20240808T111108Z
LAST-MODIFIED:20240913T081321Z
UID:9499-1727877600-1727884800@www.evankeliset.net
SUMMARY:Lähetyspiiri\, Järvenpää
DESCRIPTION:
URL:https://www.evankeliset.net/tapahtuma/lahetyspiiri-jarvenpaa/
END:VEVENT
BEGIN:VEVENT
DTSTART;TZID=Europe/Helsinki:20241002T180000
DTEND;TZID=Europe/Helsinki:20241002T180000
DTSTAMP:20260423T130825
CREATED:20240424T104016Z
LAST-MODIFIED:20240925T073226Z
UID:9159-1727892000-1727892000@www.evankeliset.net
SUMMARY:Nurmo\, Siionin kannel seurat
DESCRIPTION:
URL:https://www.evankeliset.net/tapahtuma/nurmo-siionin-kannel-seurat-3/
END:VEVENT
BEGIN:VEVENT
DTSTART;TZID=Europe/Helsinki:20241002T190000
DTEND;TZID=Europe/Helsinki:20241002T210000
DTSTAMP:20260423T130825
CREATED:20240808T111323Z
LAST-MODIFIED:20240808T111323Z
UID:9501-1727895600-1727902800@www.evankeliset.net
SUMMARY:Helsinki\, Lauttasaari\, Seurat
DESCRIPTION:
URL:https://www.evankeliset.net/tapahtuma/helsinki-lauttasaari-seurat/
END:VEVENT
END:VCALENDAR