BEGIN:VCALENDAR
VERSION:2.0
PRODID:-//Evankelinen lähetysyhdistys ELY ry - ECPv6.15.18//NONSGML v1.0//EN
CALSCALE:GREGORIAN
METHOD:PUBLISH
X-ORIGINAL-URL:https://www.evankeliset.net
X-WR-CALDESC:Tapahtumat Evankelinen lähetysyhdistys ELY ry
REFRESH-INTERVAL;VALUE=DURATION:PT1H
X-Robots-Tag:noindex
X-PUBLISHED-TTL:PT1H
BEGIN:VTIMEZONE
TZID:Europe/Helsinki
BEGIN:DAYLIGHT
TZOFFSETFROM:+0200
TZOFFSETTO:+0300
TZNAME:EEST
DTSTART:20230326T010000
END:DAYLIGHT
BEGIN:STANDARD
TZOFFSETFROM:+0300
TZOFFSETTO:+0200
TZNAME:EET
DTSTART:20231029T010000
END:STANDARD
BEGIN:DAYLIGHT
TZOFFSETFROM:+0200
TZOFFSETTO:+0300
TZNAME:EEST
DTSTART:20240331T010000
END:DAYLIGHT
BEGIN:STANDARD
TZOFFSETFROM:+0300
TZOFFSETTO:+0200
TZNAME:EET
DTSTART:20241027T010000
END:STANDARD
BEGIN:DAYLIGHT
TZOFFSETFROM:+0200
TZOFFSETTO:+0300
TZNAME:EEST
DTSTART:20250330T010000
END:DAYLIGHT
BEGIN:STANDARD
TZOFFSETFROM:+0300
TZOFFSETTO:+0200
TZNAME:EET
DTSTART:20251026T010000
END:STANDARD
END:VTIMEZONE
BEGIN:VEVENT
DTSTART;TZID=Europe/Helsinki:20241013T100000
DTEND;TZID=Europe/Helsinki:20241013T120000
DTSTAMP:20260423T130134
CREATED:20240110T090354Z
LAST-MODIFIED:20240805T093936Z
UID:8761-1728813600-1728820800@www.evankeliset.net
SUMMARY:Evijärvi\, Elyn kirkkopyhä
DESCRIPTION:
URL:https://www.evankeliset.net/tapahtuma/evijarvi-elyn-kirkkopyha-4/
END:VEVENT
BEGIN:VEVENT
DTSTART;TZID=Europe/Helsinki:20241013T100000
DTEND;TZID=Europe/Helsinki:20241013T120000
DTSTAMP:20260423T130134
CREATED:20241003T104229Z
LAST-MODIFIED:20241003T104229Z
UID:9864-1728813600-1728820800@www.evankeliset.net
SUMMARY:Kaustinen\, Messu
DESCRIPTION:
URL:https://www.evankeliset.net/tapahtuma/kaustinen-messu/
END:VEVENT
BEGIN:VEVENT
DTSTART;TZID=Europe/Helsinki:20241013T100000
DTEND;TZID=Europe/Helsinki:20241013T130000
DTSTAMP:20260423T130134
CREATED:20240110T090557Z
LAST-MODIFIED:20240624T071612Z
UID:8763-1728813600-1728824400@www.evankeliset.net
SUMMARY:Teuva\, Elyn kirkkopyhä
DESCRIPTION:
URL:https://www.evankeliset.net/tapahtuma/teuva-elyn-kirkkopyha-5/
END:VEVENT
BEGIN:VEVENT
DTSTART;TZID=Europe/Helsinki:20241013T180000
DTEND;TZID=Europe/Helsinki:20241013T200000
DTSTAMP:20260423T130134
CREATED:20241003T104023Z
LAST-MODIFIED:20241003T104023Z
UID:9862-1728842400-1728849600@www.evankeliset.net
SUMMARY:Kokkola\, Kaarlela\, messu
DESCRIPTION:
URL:https://www.evankeliset.net/tapahtuma/kokkola-kaarlela-messu/
END:VEVENT
END:VCALENDAR