BEGIN:VCALENDAR
VERSION:2.0
PRODID:-//Evankelinen lähetysyhdistys ELY ry - ECPv6.15.18//NONSGML v1.0//EN
CALSCALE:GREGORIAN
METHOD:PUBLISH
X-ORIGINAL-URL:https://www.evankeliset.net
X-WR-CALDESC:Tapahtumat Evankelinen lähetysyhdistys ELY ry
REFRESH-INTERVAL;VALUE=DURATION:PT1H
X-Robots-Tag:noindex
X-PUBLISHED-TTL:PT1H
BEGIN:VTIMEZONE
TZID:Europe/Helsinki
BEGIN:DAYLIGHT
TZOFFSETFROM:+0200
TZOFFSETTO:+0300
TZNAME:EEST
DTSTART:20250330T010000
END:DAYLIGHT
BEGIN:STANDARD
TZOFFSETFROM:+0300
TZOFFSETTO:+0200
TZNAME:EET
DTSTART:20251026T010000
END:STANDARD
BEGIN:DAYLIGHT
TZOFFSETFROM:+0200
TZOFFSETTO:+0300
TZNAME:EEST
DTSTART:20260329T010000
END:DAYLIGHT
BEGIN:STANDARD
TZOFFSETFROM:+0300
TZOFFSETTO:+0200
TZNAME:EET
DTSTART:20261025T010000
END:STANDARD
BEGIN:DAYLIGHT
TZOFFSETFROM:+0200
TZOFFSETTO:+0300
TZNAME:EEST
DTSTART:20270328T010000
END:DAYLIGHT
BEGIN:STANDARD
TZOFFSETFROM:+0300
TZOFFSETTO:+0200
TZNAME:EET
DTSTART:20271031T010000
END:STANDARD
END:VTIMEZONE
BEGIN:VEVENT
DTSTART;TZID=Europe/Helsinki:20260204T140000
DTEND;TZID=Europe/Helsinki:20260204T160000
DTSTAMP:20260423T182922
CREATED:20251210T134558Z
LAST-MODIFIED:20251210T134558Z
UID:11737-1770213600-1770220800@www.evankeliset.net
SUMMARY:Järvenpää\, Lähetyspiiri
DESCRIPTION:
URL:https://www.evankeliset.net/tapahtuma/jarvenpaa-lahetyspiiri-21/
END:VEVENT
BEGIN:VEVENT
DTSTART;TZID=Europe/Helsinki:20260204T180000
DTEND;TZID=Europe/Helsinki:20260204T200000
DTSTAMP:20260423T182922
CREATED:20251219T083436Z
LAST-MODIFIED:20251219T083541Z
UID:11772-1770228000-1770235200@www.evankeliset.net
SUMMARY:Nurmo\, Siionin kannel seurat
DESCRIPTION:
URL:https://www.evankeliset.net/tapahtuma/nurmo-siionin-kannel-seurat-11/
END:VEVENT
END:VCALENDAR