BEGIN:VCALENDAR
VERSION:2.0
PRODID:-//Evankelinen lähetysyhdistys ELY ry - ECPv6.15.18//NONSGML v1.0//EN
CALSCALE:GREGORIAN
METHOD:PUBLISH
X-WR-CALNAME:Evankelinen lähetysyhdistys ELY ry
X-ORIGINAL-URL:https://www.evankeliset.net
X-WR-CALDESC:Tapahtumat Evankelinen lähetysyhdistys ELY ry
REFRESH-INTERVAL;VALUE=DURATION:PT1H
X-Robots-Tag:noindex
X-PUBLISHED-TTL:PT1H
BEGIN:VTIMEZONE
TZID:Europe/Helsinki
BEGIN:DAYLIGHT
TZOFFSETFROM:+0200
TZOFFSETTO:+0300
TZNAME:EEST
DTSTART:20250330T010000
END:DAYLIGHT
BEGIN:STANDARD
TZOFFSETFROM:+0300
TZOFFSETTO:+0200
TZNAME:EET
DTSTART:20251026T010000
END:STANDARD
BEGIN:DAYLIGHT
TZOFFSETFROM:+0200
TZOFFSETTO:+0300
TZNAME:EEST
DTSTART:20260329T010000
END:DAYLIGHT
BEGIN:STANDARD
TZOFFSETFROM:+0300
TZOFFSETTO:+0200
TZNAME:EET
DTSTART:20261025T010000
END:STANDARD
BEGIN:DAYLIGHT
TZOFFSETFROM:+0200
TZOFFSETTO:+0300
TZNAME:EEST
DTSTART:20270328T010000
END:DAYLIGHT
BEGIN:STANDARD
TZOFFSETFROM:+0300
TZOFFSETTO:+0200
TZNAME:EET
DTSTART:20271031T010000
END:STANDARD
END:VTIMEZONE
BEGIN:VEVENT
DTSTART;TZID=Europe/Helsinki:20260210T080000
DTEND;TZID=Europe/Helsinki:20260210T170000
DTSTAMP:20260424T181437
CREATED:20260114T095553Z
LAST-MODIFIED:20260114T095553Z
UID:11827-1770710400-1770742800@www.evankeliset.net
SUMMARY:Kokkola\, lähetyssoppi
DESCRIPTION:
URL:https://www.evankeliset.net/tapahtuma/kokkola-lahetyssoppi-66/
END:VEVENT
BEGIN:VEVENT
DTSTART;TZID=Europe/Helsinki:20260210T130000
DTEND;TZID=Europe/Helsinki:20260210T150000
DTSTAMP:20260424T181437
CREATED:20260127T104933Z
LAST-MODIFIED:20260127T104933Z
UID:11869-1770728400-1770735600@www.evankeliset.net
SUMMARY:Salo\, Päiväkahviseurat
DESCRIPTION:
URL:https://www.evankeliset.net/tapahtuma/salo-paivakahviseurat-12/
END:VEVENT
BEGIN:VEVENT
DTSTART;TZID=Europe/Helsinki:20260210T140000
DTEND;TZID=Europe/Helsinki:20260210T160000
DTSTAMP:20260424T181437
CREATED:20260108T135833Z
LAST-MODIFIED:20260108T135833Z
UID:11799-1770732000-1770739200@www.evankeliset.net
SUMMARY:Hyvinkää\, Armon ja ilon iltapäivä
DESCRIPTION:
URL:https://www.evankeliset.net/tapahtuma/hyvinkaa-armon-ja-ilon-iltapaiva-13/
END:VEVENT
BEGIN:VEVENT
DTSTART;TZID=Europe/Helsinki:20260210T140000
DTEND;TZID=Europe/Helsinki:20260210T160000
DTSTAMP:20260424T181437
CREATED:20260205T073756Z
LAST-MODIFIED:20260205T073756Z
UID:11955-1770732000-1770739200@www.evankeliset.net
SUMMARY:Hamina lähetyspiiri
DESCRIPTION:
URL:https://www.evankeliset.net/tapahtuma/hamina-lahetyspiiri-3/
END:VEVENT
BEGIN:VEVENT
DTSTART;TZID=Europe/Helsinki:20260210T180000
DTEND;TZID=Europe/Helsinki:20260210T200000
DTSTAMP:20260424T181437
CREATED:20260205T074348Z
LAST-MODIFIED:20260205T074348Z
UID:11957-1770746400-1770753600@www.evankeliset.net
SUMMARY:Kouvola\, Siionin kanteleen laulutilaisuus
DESCRIPTION:
URL:https://www.evankeliset.net/tapahtuma/kouvola-siionin-kanteleen-laulutilaisuus/
END:VEVENT
END:VCALENDAR