BEGIN:VCALENDAR
VERSION:2.0
PRODID:-//Evankelinen lähetysyhdistys ELY ry - ECPv6.15.18//NONSGML v1.0//EN
CALSCALE:GREGORIAN
METHOD:PUBLISH
X-ORIGINAL-URL:https://www.evankeliset.net
X-WR-CALDESC:Tapahtumat Evankelinen lähetysyhdistys ELY ry
REFRESH-INTERVAL;VALUE=DURATION:PT1H
X-Robots-Tag:noindex
X-PUBLISHED-TTL:PT1H
BEGIN:VTIMEZONE
TZID:Europe/Helsinki
BEGIN:DAYLIGHT
TZOFFSETFROM:+0200
TZOFFSETTO:+0300
TZNAME:EEST
DTSTART:20250330T010000
END:DAYLIGHT
BEGIN:STANDARD
TZOFFSETFROM:+0300
TZOFFSETTO:+0200
TZNAME:EET
DTSTART:20251026T010000
END:STANDARD
BEGIN:DAYLIGHT
TZOFFSETFROM:+0200
TZOFFSETTO:+0300
TZNAME:EEST
DTSTART:20260329T010000
END:DAYLIGHT
BEGIN:STANDARD
TZOFFSETFROM:+0300
TZOFFSETTO:+0200
TZNAME:EET
DTSTART:20261025T010000
END:STANDARD
BEGIN:DAYLIGHT
TZOFFSETFROM:+0200
TZOFFSETTO:+0300
TZNAME:EEST
DTSTART:20270328T010000
END:DAYLIGHT
BEGIN:STANDARD
TZOFFSETFROM:+0300
TZOFFSETTO:+0200
TZNAME:EET
DTSTART:20271031T010000
END:STANDARD
END:VTIMEZONE
BEGIN:VEVENT
DTSTART;TZID=Europe/Helsinki:20260927T100000
DTEND;TZID=Europe/Helsinki:20260927T120000
DTSTAMP:20260423T210541
CREATED:20260306T113530Z
LAST-MODIFIED:20260306T113530Z
UID:12078-1790503200-1790510400@www.evankeliset.net
SUMMARY:Polvijärvi messu ja lähetystilaisuus
DESCRIPTION:
URL:https://www.evankeliset.net/tapahtuma/polvijarvi-messu-ja-lahetystilaisuus/
END:VEVENT
BEGIN:VEVENT
DTSTART;TZID=Europe/Helsinki:20260927T130000
DTEND;TZID=Europe/Helsinki:20260927T153000
DTSTAMP:20260423T210541
CREATED:20260306T113655Z
LAST-MODIFIED:20260306T113655Z
UID:12082-1790514000-1790523000@www.evankeliset.net
SUMMARY:Outokumpu messu ja lähetystilaisuus
DESCRIPTION:
URL:https://www.evankeliset.net/tapahtuma/outokumpu-messu-ja-lahetystilaisuus/
END:VEVENT
END:VCALENDAR