BEGIN:VCALENDAR
VERSION:2.0
PRODID:-//Evankelinen lähetysyhdistys ELY ry - ECPv6.15.18//NONSGML v1.0//EN
CALSCALE:GREGORIAN
METHOD:PUBLISH
X-WR-CALNAME:Evankelinen lähetysyhdistys ELY ry
X-ORIGINAL-URL:https://www.evankeliset.net
X-WR-CALDESC:Tapahtumat Evankelinen lähetysyhdistys ELY ry
REFRESH-INTERVAL;VALUE=DURATION:PT1H
X-Robots-Tag:noindex
X-PUBLISHED-TTL:PT1H
BEGIN:VTIMEZONE
TZID:Europe/Helsinki
BEGIN:DAYLIGHT
TZOFFSETFROM:+0200
TZOFFSETTO:+0300
TZNAME:EEST
DTSTART:20170326T010000
END:DAYLIGHT
BEGIN:STANDARD
TZOFFSETFROM:+0300
TZOFFSETTO:+0200
TZNAME:EET
DTSTART:20171029T010000
END:STANDARD
BEGIN:DAYLIGHT
TZOFFSETFROM:+0200
TZOFFSETTO:+0300
TZNAME:EEST
DTSTART:20180325T010000
END:DAYLIGHT
BEGIN:STANDARD
TZOFFSETFROM:+0300
TZOFFSETTO:+0200
TZNAME:EET
DTSTART:20181028T010000
END:STANDARD
BEGIN:DAYLIGHT
TZOFFSETFROM:+0200
TZOFFSETTO:+0300
TZNAME:EEST
DTSTART:20190331T010000
END:DAYLIGHT
BEGIN:STANDARD
TZOFFSETFROM:+0300
TZOFFSETTO:+0200
TZNAME:EET
DTSTART:20191027T010000
END:STANDARD
END:VTIMEZONE
BEGIN:VEVENT
DTSTART;TZID=Europe/Helsinki:20180701T180000
DTEND;TZID=Europe/Helsinki:20180701T200000
DTSTAMP:20260423T130203
CREATED:20180308T062338Z
LAST-MODIFIED:20180424T140226Z
UID:457-1530468000-1530475200@www.evankeliset.net
SUMMARY:Alahärmä\, Naistenilta
DESCRIPTION:
URL:https://www.evankeliset.net/tapahtuma/kal-457/
END:VEVENT
BEGIN:VEVENT
DTSTART;TZID=Europe/Helsinki:20180704T180000
DTEND;TZID=Europe/Helsinki:20180704T200000
DTSTAMP:20260423T130203
CREATED:20180308T062338Z
LAST-MODIFIED:20180702T105532Z
UID:458-1530727200-1530734400@www.evankeliset.net
SUMMARY:Lapua\, kesäkirkko
DESCRIPTION:
URL:https://www.evankeliset.net/tapahtuma/kal-458/
END:VEVENT
BEGIN:VEVENT
DTSTART;TZID=Europe/Helsinki:20180704T180000
DTEND;TZID=Europe/Helsinki:20180704T200000
DTSTAMP:20260423T130203
CREATED:20180308T062338Z
LAST-MODIFIED:20180308T062338Z
UID:459-1530727200-1530734400@www.evankeliset.net
SUMMARY:Sulkava\, soutuseurat
DESCRIPTION:
URL:https://www.evankeliset.net/tapahtuma/kal-459/
END:VEVENT
BEGIN:VEVENT
DTSTART;TZID=Europe/Helsinki:20180705T110000
DTEND;TZID=Europe/Helsinki:20180706T150000
DTSTAMP:20260423T130203
CREATED:20180614T071640Z
LAST-MODIFIED:20180614T071640Z
UID:982-1530788400-1530889200@www.evankeliset.net
SUMMARY:Sulkavan soudut
DESCRIPTION:
URL:https://www.evankeliset.net/tapahtuma/sulkavan-soudut/
END:VEVENT
BEGIN:VEVENT
DTSTART;TZID=Europe/Helsinki:20180708T180000
DTEND;TZID=Europe/Helsinki:20180708T180000
DTSTAMP:20260423T130203
CREATED:20180308T062338Z
LAST-MODIFIED:20180702T105448Z
UID:460-1531072800-1531072800@www.evankeliset.net
SUMMARY:Lapua\, kesäkirkko
DESCRIPTION:
URL:https://www.evankeliset.net/tapahtuma/kal-460/
END:VEVENT
BEGIN:VEVENT
DTSTART;TZID=Europe/Helsinki:20180712T120000
DTEND;TZID=Europe/Helsinki:20180712T150000
DTSTAMP:20260423T130203
CREATED:20180409T111401Z
LAST-MODIFIED:20180411T041441Z
UID:694-1531396800-1531407600@www.evankeliset.net
SUMMARY:Ilmajoki\, retkipäivä
DESCRIPTION:
URL:https://www.evankeliset.net/tapahtuma/ilmajoki-retkipaiva/
END:VEVENT
BEGIN:VEVENT
DTSTART;TZID=Europe/Helsinki:20180715T100000
DTEND;TZID=Europe/Helsinki:20180715T140000
DTSTAMP:20260423T130203
CREATED:20180308T062338Z
LAST-MODIFIED:20180416T051716Z
UID:461-1531648800-1531663200@www.evankeliset.net
SUMMARY:Ylistaro\, ELYn kirkkopyhä
DESCRIPTION:
URL:https://www.evankeliset.net/tapahtuma/kal-461/
END:VEVENT
BEGIN:VEVENT
DTSTART;TZID=Europe/Helsinki:20180715T110000
DTEND;TZID=Europe/Helsinki:20180715T120000
DTSTAMP:20260423T130203
CREATED:20180627T051545Z
LAST-MODIFIED:20180627T051545Z
UID:1108-1531652400-1531656000@www.evankeliset.net
SUMMARY:Radio Yle 1\, Siionin Kannel -messu Seinäjoen kesäjuhlilta
DESCRIPTION:
URL:https://www.evankeliset.net/tapahtuma/radio-yle-1-siionin-kannel-messu-seinajoen-kesajuhlilta/
END:VEVENT
BEGIN:VEVENT
DTSTART;TZID=Europe/Helsinki:20180720T170000
DTEND;TZID=Europe/Helsinki:20180720T200000
DTSTAMP:20260423T130203
CREATED:20180308T062338Z
LAST-MODIFIED:20180308T062338Z
UID:462-1532106000-1532116800@www.evankeliset.net
SUMMARY:Pyhtää\, Mökkiseurat
DESCRIPTION:
URL:https://www.evankeliset.net/tapahtuma/kal-462/
END:VEVENT
BEGIN:VEVENT
DTSTART;TZID=Europe/Helsinki:20180720T180000
DTEND;TZID=Europe/Helsinki:20180720T200000
DTSTAMP:20260423T130203
CREATED:20180520T174910Z
LAST-MODIFIED:20180520T174910Z
UID:945-1532109600-1532116800@www.evankeliset.net
SUMMARY:Ullava\, Pihaseurat
DESCRIPTION:
URL:https://www.evankeliset.net/tapahtuma/ullava-pihaseurat/
END:VEVENT
BEGIN:VEVENT
DTSTART;TZID=Europe/Helsinki:20180722T130000
DTEND;TZID=Europe/Helsinki:20180722T150000
DTSTAMP:20260423T130203
CREATED:20180508T054610Z
LAST-MODIFIED:20180702T110919Z
UID:887-1532264400-1532271600@www.evankeliset.net
SUMMARY:Virrat\, mökkiseurat
DESCRIPTION:
URL:https://www.evankeliset.net/tapahtuma/virrat-mokkiseurat/
END:VEVENT
BEGIN:VEVENT
DTSTART;TZID=Europe/Helsinki:20180722T140000
DTEND;TZID=Europe/Helsinki:20180722T170000
DTSTAMP:20260423T130203
CREATED:20180308T062338Z
LAST-MODIFIED:20180702T123659Z
UID:463-1532268000-1532278800@www.evankeliset.net
SUMMARY:Toholampi\, mökkiseurat
DESCRIPTION:
URL:https://www.evankeliset.net/tapahtuma/kal-463/
END:VEVENT
BEGIN:VEVENT
DTSTART;TZID=Europe/Helsinki:20180724T180000
DTEND;TZID=Europe/Helsinki:20180724T200000
DTSTAMP:20260423T130203
CREATED:20180411T043013Z
LAST-MODIFIED:20180702T110357Z
UID:726-1532455200-1532462400@www.evankeliset.net
SUMMARY:Jalasjärvi\, Retki
DESCRIPTION:
URL:https://www.evankeliset.net/tapahtuma/jalasjarvi-retki/
END:VEVENT
BEGIN:VEVENT
DTSTART;TZID=Europe/Helsinki:20180725T190000
DTEND;TZID=Europe/Helsinki:20180725T210000
DTSTAMP:20260423T130203
CREATED:20180523T094733Z
LAST-MODIFIED:20180528T114054Z
UID:953-1532545200-1532552400@www.evankeliset.net
SUMMARY:Teuva\, kesäkirkko
DESCRIPTION:
URL:https://www.evankeliset.net/tapahtuma/teuva-kesakirkko/
END:VEVENT
BEGIN:VEVENT
DTSTART;TZID=Europe/Helsinki:20180726T180000
DTEND;TZID=Europe/Helsinki:20180726T200000
DTSTAMP:20260423T130203
CREATED:20180409T111808Z
LAST-MODIFIED:20180503T054417Z
UID:696-1532628000-1532635200@www.evankeliset.net
SUMMARY:Lapua\, Seppämestarin seurat
DESCRIPTION:
URL:https://www.evankeliset.net/tapahtuma/lapua-seppamestarin-seurat/
END:VEVENT
END:VCALENDAR