BEGIN:VCALENDAR
VERSION:2.0
PRODID:-//Evankelinen lähetysyhdistys ELY ry - ECPv6.15.18//NONSGML v1.0//EN
CALSCALE:GREGORIAN
METHOD:PUBLISH
X-WR-CALNAME:Evankelinen lähetysyhdistys ELY ry
X-ORIGINAL-URL:https://www.evankeliset.net
X-WR-CALDESC:Tapahtumat Evankelinen lähetysyhdistys ELY ry
REFRESH-INTERVAL;VALUE=DURATION:PT1H
X-Robots-Tag:noindex
X-PUBLISHED-TTL:PT1H
BEGIN:VTIMEZONE
TZID:Europe/Helsinki
BEGIN:DAYLIGHT
TZOFFSETFROM:+0200
TZOFFSETTO:+0300
TZNAME:EEST
DTSTART:20170326T010000
END:DAYLIGHT
BEGIN:STANDARD
TZOFFSETFROM:+0300
TZOFFSETTO:+0200
TZNAME:EET
DTSTART:20171029T010000
END:STANDARD
BEGIN:DAYLIGHT
TZOFFSETFROM:+0200
TZOFFSETTO:+0300
TZNAME:EEST
DTSTART:20180325T010000
END:DAYLIGHT
BEGIN:STANDARD
TZOFFSETFROM:+0300
TZOFFSETTO:+0200
TZNAME:EET
DTSTART:20181028T010000
END:STANDARD
BEGIN:DAYLIGHT
TZOFFSETFROM:+0200
TZOFFSETTO:+0300
TZNAME:EEST
DTSTART:20190331T010000
END:DAYLIGHT
BEGIN:STANDARD
TZOFFSETFROM:+0300
TZOFFSETTO:+0200
TZNAME:EET
DTSTART:20191027T010000
END:STANDARD
END:VTIMEZONE
BEGIN:VEVENT
DTSTART;TZID=Europe/Helsinki:20181103T160000
DTEND;TZID=Europe/Helsinki:20181103T200000
DTSTAMP:20260419T160041
CREATED:20180308T062338Z
LAST-MODIFIED:20180924T110325Z
UID:484-1541260800-1541275200@www.evankeliset.net
SUMMARY:Lapua\,Tiistenjoki\, Miestapahtuma
DESCRIPTION:
URL:https://www.evankeliset.net/tapahtuma/kal-484/
END:VEVENT
BEGIN:VEVENT
DTSTART;TZID=Europe/Helsinki:20181104T100000
DTEND;TZID=Europe/Helsinki:20181104T140000
DTSTAMP:20260419T160041
CREATED:20180508T055032Z
LAST-MODIFIED:20181003T091702Z
UID:890-1541325600-1541340000@www.evankeliset.net
SUMMARY:Kannus\, Kirkkopyhä ja seurat
DESCRIPTION:
URL:https://www.evankeliset.net/tapahtuma/kannus-lauluseurat/
END:VEVENT
BEGIN:VEVENT
DTSTART;TZID=Europe/Helsinki:20181104T120000
DTEND;TZID=Europe/Helsinki:20181104T150000
DTSTAMP:20260419T160041
CREATED:20180821T050848Z
LAST-MODIFIED:20180821T050848Z
UID:1239-1541332800-1541343600@www.evankeliset.net
SUMMARY:Espoo\, Elyn kirkkopyhä
DESCRIPTION:
URL:https://www.evankeliset.net/tapahtuma/espoo-elyn-kirkkopyha/
END:VEVENT
BEGIN:VEVENT
DTSTART;TZID=Europe/Helsinki:20181104T150000
DTEND;TZID=Europe/Helsinki:20181104T170000
DTSTAMP:20260419T160041
CREATED:20180308T062338Z
LAST-MODIFIED:20181008T132756Z
UID:485-1541343600-1541350800@www.evankeliset.net
SUMMARY:Seinäjoki\, Minä uskon? - raamattuluento
DESCRIPTION:
URL:https://www.evankeliset.net/tapahtuma/kal-485/
END:VEVENT
BEGIN:VEVENT
DTSTART;TZID=Europe/Helsinki:20181104T170000
DTEND;TZID=Europe/Helsinki:20181104T183000
DTSTAMP:20260419T160041
CREATED:20181015T063330Z
LAST-MODIFIED:20181015T064124Z
UID:1627-1541350800-1541356200@www.evankeliset.net
SUMMARY:Tampere Yhdessä Raamatun äärellä: Kristityn elämä
DESCRIPTION:
URL:https://www.evankeliset.net/tapahtuma/yhdessa-raamatun-aarella-jeesus-ihmiseksi-tullut-jumala/
END:VEVENT
BEGIN:VEVENT
DTSTART;TZID=Europe/Helsinki:20181105T180000
DTEND;TZID=Europe/Helsinki:20181105T200000
DTSTAMP:20260419T160041
CREATED:20180823T095449Z
LAST-MODIFIED:20180823T095449Z
UID:1270-1541440800-1541448000@www.evankeliset.net
SUMMARY:Ylistaro\, Minä uskon? Raamattuluento
DESCRIPTION:
URL:https://www.evankeliset.net/tapahtuma/ylistaro-mina-uskon-raamattuluento-2/
END:VEVENT
BEGIN:VEVENT
DTSTART;TZID=Europe/Helsinki:20181106T130000
DTEND;TZID=Europe/Helsinki:20181106T150000
DTSTAMP:20260419T160041
CREATED:20180829T051346Z
LAST-MODIFIED:20181008T132851Z
UID:1300-1541509200-1541516400@www.evankeliset.net
SUMMARY:Keuruu\, Lauluseurat
DESCRIPTION:
URL:https://www.evankeliset.net/tapahtuma/keuruu-lauluseurat-2/
END:VEVENT
BEGIN:VEVENT
DTSTART;TZID=Europe/Helsinki:20181106T180000
DTEND;TZID=Europe/Helsinki:20181106T200000
DTSTAMP:20260419T160041
CREATED:20180820T051417Z
LAST-MODIFIED:20180820T051417Z
UID:1212-1541527200-1541534400@www.evankeliset.net
SUMMARY:Riihimäki\, Siionin Kannel -seurat
DESCRIPTION:
URL:https://www.evankeliset.net/tapahtuma/riihimaki-siionin-kannel-seurat/
END:VEVENT
BEGIN:VEVENT
DTSTART;TZID=Europe/Helsinki:20181108T130000
DTEND;TZID=Europe/Helsinki:20181108T150000
DTSTAMP:20260419T160041
CREATED:20180903T060104Z
LAST-MODIFIED:20180903T060104Z
UID:1310-1541682000-1541689200@www.evankeliset.net
SUMMARY:Kauhajoki\, Siionin Kannel seurat
DESCRIPTION:
URL:https://www.evankeliset.net/tapahtuma/kauhajoki-siionin-kannel-seurat/
END:VEVENT
BEGIN:VEVENT
DTSTART;TZID=Europe/Helsinki:20181108T140000
DTEND;TZID=Europe/Helsinki:20181108T160000
DTSTAMP:20260419T160041
CREATED:20181001T064115Z
LAST-MODIFIED:20181001T064115Z
UID:1499-1541685600-1541692800@www.evankeliset.net
SUMMARY:Hämeenlinna\, Kotiseurat
DESCRIPTION:
URL:https://www.evankeliset.net/tapahtuma/hameenlinna-kotiseurat/
END:VEVENT
BEGIN:VEVENT
DTSTART;TZID=Europe/Helsinki:20181110T140000
DTEND;TZID=Europe/Helsinki:20181110T200000
DTSTAMP:20260419T160041
CREATED:20180614T074809Z
LAST-MODIFIED:20180614T074809Z
UID:1005-1541858400-1541880000@www.evankeliset.net
SUMMARY:Laukaa\, naisten päivät
DESCRIPTION:
URL:https://www.evankeliset.net/tapahtuma/laukaa-naisten-paivat/
END:VEVENT
BEGIN:VEVENT
DTSTART;TZID=Europe/Helsinki:20181111T100000
DTEND;TZID=Europe/Helsinki:20181111T130000
DTSTAMP:20260419T160041
CREATED:20180614T074917Z
LAST-MODIFIED:20180614T074917Z
UID:1007-1541930400-1541941200@www.evankeliset.net
SUMMARY:Joensuu\, Rantakylän srk\, ELYn kirkkopyhä
DESCRIPTION:
URL:https://www.evankeliset.net/tapahtuma/joensuu-rantakylan-srk-elyn-kirkkopyha/
END:VEVENT
BEGIN:VEVENT
DTSTART;TZID=Europe/Helsinki:20181111T100000
DTEND;TZID=Europe/Helsinki:20181111T140000
DTSTAMP:20260419T160041
CREATED:20181105T063427Z
LAST-MODIFIED:20181105T063512Z
UID:1786-1541930400-1541944800@www.evankeliset.net
SUMMARY:Espoo\, Tapiola\, Elyn kirkkopyhä
DESCRIPTION:
URL:https://www.evankeliset.net/tapahtuma/espoo-tapiola-elyn-kirkkopyha/
END:VEVENT
BEGIN:VEVENT
DTSTART;TZID=Europe/Helsinki:20181111T120000
DTEND;TZID=Europe/Helsinki:20181111T140000
DTSTAMP:20260419T160041
CREATED:20181004T052947Z
LAST-MODIFIED:20181004T052947Z
UID:1527-1541937600-1541944800@www.evankeliset.net
SUMMARY:Elimäki\, Koria\, Elyn kirkkopyhä
DESCRIPTION:
URL:https://www.evankeliset.net/tapahtuma/elimaki-koria-elyn-kirkkopyha/
END:VEVENT
BEGIN:VEVENT
DTSTART;TZID=Europe/Helsinki:20181112T130000
DTEND;TZID=Europe/Helsinki:20181112T150000
DTSTAMP:20260419T160041
CREATED:20180411T051555Z
LAST-MODIFIED:20180928T110020Z
UID:741-1542027600-1542034800@www.evankeliset.net
SUMMARY:Kurikka\, Siionin Kannel seurat
DESCRIPTION:
URL:https://www.evankeliset.net/tapahtuma/kurikka-siionin-kannel-seurat-6/
END:VEVENT
BEGIN:VEVENT
DTSTART;TZID=Europe/Helsinki:20181115T180000
DTEND;TZID=Europe/Helsinki:20181115T200000
DTSTAMP:20260419T160041
CREATED:20180409T124741Z
LAST-MODIFIED:20180409T124932Z
UID:712-1542304800-1542312000@www.evankeliset.net
SUMMARY:Evijärvi\, Minä uskon? Raamattuluentosarja
DESCRIPTION:
URL:https://www.evankeliset.net/tapahtuma/evijarvi-mina-uskon-raamattuluentosarja-3/
END:VEVENT
BEGIN:VEVENT
DTSTART;TZID=Europe/Helsinki:20181116T180000
DTEND;TZID=Europe/Helsinki:20181116T200000
DTSTAMP:20260419T160041
CREATED:20180614T075229Z
LAST-MODIFIED:20180614T075229Z
UID:1012-1542391200-1542398400@www.evankeliset.net
SUMMARY:Puistola\, Kohtaamisia
DESCRIPTION:
URL:https://www.evankeliset.net/tapahtuma/puistola-kohtaamisia/
END:VEVENT
BEGIN:VEVENT
DTSTART;TZID=Europe/Helsinki:20181118T100000
DTEND;TZID=Europe/Helsinki:20181118T130000
DTSTAMP:20260419T160041
CREATED:20180912T071107Z
LAST-MODIFIED:20180912T071107Z
UID:1356-1542535200-1542546000@www.evankeliset.net
SUMMARY:Kesälahti\, kirkkopyhä
DESCRIPTION:
URL:https://www.evankeliset.net/tapahtuma/kesalahti-kirkkopyha/
END:VEVENT
BEGIN:VEVENT
DTSTART;TZID=Europe/Helsinki:20181118T100000
DTEND;TZID=Europe/Helsinki:20181118T140000
DTSTAMP:20260419T160041
CREATED:20180308T062338Z
LAST-MODIFIED:20181117T081847Z
UID:486-1542535200-1542549600@www.evankeliset.net
SUMMARY:Kortesjärvi\, kirkkopyhä
DESCRIPTION:
URL:https://www.evankeliset.net/tapahtuma/kal-486/
END:VEVENT
BEGIN:VEVENT
DTSTART;TZID=Europe/Helsinki:20181118T170000
DTEND;TZID=Europe/Helsinki:20181118T183000
DTSTAMP:20260419T160041
CREATED:20181015T064445Z
LAST-MODIFIED:20181015T064445Z
UID:1645-1542560400-1542565800@www.evankeliset.net
SUMMARY:Tampere: Yhdessä Raamatun äärellä:
DESCRIPTION:
URL:https://www.evankeliset.net/tapahtuma/tampere-yhdessa-raamatun-aarella/
END:VEVENT
BEGIN:VEVENT
DTSTART;TZID=Europe/Helsinki:20181120T133000
DTEND;TZID=Europe/Helsinki:20181120T153000
DTSTAMP:20260419T160041
CREATED:20180717T040636Z
LAST-MODIFIED:20181001T065738Z
UID:1172-1542720600-1542727800@www.evankeliset.net
SUMMARY:Forssa\, Siionin Kannel -seurat
DESCRIPTION:
URL:https://www.evankeliset.net/tapahtuma/forssa-siionin-kannel-seurat-3/
END:VEVENT
BEGIN:VEVENT
DTSTART;TZID=Europe/Helsinki:20181120T180000
DTEND;TZID=Europe/Helsinki:20181120T193000
DTSTAMP:20260419T160041
CREATED:20180912T071214Z
LAST-MODIFIED:20180912T071245Z
UID:1358-1542736800-1542742200@www.evankeliset.net
SUMMARY:Juva\, Raamattuluento
DESCRIPTION:
URL:https://www.evankeliset.net/tapahtuma/juva-raamattuluento-5/
END:VEVENT
BEGIN:VEVENT
DTSTART;TZID=Europe/Helsinki:20181120T180000
DTEND;TZID=Europe/Helsinki:20181120T200000
DTSTAMP:20260419T160041
CREATED:20180520T175426Z
LAST-MODIFIED:20180820T104752Z
UID:951-1542736800-1542744000@www.evankeliset.net
SUMMARY:Laihia\, Minä uskon? raamattuluento
DESCRIPTION:
URL:https://www.evankeliset.net/tapahtuma/laihia-mina-uskon-raamattuluento-3/
END:VEVENT
BEGIN:VEVENT
DTSTART;TZID=Europe/Helsinki:20181120T180000
DTEND;TZID=Europe/Helsinki:20181120T200000
DTSTAMP:20260419T160041
CREATED:20180618T052153Z
LAST-MODIFIED:20180618T052153Z
UID:1030-1542736800-1542744000@www.evankeliset.net
SUMMARY:Salo\, 10-synttärit
DESCRIPTION:
URL:https://www.evankeliset.net/tapahtuma/salo-10-synttarit/
END:VEVENT
BEGIN:VEVENT
DTSTART;TZID=Europe/Helsinki:20181122T180000
DTEND;TZID=Europe/Helsinki:20181122T193000
DTSTAMP:20260419T160041
CREATED:20180912T071402Z
LAST-MODIFIED:20180912T071402Z
UID:1360-1542909600-1542915000@www.evankeliset.net
SUMMARY:Sulkava\, Raamattuluento
DESCRIPTION:
URL:https://www.evankeliset.net/tapahtuma/sulkava-raamattuluento-7/
END:VEVENT
BEGIN:VEVENT
DTSTART;TZID=Europe/Helsinki:20181122T180000
DTEND;TZID=Europe/Helsinki:20181122T200000
DTSTAMP:20260419T160041
CREATED:20180308T062338Z
LAST-MODIFIED:20181001T094141Z
UID:487-1542909600-1542916800@www.evankeliset.net
SUMMARY:Lapua\, joululauluseurat
DESCRIPTION:
URL:https://www.evankeliset.net/tapahtuma/kal-487/
END:VEVENT
BEGIN:VEVENT
DTSTART;TZID=Europe/Helsinki:20181125T100000
DTEND;TZID=Europe/Helsinki:20181125T140000
DTSTAMP:20260419T160041
CREATED:20180717T040808Z
LAST-MODIFIED:20181004T053331Z
UID:1174-1543140000-1543154400@www.evankeliset.net
SUMMARY:Forssa\, Elyn kirkkopyhä
DESCRIPTION:
URL:https://www.evankeliset.net/tapahtuma/forssa-elyn-kirkkopyha/
END:VEVENT
BEGIN:VEVENT
DTSTART;TZID=Europe/Helsinki:20181125T130000
DTEND;TZID=Europe/Helsinki:20181125T150000
DTSTAMP:20260419T160041
CREATED:20180308T062338Z
LAST-MODIFIED:20181009T081636Z
UID:488-1543150800-1543158000@www.evankeliset.net
SUMMARY:Kauhajoki\, syntymäpäiväseurat
DESCRIPTION:
URL:https://www.evankeliset.net/tapahtuma/kal-488/
END:VEVENT
BEGIN:VEVENT
DTSTART;TZID=Europe/Helsinki:20181125T170000
DTEND;TZID=Europe/Helsinki:20181125T190000
DTSTAMP:20260419T160041
CREATED:20180614T075317Z
LAST-MODIFIED:20180614T075317Z
UID:1014-1543165200-1543172400@www.evankeliset.net
SUMMARY:Laukaa\, Israel-ilta
DESCRIPTION:
URL:https://www.evankeliset.net/tapahtuma/laukaa-israel-ilta-2/
END:VEVENT
BEGIN:VEVENT
DTSTART;TZID=Europe/Helsinki:20181125T170000
DTEND;TZID=Europe/Helsinki:20181125T190000
DTSTAMP:20260419T160041
CREATED:20181004T051551Z
LAST-MODIFIED:20181004T051551Z
UID:1519-1543165200-1543172400@www.evankeliset.net
SUMMARY:Helsinki\, Puistola\, Valon messu
DESCRIPTION:
URL:https://www.evankeliset.net/tapahtuma/helsinki-puistola-valon-messu/
END:VEVENT
END:VCALENDAR