BEGIN:VCALENDAR
VERSION:2.0
PRODID:-//Evankelinen lähetysyhdistys ELY ry - ECPv6.15.18//NONSGML v1.0//EN
CALSCALE:GREGORIAN
METHOD:PUBLISH
X-ORIGINAL-URL:https://www.evankeliset.net
X-WR-CALDESC:Tapahtumat Evankelinen lähetysyhdistys ELY ry
REFRESH-INTERVAL;VALUE=DURATION:PT1H
X-Robots-Tag:noindex
X-PUBLISHED-TTL:PT1H
BEGIN:VTIMEZONE
TZID:Europe/Helsinki
BEGIN:DAYLIGHT
TZOFFSETFROM:+0200
TZOFFSETTO:+0300
TZNAME:EEST
DTSTART:20170326T010000
END:DAYLIGHT
BEGIN:STANDARD
TZOFFSETFROM:+0300
TZOFFSETTO:+0200
TZNAME:EET
DTSTART:20171029T010000
END:STANDARD
BEGIN:DAYLIGHT
TZOFFSETFROM:+0200
TZOFFSETTO:+0300
TZNAME:EEST
DTSTART:20180325T010000
END:DAYLIGHT
BEGIN:STANDARD
TZOFFSETFROM:+0300
TZOFFSETTO:+0200
TZNAME:EET
DTSTART:20181028T010000
END:STANDARD
BEGIN:DAYLIGHT
TZOFFSETFROM:+0200
TZOFFSETTO:+0300
TZNAME:EEST
DTSTART:20190331T010000
END:DAYLIGHT
BEGIN:STANDARD
TZOFFSETFROM:+0300
TZOFFSETTO:+0200
TZNAME:EET
DTSTART:20191027T010000
END:STANDARD
END:VTIMEZONE
BEGIN:VEVENT
DTSTART;TZID=Europe/Helsinki:20181203T130000
DTEND;TZID=Europe/Helsinki:20181203T150000
DTSTAMP:20260421T122253
CREATED:20180411T051809Z
LAST-MODIFIED:20181119T112453Z
UID:745-1543842000-1543849200@www.evankeliset.net
SUMMARY:Kurikka\, Siionin Kannel seurat
DESCRIPTION:
URL:https://www.evankeliset.net/tapahtuma/kurikka-siionin-kannel-seurat-8/
END:VEVENT
BEGIN:VEVENT
DTSTART;TZID=Europe/Helsinki:20181204T120000
DTEND;TZID=Europe/Helsinki:20181204T150000
DTSTAMP:20260421T122253
CREATED:20180928T111723Z
LAST-MODIFIED:20181003T091043Z
UID:1485-1543924800-1543935600@www.evankeliset.net
SUMMARY:Himanka\, joululauluseurat
DESCRIPTION:
URL:https://www.evankeliset.net/tapahtuma/himanka-joululauluseurat/
END:VEVENT
BEGIN:VEVENT
DTSTART;TZID=Europe/Helsinki:20181204T130000
DTEND;TZID=Europe/Helsinki:20181204T150000
DTSTAMP:20260421T122253
CREATED:20180829T051524Z
LAST-MODIFIED:20181119T112328Z
UID:1302-1543928400-1543935600@www.evankeliset.net
SUMMARY:Keuruu\, Joululauluseurat
DESCRIPTION:
URL:https://www.evankeliset.net/tapahtuma/keuruu-joululauluseurat/
END:VEVENT
BEGIN:VEVENT
DTSTART;TZID=Europe/Helsinki:20181204T180000
DTEND;TZID=Europe/Helsinki:20181204T200000
DTSTAMP:20260421T122253
CREATED:20180411T054521Z
LAST-MODIFIED:20180905T105058Z
UID:758-1543946400-1543953600@www.evankeliset.net
SUMMARY:Jalasjärvi\, Joululauluseurat (ELY ja HY)
DESCRIPTION:
URL:https://www.evankeliset.net/tapahtuma/jalasjarvi-joululauluseurat-ely-ja-hy/
END:VEVENT
BEGIN:VEVENT
DTSTART;TZID=Europe/Helsinki:20181204T180000
DTEND;TZID=Europe/Helsinki:20181204T200000
DTSTAMP:20260421T122253
CREATED:20180820T051545Z
LAST-MODIFIED:20180820T051545Z
UID:1214-1543946400-1543953600@www.evankeliset.net
SUMMARY:Riihimäki\, Siionin Kannel -seurat
DESCRIPTION:
URL:https://www.evankeliset.net/tapahtuma/riihimaki-siionin-kannel-seurat-2/
END:VEVENT
BEGIN:VEVENT
DTSTART;TZID=Europe/Helsinki:20181206T140000
DTEND;TZID=Europe/Helsinki:20181206T160000
DTSTAMP:20260421T122253
CREATED:20181119T092716Z
LAST-MODIFIED:20181119T092716Z
UID:1806-1544104800-1544112000@www.evankeliset.net
SUMMARY:Ilmajoki\, joululauluseurat
DESCRIPTION:
URL:https://www.evankeliset.net/tapahtuma/ilmajoki-joululauluseurat/
END:VEVENT
BEGIN:VEVENT
DTSTART;TZID=Europe/Helsinki:20181209T120000
DTEND;TZID=Europe/Helsinki:20181209T150000
DTSTAMP:20260421T122253
CREATED:20180409T125950Z
LAST-MODIFIED:20181102T085829Z
UID:715-1544356800-1544367600@www.evankeliset.net
SUMMARY:Seinäjoki\, Maakunnallinen joulujuhla
DESCRIPTION:
URL:https://www.evankeliset.net/tapahtuma/seinajoki-maakunnallinen-joulujuhla/
END:VEVENT
BEGIN:VEVENT
DTSTART;TZID=Europe/Helsinki:20181210T140000
DTEND;TZID=Europe/Helsinki:20181210T153000
DTSTAMP:20260421T122253
CREATED:20180912T071632Z
LAST-MODIFIED:20180912T071632Z
UID:1362-1544450400-1544455800@www.evankeliset.net
SUMMARY:Kouvola\, lähetyspiiri
DESCRIPTION:
URL:https://www.evankeliset.net/tapahtuma/kouvola-lahetyspiiri-3/
END:VEVENT
BEGIN:VEVENT
DTSTART;TZID=Europe/Helsinki:20181211T100000
DTEND;TZID=Europe/Helsinki:20181211T140000
DTSTAMP:20260421T122253
CREATED:20181104T175831Z
LAST-MODIFIED:20181104T175831Z
UID:1784-1544522400-1544536800@www.evankeliset.net
SUMMARY:Kokkola\, Lähetyssoppi
DESCRIPTION:
URL:https://www.evankeliset.net/tapahtuma/kokkola-lahetyssoppi-6/
END:VEVENT
BEGIN:VEVENT
DTSTART;TZID=Europe/Helsinki:20181216T100000
DTEND;TZID=Europe/Helsinki:20181216T140000
DTSTAMP:20260421T122253
CREATED:20180924T110241Z
LAST-MODIFIED:20180924T110241Z
UID:1383-1544954400-1544968800@www.evankeliset.net
SUMMARY:Huutoniemi\, Vaasa
DESCRIPTION:
URL:https://www.evankeliset.net/tapahtuma/huutoniemi-vaasa/
END:VEVENT
BEGIN:VEVENT
DTSTART;TZID=Europe/Helsinki:20181216T150000
DTEND;TZID=Europe/Helsinki:20181216T170000
DTSTAMP:20260421T122253
CREATED:20180912T071917Z
LAST-MODIFIED:20180912T071917Z
UID:1366-1544972400-1544979600@www.evankeliset.net
SUMMARY:Lauritsala\, Raamattupiiri
DESCRIPTION:
URL:https://www.evankeliset.net/tapahtuma/lauritsala-raamattupiiri/
END:VEVENT
BEGIN:VEVENT
DTSTART;TZID=Europe/Helsinki:20181218T180000
DTEND;TZID=Europe/Helsinki:20181218T193000
DTSTAMP:20260421T122253
CREATED:20180912T072020Z
LAST-MODIFIED:20180912T072020Z
UID:1368-1545156000-1545161400@www.evankeliset.net
SUMMARY:Juva\, Raamattuluento
DESCRIPTION:
URL:https://www.evankeliset.net/tapahtuma/juva-raamattuluento-6/
END:VEVENT
BEGIN:VEVENT
DTSTART;TZID=Europe/Helsinki:20181220T180000
DTEND;TZID=Europe/Helsinki:20181220T193000
DTSTAMP:20260421T122253
CREATED:20180912T072113Z
LAST-MODIFIED:20180912T072113Z
UID:1370-1545328800-1545334200@www.evankeliset.net
SUMMARY:Sulkava\, Raamattuluento
DESCRIPTION:
URL:https://www.evankeliset.net/tapahtuma/sulkava-raamattuluento-8/
END:VEVENT
BEGIN:VEVENT
DTSTART;TZID=Europe/Helsinki:20181226T100000
DTEND;TZID=Europe/Helsinki:20181226T113000
DTSTAMP:20260421T122253
CREATED:20180308T062338Z
LAST-MODIFIED:20180308T062338Z
UID:489-1545818400-1545823800@www.evankeliset.net
SUMMARY:Sulkava\, tapaninpäivän messu
DESCRIPTION:
URL:https://www.evankeliset.net/tapahtuma/kal-489/
END:VEVENT
BEGIN:VEVENT
DTSTART;TZID=Europe/Helsinki:20181228T180000
DTEND;TZID=Europe/Helsinki:20181228T200000
DTSTAMP:20260421T122253
CREATED:20181126T063000Z
LAST-MODIFIED:20181126T063000Z
UID:1828-1546020000-1546027200@www.evankeliset.net
SUMMARY:Helsinki\, Siionin Kanteleen ja Siionin Virsien laulut ja veisuut
DESCRIPTION:
URL:https://www.evankeliset.net/tapahtuma/helsinki-siionin-kanteleen-ja-siionin-virsien-laulut-ja-veisuut/
END:VEVENT
BEGIN:VEVENT
DTSTART;TZID=Europe/Helsinki:20181228T180000
DTEND;TZID=Europe/Helsinki:20181228T200000
DTSTAMP:20260421T122253
CREATED:20181220T090002Z
LAST-MODIFIED:20181220T090051Z
UID:1885-1546020000-1546027200@www.evankeliset.net
SUMMARY:Hamina\, Kannusjärvi\, Joululauluseurat
DESCRIPTION:
URL:https://www.evankeliset.net/tapahtuma/hamina-kannusjarvi-joululauluseurat/
END:VEVENT
END:VCALENDAR