BEGIN:VCALENDAR
VERSION:2.0
PRODID:-//Evankelinen lähetysyhdistys ELY ry - ECPv6.15.18//NONSGML v1.0//EN
CALSCALE:GREGORIAN
METHOD:PUBLISH
X-ORIGINAL-URL:https://www.evankeliset.net
X-WR-CALDESC:Tapahtumat Evankelinen lähetysyhdistys ELY ry
REFRESH-INTERVAL;VALUE=DURATION:PT1H
X-Robots-Tag:noindex
X-PUBLISHED-TTL:PT1H
BEGIN:VTIMEZONE
TZID:Europe/Helsinki
BEGIN:DAYLIGHT
TZOFFSETFROM:+0200
TZOFFSETTO:+0300
TZNAME:EEST
DTSTART:20180325T010000
END:DAYLIGHT
BEGIN:STANDARD
TZOFFSETFROM:+0300
TZOFFSETTO:+0200
TZNAME:EET
DTSTART:20181028T010000
END:STANDARD
BEGIN:DAYLIGHT
TZOFFSETFROM:+0200
TZOFFSETTO:+0300
TZNAME:EEST
DTSTART:20190331T010000
END:DAYLIGHT
BEGIN:STANDARD
TZOFFSETFROM:+0300
TZOFFSETTO:+0200
TZNAME:EET
DTSTART:20191027T010000
END:STANDARD
BEGIN:DAYLIGHT
TZOFFSETFROM:+0200
TZOFFSETTO:+0300
TZNAME:EEST
DTSTART:20200329T010000
END:DAYLIGHT
BEGIN:STANDARD
TZOFFSETFROM:+0300
TZOFFSETTO:+0200
TZNAME:EET
DTSTART:20201025T010000
END:STANDARD
END:VTIMEZONE
BEGIN:VEVENT
DTSTART;TZID=Europe/Helsinki:20190302T093000
DTEND;TZID=Europe/Helsinki:20190302T150000
DTSTAMP:20260423T130903
CREATED:20190110T123312Z
LAST-MODIFIED:20190110T123312Z
UID:1970-1551519000-1551538800@www.evankeliset.net
SUMMARY:Saarijärvi\,naisten päivä
DESCRIPTION:
URL:https://www.evankeliset.net/tapahtuma/saarijarvinaisten-paiva/
END:VEVENT
BEGIN:VEVENT
DTSTART;TZID=Europe/Helsinki:20190303T100000
DTEND;TZID=Europe/Helsinki:20190303T123000
DTSTAMP:20260423T130903
CREATED:20190201T212900Z
LAST-MODIFIED:20190201T212900Z
UID:2162-1551607200-1551616200@www.evankeliset.net
SUMMARY:Elyn kirkkopyhä\, saarna Harri Kuhalampi\, kirkkokahvit ja iltapäivätilaisuus
DESCRIPTION:
URL:https://www.evankeliset.net/tapahtuma/elyn-kirkkopyha-saarna-harri-kuhalampi-kirkkokahvit-ja-iltapaivatilaisuus/
END:VEVENT
BEGIN:VEVENT
DTSTART;TZID=Europe/Helsinki:20190303T100000
DTEND;TZID=Europe/Helsinki:20190303T133000
DTSTAMP:20260423T130903
CREATED:20190226T082201Z
LAST-MODIFIED:20190226T083944Z
UID:2257-1551607200-1551619800@www.evankeliset.net
SUMMARY:Jyväskylä\, Tikkakosken srk\, Kirkkopyhä
DESCRIPTION:
URL:https://www.evankeliset.net/tapahtuma/jyvaskyla-tikkakosken-srk-kirkkopyha/
END:VEVENT
BEGIN:VEVENT
DTSTART;TZID=Europe/Helsinki:20190303T100000
DTEND;TZID=Europe/Helsinki:20190303T140000
DTSTAMP:20260423T130903
CREATED:20190118T065022Z
LAST-MODIFIED:20190118T065022Z
UID:2027-1551607200-1551621600@www.evankeliset.net
SUMMARY:Kerava\, jumalanpalvelus ja päivätilaisuus
DESCRIPTION:
URL:https://www.evankeliset.net/tapahtuma/kerava-jumalanpalvelus-ja-paivatilaisuus/
END:VEVENT
BEGIN:VEVENT
DTSTART;TZID=Europe/Helsinki:20190304T130000
DTEND;TZID=Europe/Helsinki:20190304T150000
DTSTAMP:20260423T130903
CREATED:20181010T081332Z
LAST-MODIFIED:20181010T081332Z
UID:1594-1551704400-1551711600@www.evankeliset.net
SUMMARY:Kurikka\, Siionin Kannel seurat
DESCRIPTION:
URL:https://www.evankeliset.net/tapahtuma/kurikka-siionin-kannel-seurat-13/
END:VEVENT
BEGIN:VEVENT
DTSTART;TZID=Europe/Helsinki:20190304T140000
DTEND;TZID=Europe/Helsinki:20190304T160000
DTSTAMP:20260423T130903
CREATED:20190109T130806Z
LAST-MODIFIED:20190109T130806Z
UID:1924-1551708000-1551715200@www.evankeliset.net
SUMMARY:Kouvola\, Lähetyspiiri
DESCRIPTION:
URL:https://www.evankeliset.net/tapahtuma/kouvola-lahetyspiiri-6/
END:VEVENT
BEGIN:VEVENT
DTSTART;TZID=Europe/Helsinki:20190305T130000
DTEND;TZID=Europe/Helsinki:20190305T150000
DTSTAMP:20260423T130903
CREATED:20181219T090335Z
LAST-MODIFIED:20181219T090335Z
UID:1878-1551790800-1551798000@www.evankeliset.net
SUMMARY:Keuruu\, Siionin kanteleen lauluseurat
DESCRIPTION:
URL:https://www.evankeliset.net/tapahtuma/keuruu-siionin-kanteleen-lauluseurat/
END:VEVENT
BEGIN:VEVENT
DTSTART;TZID=Europe/Helsinki:20190305T180000
DTEND;TZID=Europe/Helsinki:20190305T193000
DTSTAMP:20260423T130903
CREATED:20190110T123401Z
LAST-MODIFIED:20190110T123401Z
UID:1972-1551808800-1551814200@www.evankeliset.net
SUMMARY:Ruokolahti\,Raamattuluento
DESCRIPTION:
URL:https://www.evankeliset.net/tapahtuma/ruokolahtiraamattuluento/
END:VEVENT
BEGIN:VEVENT
DTSTART;TZID=Europe/Helsinki:20190305T180000
DTEND;TZID=Europe/Helsinki:20190305T200000
DTSTAMP:20260423T130903
CREATED:20181025T054318Z
LAST-MODIFIED:20181210T112700Z
UID:1711-1551808800-1551816000@www.evankeliset.net
SUMMARY:Riihimäki\, Siionin Kannel -seurat
DESCRIPTION:
URL:https://www.evankeliset.net/tapahtuma/riihimaki-siionin-kannel-seurat-4/
END:VEVENT
BEGIN:VEVENT
DTSTART;TZID=Europe/Helsinki:20190306T140000
DTEND;TZID=Europe/Helsinki:20190306T160000
DTSTAMP:20260423T130903
CREATED:20190219T100053Z
LAST-MODIFIED:20190219T100218Z
UID:2248-1551880800-1551888000@www.evankeliset.net
SUMMARY:Järvenpää\, Lähetyspiiri
DESCRIPTION:
URL:https://www.evankeliset.net/tapahtuma/jarvenpaa-lahetyspiiri/
END:VEVENT
BEGIN:VEVENT
DTSTART;TZID=Europe/Helsinki:20190310T100000
DTEND;TZID=Europe/Helsinki:20190310T130000
DTSTAMP:20260423T130903
CREATED:20181220T145453Z
LAST-MODIFIED:20181220T145453Z
UID:1898-1552212000-1552222800@www.evankeliset.net
SUMMARY:Tampere\, Aleksanterin kirkko\, kirkkopyhä
DESCRIPTION:
URL:https://www.evankeliset.net/tapahtuma/tampere-aleksanterin-kirkko-kirkkopyha/
END:VEVENT
BEGIN:VEVENT
DTSTART;TZID=Europe/Helsinki:20190310T100000
DTEND;TZID=Europe/Helsinki:20190310T130000
DTSTAMP:20260423T130903
CREATED:20190110T123454Z
LAST-MODIFIED:20190110T123454Z
UID:1974-1552212000-1552222800@www.evankeliset.net
SUMMARY:Imatra\, kirkkopyhä
DESCRIPTION:
URL:https://www.evankeliset.net/tapahtuma/imatra-kirkkopyha/
END:VEVENT
BEGIN:VEVENT
DTSTART;TZID=Europe/Helsinki:20190310T120000
DTEND;TZID=Europe/Helsinki:20190310T130000
DTSTAMP:20260423T130903
CREATED:20190205T203712Z
LAST-MODIFIED:20190205T203712Z
UID:2173-1552219200-1552222800@www.evankeliset.net
SUMMARY:Yhdessä Raamatun äärellä
DESCRIPTION:
URL:https://www.evankeliset.net/tapahtuma/yhdessa-raamatun-aarella/
END:VEVENT
BEGIN:VEVENT
DTSTART;TZID=Europe/Helsinki:20190310T180000
DTEND;TZID=Europe/Helsinki:20190310T200000
DTSTAMP:20260423T130903
CREATED:20180413T074458Z
LAST-MODIFIED:20181010T081137Z
UID:786-1552240800-1552248000@www.evankeliset.net
SUMMARY:Kauhajoki\, Minä uskon? Raamattuluento
DESCRIPTION:
URL:https://www.evankeliset.net/tapahtuma/kauhajoki-mina-uskon-raamattuluento-2/
END:VEVENT
BEGIN:VEVENT
DTSTART;TZID=Europe/Helsinki:20190310T180000
DTEND;TZID=Europe/Helsinki:20190310T200000
DTSTAMP:20260423T130903
CREATED:20190124T125822Z
LAST-MODIFIED:20190124T125822Z
UID:2125-1552240800-1552248000@www.evankeliset.net
SUMMARY:Hyvinkää\, Iltakirkko
DESCRIPTION:
URL:https://www.evankeliset.net/tapahtuma/hyvinkaa-iltakirkko/
END:VEVENT
BEGIN:VEVENT
DTSTART;TZID=Europe/Helsinki:20190312T100000
DTEND;TZID=Europe/Helsinki:20190312T140000
DTSTAMP:20260423T130903
CREATED:20181205T095035Z
LAST-MODIFIED:20181205T095035Z
UID:1839-1552384800-1552399200@www.evankeliset.net
SUMMARY:Kokkola\, Lähetyssoppi
DESCRIPTION:
URL:https://www.evankeliset.net/tapahtuma/kokkola-lahetyssoppi-8/
END:VEVENT
BEGIN:VEVENT
DTSTART;TZID=Europe/Helsinki:20190313T180000
DTEND;TZID=Europe/Helsinki:20190313T200000
DTSTAMP:20260423T130903
CREATED:20190307T161311Z
LAST-MODIFIED:20190307T161311Z
UID:2264-1552500000-1552507200@www.evankeliset.net
SUMMARY:Laihia\, virsi-ilta
DESCRIPTION:
URL:https://www.evankeliset.net/tapahtuma/laihia-virsi-ilta/
END:VEVENT
BEGIN:VEVENT
DTSTART;TZID=Europe/Helsinki:20190314T130000
DTEND;TZID=Europe/Helsinki:20190314T150000
DTSTAMP:20260423T130903
CREATED:20180413T080834Z
LAST-MODIFIED:20181010T081452Z
UID:788-1552568400-1552575600@www.evankeliset.net
SUMMARY:Kauhajoki\, Lauluseurat
DESCRIPTION:
URL:https://www.evankeliset.net/tapahtuma/kauhajoki-lauluseurat-2/
END:VEVENT
BEGIN:VEVENT
DTSTART;TZID=Europe/Helsinki:20190316T100000
DTEND;TZID=Europe/Helsinki:20190317T150000
DTSTAMP:20260423T130903
CREATED:20190207T114736Z
LAST-MODIFIED:20190207T114840Z
UID:2200-1552730400-1552834800@www.evankeliset.net
SUMMARY:Karstula\, Ev. Opiston toveripäivät
DESCRIPTION:
URL:https://www.evankeliset.net/tapahtuma/karstula-ev-opiston-toveripaivat/
END:VEVENT
BEGIN:VEVENT
DTSTART;TZID=Europe/Helsinki:20190317T100000
DTEND;TZID=Europe/Helsinki:20190317T130000
DTSTAMP:20260423T130903
CREATED:20190110T123701Z
LAST-MODIFIED:20190305T063811Z
UID:1977-1552816800-1552827600@www.evankeliset.net
SUMMARY:Helsinki\, Puistola\, kirkkopyhä
DESCRIPTION:
URL:https://www.evankeliset.net/tapahtuma/helsinkipuistolakirkkopyha/
END:VEVENT
BEGIN:VEVENT
DTSTART;TZID=Europe/Helsinki:20190317T100000
DTEND;TZID=Europe/Helsinki:20190317T140000
DTSTAMP:20260423T130903
CREATED:20181010T110111Z
LAST-MODIFIED:20181211T101722Z
UID:1617-1552816800-1552831200@www.evankeliset.net
SUMMARY:Virrat\, kirkkopyhä
DESCRIPTION:
URL:https://www.evankeliset.net/tapahtuma/virrat-kirkkopyha/
END:VEVENT
BEGIN:VEVENT
DTSTART;TZID=Europe/Helsinki:20190317T100000
DTEND;TZID=Europe/Helsinki:20190317T140000
DTSTAMP:20260423T130903
CREATED:20181203T070544Z
LAST-MODIFIED:20190315T164128Z
UID:1834-1552816800-1552831200@www.evankeliset.net
SUMMARY:Lohtaja\, kirkkopyhä
DESCRIPTION:
URL:https://www.evankeliset.net/tapahtuma/lohtaja-kirkkopyha/
END:VEVENT
BEGIN:VEVENT
DTSTART;TZID=Europe/Helsinki:20190317T150000
DTEND;TZID=Europe/Helsinki:20190317T200000
DTSTAMP:20260423T130903
CREATED:20180928T114212Z
LAST-MODIFIED:20190119T102250Z
UID:1492-1552834800-1552852800@www.evankeliset.net
SUMMARY:Kokkola\, Naistenpäivä
DESCRIPTION:
URL:https://www.evankeliset.net/tapahtuma/kokkola-naistenpaiva/
END:VEVENT
BEGIN:VEVENT
DTSTART;TZID=Europe/Helsinki:20190317T180000
DTEND;TZID=Europe/Helsinki:20190317T200000
DTSTAMP:20260423T130903
CREATED:20181010T081726Z
LAST-MODIFIED:20190119T102553Z
UID:1597-1552845600-1552852800@www.evankeliset.net
SUMMARY:Kokkola\, Taize-messu
DESCRIPTION:
URL:https://www.evankeliset.net/tapahtuma/kokkola-elyn-kirkkopyha/
END:VEVENT
BEGIN:VEVENT
DTSTART;TZID=Europe/Helsinki:20190318T130000
DTEND;TZID=Europe/Helsinki:20190318T150000
DTSTAMP:20260423T130903
CREATED:20181010T081911Z
LAST-MODIFIED:20190121T174925Z
UID:1599-1552914000-1552921200@www.evankeliset.net
SUMMARY:Kurikka\, Siionin kannel seurat
DESCRIPTION:
URL:https://www.evankeliset.net/tapahtuma/kurikka-siionin-kannel-messu/
END:VEVENT
BEGIN:VEVENT
DTSTART;TZID=Europe/Helsinki:20190319T070000
DTEND;TZID=Europe/Helsinki:20190322T210000
DTSTAMP:20260423T130903
CREATED:20181010T082315Z
LAST-MODIFIED:20181010T082315Z
UID:1601-1552978800-1553288400@www.evankeliset.net
SUMMARY:Maalisretki Nurmekseen
DESCRIPTION:
URL:https://www.evankeliset.net/tapahtuma/maalisretki-nurmekseen/
END:VEVENT
BEGIN:VEVENT
DTSTART;TZID=Europe/Helsinki:20190319T133000
DTEND;TZID=Europe/Helsinki:20190319T153000
DTSTAMP:20260423T130903
CREATED:20190118T064154Z
LAST-MODIFIED:20190118T064154Z
UID:2023-1553002200-1553009400@www.evankeliset.net
SUMMARY:Forssa\, Siionin Kannel -seurat
DESCRIPTION:
URL:https://www.evankeliset.net/tapahtuma/forssa-siionin-kannel-seurat-6/
END:VEVENT
BEGIN:VEVENT
DTSTART;TZID=Europe/Helsinki:20190319T180000
DTEND;TZID=Europe/Helsinki:20190319T193000
DTSTAMP:20260423T130903
CREATED:20190110T123747Z
LAST-MODIFIED:20190110T123747Z
UID:1979-1553018400-1553023800@www.evankeliset.net
SUMMARY:Juva\,Raamattuluento
DESCRIPTION:
URL:https://www.evankeliset.net/tapahtuma/juvaraamattuluento/
END:VEVENT
BEGIN:VEVENT
DTSTART;TZID=Europe/Helsinki:20190319T180000
DTEND;TZID=Europe/Helsinki:20190319T200000
DTSTAMP:20260423T130903
CREATED:20180618T062043Z
LAST-MODIFIED:20180618T062043Z
UID:1037-1553018400-1553025600@www.evankeliset.net
SUMMARY:Salo\, Siionin Kannel -seurat
DESCRIPTION:
URL:https://www.evankeliset.net/tapahtuma/salo-siionin-kannel-seurat-3/
END:VEVENT
BEGIN:VEVENT
DTSTART;TZID=Europe/Helsinki:20190320T183000
DTEND;TZID=Europe/Helsinki:20190320T203000
DTSTAMP:20260423T130903
CREATED:20190122T100439Z
LAST-MODIFIED:20190122T100439Z
UID:2115-1553106600-1553113800@www.evankeliset.net
SUMMARY:Nurmes\, Hyvässä seurassa -ilta
DESCRIPTION:
URL:https://www.evankeliset.net/tapahtuma/nurmes-hyvassa-seurassa-ilta/
END:VEVENT
END:VCALENDAR