BEGIN:VCALENDAR
VERSION:2.0
PRODID:-//Evankelinen lähetysyhdistys ELY ry - ECPv6.15.18//NONSGML v1.0//EN
CALSCALE:GREGORIAN
METHOD:PUBLISH
X-WR-CALNAME:Evankelinen lähetysyhdistys ELY ry
X-ORIGINAL-URL:https://www.evankeliset.net
X-WR-CALDESC:Tapahtumat Evankelinen lähetysyhdistys ELY ry
REFRESH-INTERVAL;VALUE=DURATION:PT1H
X-Robots-Tag:noindex
X-PUBLISHED-TTL:PT1H
BEGIN:VTIMEZONE
TZID:Europe/Helsinki
BEGIN:DAYLIGHT
TZOFFSETFROM:+0200
TZOFFSETTO:+0300
TZNAME:EEST
DTSTART:20180325T010000
END:DAYLIGHT
BEGIN:STANDARD
TZOFFSETFROM:+0300
TZOFFSETTO:+0200
TZNAME:EET
DTSTART:20181028T010000
END:STANDARD
BEGIN:DAYLIGHT
TZOFFSETFROM:+0200
TZOFFSETTO:+0300
TZNAME:EEST
DTSTART:20190331T010000
END:DAYLIGHT
BEGIN:STANDARD
TZOFFSETFROM:+0300
TZOFFSETTO:+0200
TZNAME:EET
DTSTART:20191027T010000
END:STANDARD
BEGIN:DAYLIGHT
TZOFFSETFROM:+0200
TZOFFSETTO:+0300
TZNAME:EEST
DTSTART:20200329T010000
END:DAYLIGHT
BEGIN:STANDARD
TZOFFSETFROM:+0300
TZOFFSETTO:+0200
TZNAME:EET
DTSTART:20201025T010000
END:STANDARD
END:VTIMEZONE
BEGIN:VEVENT
DTSTART;TZID=Europe/Helsinki:20190401T130000
DTEND;TZID=Europe/Helsinki:20190401T150000
DTSTAMP:20260423T144015
CREATED:20181010T082733Z
LAST-MODIFIED:20181010T082733Z
UID:1605-1554123600-1554130800@www.evankeliset.net
SUMMARY:Kurikka\, Siionin kannel seurat
DESCRIPTION:
URL:https://www.evankeliset.net/tapahtuma/kurikka-siionin-kannel-seurat-14/
END:VEVENT
BEGIN:VEVENT
DTSTART;TZID=Europe/Helsinki:20190401T140000
DTEND;TZID=Europe/Helsinki:20190401T160000
DTSTAMP:20260423T144015
CREATED:20190109T130922Z
LAST-MODIFIED:20190109T130922Z
UID:1926-1554127200-1554134400@www.evankeliset.net
SUMMARY:Kouvola\, Lähetyspiiri
DESCRIPTION:
URL:https://www.evankeliset.net/tapahtuma/kouvola-lahetyspiiri-7/
END:VEVENT
BEGIN:VEVENT
DTSTART;TZID=Europe/Helsinki:20190401T180000
DTEND;TZID=Europe/Helsinki:20190401T200000
DTSTAMP:20260423T144015
CREATED:20180618T062632Z
LAST-MODIFIED:20180618T062709Z
UID:1043-1554141600-1554148800@www.evankeliset.net
SUMMARY:Salo\, Raamattupäivä
DESCRIPTION:
URL:https://www.evankeliset.net/tapahtuma/salo-raamattupaiva/
END:VEVENT
BEGIN:VEVENT
DTSTART;TZID=Europe/Helsinki:20190402T130000
DTEND;TZID=Europe/Helsinki:20190402T150000
DTSTAMP:20260423T144015
CREATED:20181219T090458Z
LAST-MODIFIED:20190121T175535Z
UID:1880-1554210000-1554217200@www.evankeliset.net
SUMMARY:Keuruu\, Siionin Kanteleen lauluseurat
DESCRIPTION:
URL:https://www.evankeliset.net/tapahtuma/keuruu-siionin-kanteleen-lauluseurat-2/
END:VEVENT
BEGIN:VEVENT
DTSTART;TZID=Europe/Helsinki:20190402T180000
DTEND;TZID=Europe/Helsinki:20190402T200000
DTSTAMP:20260423T144015
CREATED:20181025T054427Z
LAST-MODIFIED:20181214T091806Z
UID:1713-1554228000-1554235200@www.evankeliset.net
SUMMARY:Riihimäki\, Siionin Kannel -seurat
DESCRIPTION:
URL:https://www.evankeliset.net/tapahtuma/riihimaki-siionin-kannel-seurat-5/
END:VEVENT
BEGIN:VEVENT
DTSTART;TZID=Europe/Helsinki:20190403T100000
DTEND;TZID=Europe/Helsinki:20190403T140000
DTSTAMP:20260423T144015
CREATED:20190325T120450Z
LAST-MODIFIED:20190325T120450Z
UID:2347-1554285600-1554300000@www.evankeliset.net
SUMMARY:Kokkola\, Lähetyssoppi
DESCRIPTION:
URL:https://www.evankeliset.net/tapahtuma/kokkola-lahetyssoppi-9/
END:VEVENT
BEGIN:VEVENT
DTSTART;TZID=Europe/Helsinki:20190407T100000
DTEND;TZID=Europe/Helsinki:20190407T120000
DTSTAMP:20260423T144015
CREATED:20190110T124330Z
LAST-MODIFIED:20190110T124330Z
UID:1987-1554631200-1554638400@www.evankeliset.net
SUMMARY:Lappeenranta\,Lappeen srk\, kirkkopyhä
DESCRIPTION:
URL:https://www.evankeliset.net/tapahtuma/lappeenrantalappeen-srk-kirkkopyha/
END:VEVENT
BEGIN:VEVENT
DTSTART;TZID=Europe/Helsinki:20190407T100000
DTEND;TZID=Europe/Helsinki:20190407T130000
DTSTAMP:20260423T144015
CREATED:20181220T150233Z
LAST-MODIFIED:20181220T150233Z
UID:1900-1554631200-1554642000@www.evankeliset.net
SUMMARY:Tampere\, tuomiokirkko\, kirkkopyhä
DESCRIPTION:
URL:https://www.evankeliset.net/tapahtuma/tampere-tuomiokirkko-kirkkopyha/
END:VEVENT
BEGIN:VEVENT
DTSTART;TZID=Europe/Helsinki:20190407T100000
DTEND;TZID=Europe/Helsinki:20190407T140000
DTSTAMP:20260423T144015
CREATED:20181120T100151Z
LAST-MODIFIED:20181211T101840Z
UID:1817-1554631200-1554645600@www.evankeliset.net
SUMMARY:Karstula\, Kirkkopyhä
DESCRIPTION:
URL:https://www.evankeliset.net/tapahtuma/karstula-kirkkopyha/
END:VEVENT
BEGIN:VEVENT
DTSTART;TZID=Europe/Helsinki:20190407T100000
DTEND;TZID=Europe/Helsinki:20190407T140000
DTSTAMP:20260423T144015
CREATED:20181122T102741Z
LAST-MODIFIED:20190308T085750Z
UID:1823-1554631200-1554645600@www.evankeliset.net
SUMMARY:Evijärvi\, Kirkkopyhä ja Siionin Kannel seurat
DESCRIPTION:
URL:https://www.evankeliset.net/tapahtuma/evijarvi-kirkkopyha/
END:VEVENT
BEGIN:VEVENT
DTSTART;TZID=Europe/Helsinki:20190409T090000
DTEND;TZID=Europe/Helsinki:20190409T110000
DTSTAMP:20260423T144015
CREATED:20190110T124434Z
LAST-MODIFIED:20190110T124434Z
UID:1989-1554800400-1554807600@www.evankeliset.net
SUMMARY:Kerimäki\, virkistyskerho
DESCRIPTION:
URL:https://www.evankeliset.net/tapahtuma/kerimaki-virkistyskerho/
END:VEVENT
BEGIN:VEVENT
DTSTART;TZID=Europe/Helsinki:20190411T130000
DTEND;TZID=Europe/Helsinki:20190411T150000
DTSTAMP:20260423T144015
CREATED:20180413T080946Z
LAST-MODIFIED:20190307T162140Z
UID:790-1554987600-1554994800@www.evankeliset.net
SUMMARY:Kauhajoki\, Lauluseurat
DESCRIPTION:
URL:https://www.evankeliset.net/tapahtuma/kauhajoki-lauluseurat-3/
END:VEVENT
BEGIN:VEVENT
DTSTART;VALUE=DATE:20190413
DTEND;VALUE=DATE:20190414
DTSTAMP:20260423T144015
CREATED:20190110T124627Z
LAST-MODIFIED:20190110T124627Z
UID:1991-1555113600-1555199999@www.evankeliset.net
SUMMARY:Kiteen opisto\, Raamattupäivät
DESCRIPTION:
URL:https://www.evankeliset.net/tapahtuma/kiteen-opisto-raamattupaivat/
END:VEVENT
BEGIN:VEVENT
DTSTART;TZID=Europe/Helsinki:20190414T120000
DTEND;TZID=Europe/Helsinki:20190414T150000
DTSTAMP:20260423T144015
CREATED:20190110T124728Z
LAST-MODIFIED:20190110T124728Z
UID:1993-1555243200-1555254000@www.evankeliset.net
SUMMARY:Kiteen opisto\,Raamattupäivät
DESCRIPTION:
URL:https://www.evankeliset.net/tapahtuma/kiteen-opistoraamattupaivat/
END:VEVENT
BEGIN:VEVENT
DTSTART;TZID=Europe/Helsinki:20190414T183000
DTEND;TZID=Europe/Helsinki:20190414T200000
DTSTAMP:20260423T144015
CREATED:20190204T114147Z
LAST-MODIFIED:20190220T071020Z
UID:2168-1555266600-1555272000@www.evankeliset.net
SUMMARY:Himanka\, seurat
DESCRIPTION:
URL:https://www.evankeliset.net/tapahtuma/himanka-seurat/
END:VEVENT
BEGIN:VEVENT
DTSTART;TZID=Europe/Helsinki:20190415T130000
DTEND;TZID=Europe/Helsinki:20190415T150000
DTSTAMP:20260423T144015
CREATED:20181010T083007Z
LAST-MODIFIED:20181010T083007Z
UID:1608-1555333200-1555340400@www.evankeliset.net
SUMMARY:Kurikka\, Siionin kannel seurat
DESCRIPTION:
URL:https://www.evankeliset.net/tapahtuma/kurikka-siionin-kannel-seurat-15/
END:VEVENT
BEGIN:VEVENT
DTSTART;TZID=Europe/Helsinki:20190415T140000
DTEND;TZID=Europe/Helsinki:20190415T160000
DTSTAMP:20260423T144015
CREATED:20190109T131029Z
LAST-MODIFIED:20190109T131029Z
UID:1928-1555336800-1555344000@www.evankeliset.net
SUMMARY:Kouvola\, Lähetyspiiri
DESCRIPTION:
URL:https://www.evankeliset.net/tapahtuma/kouvola-lahetyspiiri-8/
END:VEVENT
BEGIN:VEVENT
DTSTART;TZID=Europe/Helsinki:20190415T190000
DTEND;TZID=Europe/Helsinki:20190415T200000
DTSTAMP:20260423T144015
CREATED:20181101T125340Z
LAST-MODIFIED:20190313T093023Z
UID:1771-1555354800-1555358400@www.evankeliset.net
SUMMARY:Jalasjärvi\, Iltakirkko
DESCRIPTION:
URL:https://www.evankeliset.net/tapahtuma/jalasjarvi-iltakirkko/
END:VEVENT
BEGIN:VEVENT
DTSTART;TZID=Europe/Helsinki:20190416T080000
DTEND;TZID=Europe/Helsinki:20190416T170000
DTSTAMP:20260423T144015
CREATED:20190110T124810Z
LAST-MODIFIED:20190110T124810Z
UID:1995-1555401600-1555434000@www.evankeliset.net
SUMMARY:Juva\,Raamattuluento
DESCRIPTION:
URL:https://www.evankeliset.net/tapahtuma/juvaraamattuluento-2/
END:VEVENT
BEGIN:VEVENT
DTSTART;TZID=Europe/Helsinki:20190416T133000
DTEND;TZID=Europe/Helsinki:20190416T153000
DTSTAMP:20260423T144015
CREATED:20190118T064413Z
LAST-MODIFIED:20190118T064413Z
UID:2025-1555421400-1555428600@www.evankeliset.net
SUMMARY:Forssa\, Siionin Kannel -seurat
DESCRIPTION:
URL:https://www.evankeliset.net/tapahtuma/forssa-siionin-kannel-seurat-7/
END:VEVENT
BEGIN:VEVENT
DTSTART;TZID=Europe/Helsinki:20190416T190000
DTEND;TZID=Europe/Helsinki:20190416T190000
DTSTAMP:20260423T144015
CREATED:20190121T180142Z
LAST-MODIFIED:20190313T093519Z
UID:2059-1555441200-1555441200@www.evankeliset.net
SUMMARY:Alahärmä\, Laula kanssain
DESCRIPTION:
URL:https://www.evankeliset.net/tapahtuma/alaharma-laula-kanssain/
END:VEVENT
BEGIN:VEVENT
DTSTART;TZID=Europe/Helsinki:20190417T090000
DTEND;TZID=Europe/Helsinki:20190417T120000
DTSTAMP:20260423T144015
CREATED:20190121T180348Z
LAST-MODIFIED:20190415T060452Z
UID:2061-1555491600-1555502400@www.evankeliset.net
SUMMARY:Laula kanssain
DESCRIPTION:
URL:https://www.evankeliset.net/tapahtuma/laula-kanssain/
END:VEVENT
BEGIN:VEVENT
DTSTART;TZID=Europe/Helsinki:20190418T093000
DTEND;TZID=Europe/Helsinki:20190418T140000
DTSTAMP:20260423T144015
CREATED:20190121T180530Z
LAST-MODIFIED:20190121T180530Z
UID:2063-1555579800-1555596000@www.evankeliset.net
SUMMARY:Laula kanssain
DESCRIPTION:
URL:https://www.evankeliset.net/tapahtuma/laula-kanssain-2/
END:VEVENT
BEGIN:VEVENT
DTSTART;TZID=Europe/Helsinki:20190418T100000
DTEND;TZID=Europe/Helsinki:20190418T120000
DTSTAMP:20260423T144015
CREATED:20190122T120020Z
LAST-MODIFIED:20190313T094726Z
UID:2119-1555581600-1555588800@www.evankeliset.net
SUMMARY:Tiistenjoki\, Laulaen pääsiäiseen
DESCRIPTION:
URL:https://www.evankeliset.net/tapahtuma/tiistenjoki-laulaen-paasiaiseen/
END:VEVENT
BEGIN:VEVENT
DTSTART;TZID=Europe/Helsinki:20190418T113000
DTEND;TZID=Europe/Helsinki:20190418T130000
DTSTAMP:20260423T144015
CREATED:20190121T180645Z
LAST-MODIFIED:20190415T060416Z
UID:2065-1555587000-1555592400@www.evankeliset.net
SUMMARY:Alahärmä\, Laula kanssain
DESCRIPTION:
URL:https://www.evankeliset.net/tapahtuma/alaharma-laula-kanssain-2/
END:VEVENT
BEGIN:VEVENT
DTSTART;TZID=Europe/Helsinki:20190419T100000
DTEND;TZID=Europe/Helsinki:20190419T130000
DTSTAMP:20260423T144015
CREATED:20190416T083544Z
LAST-MODIFIED:20190416T083739Z
UID:2424-1555668000-1555678800@www.evankeliset.net
SUMMARY:Hamina\, sanajumalanpalvelus ja ristinjuhla
DESCRIPTION:
URL:https://www.evankeliset.net/tapahtuma/2424/
END:VEVENT
BEGIN:VEVENT
DTSTART;TZID=Europe/Helsinki:20190419T140000
DTEND;TZID=Europe/Helsinki:20190419T170000
DTSTAMP:20260423T144015
CREATED:20181010T083214Z
LAST-MODIFIED:20190313T145404Z
UID:1610-1555682400-1555693200@www.evankeliset.net
SUMMARY:Seinäjoki\, Ristinjuhla
DESCRIPTION:
URL:https://www.evankeliset.net/tapahtuma/seinajoki-ristinjuhla/
END:VEVENT
BEGIN:VEVENT
DTSTART;TZID=Europe/Helsinki:20190423T180000
DTEND;TZID=Europe/Helsinki:20190423T200000
DTSTAMP:20260423T144015
CREATED:20180618T062506Z
LAST-MODIFIED:20180618T062506Z
UID:1041-1556042400-1556049600@www.evankeliset.net
SUMMARY:Salo\, Siionin Kannel -seurat
DESCRIPTION:
URL:https://www.evankeliset.net/tapahtuma/salo-siionin-kannel-seurat-4/
END:VEVENT
BEGIN:VEVENT
DTSTART;TZID=Europe/Helsinki:20190423T180000
DTEND;TZID=Europe/Helsinki:20190423T200000
DTSTAMP:20260423T144015
CREATED:20181101T121939Z
LAST-MODIFIED:20190408T153127Z
UID:1762-1556042400-1556049600@www.evankeliset.net
SUMMARY:Alavus\, lauluseurat
DESCRIPTION:
URL:https://www.evankeliset.net/tapahtuma/alavus-lauluseurat-6/
END:VEVENT
BEGIN:VEVENT
DTSTART;TZID=Europe/Helsinki:20190425T080000
DTEND;TZID=Europe/Helsinki:20190425T170000
DTSTAMP:20260423T144015
CREATED:20190110T124851Z
LAST-MODIFIED:20190110T124851Z
UID:1997-1556179200-1556211600@www.evankeliset.net
SUMMARY:Sulkava\,Raamattuluento
DESCRIPTION:
URL:https://www.evankeliset.net/tapahtuma/sulkavaraamattuluento-3/
END:VEVENT
END:VCALENDAR