BEGIN:VCALENDAR
VERSION:2.0
PRODID:-//Evankelinen lähetysyhdistys ELY ry - ECPv6.15.18//NONSGML v1.0//EN
CALSCALE:GREGORIAN
METHOD:PUBLISH
X-ORIGINAL-URL:https://www.evankeliset.net
X-WR-CALDESC:Tapahtumat Evankelinen lähetysyhdistys ELY ry
REFRESH-INTERVAL;VALUE=DURATION:PT1H
X-Robots-Tag:noindex
X-PUBLISHED-TTL:PT1H
BEGIN:VTIMEZONE
TZID:Europe/Helsinki
BEGIN:DAYLIGHT
TZOFFSETFROM:+0200
TZOFFSETTO:+0300
TZNAME:EEST
DTSTART:20180325T010000
END:DAYLIGHT
BEGIN:STANDARD
TZOFFSETFROM:+0300
TZOFFSETTO:+0200
TZNAME:EET
DTSTART:20181028T010000
END:STANDARD
BEGIN:DAYLIGHT
TZOFFSETFROM:+0200
TZOFFSETTO:+0300
TZNAME:EEST
DTSTART:20190331T010000
END:DAYLIGHT
BEGIN:STANDARD
TZOFFSETFROM:+0300
TZOFFSETTO:+0200
TZNAME:EET
DTSTART:20191027T010000
END:STANDARD
BEGIN:DAYLIGHT
TZOFFSETFROM:+0200
TZOFFSETTO:+0300
TZNAME:EEST
DTSTART:20200329T010000
END:DAYLIGHT
BEGIN:STANDARD
TZOFFSETFROM:+0300
TZOFFSETTO:+0200
TZNAME:EET
DTSTART:20201025T010000
END:STANDARD
END:VTIMEZONE
BEGIN:VEVENT
DTSTART;TZID=Europe/Helsinki:20190703T190000
DTEND;TZID=Europe/Helsinki:20190703T210000
DTSTAMP:20260423T192958
CREATED:20190326T174656Z
LAST-MODIFIED:20190502T122303Z
UID:2365-1562180400-1562187600@www.evankeliset.net
SUMMARY:Kauhajärvi\, Kesäkirkko
DESCRIPTION:
URL:https://www.evankeliset.net/tapahtuma/kauhajarvi-kesakirkko/
END:VEVENT
BEGIN:VEVENT
DTSTART;TZID=Europe/Helsinki:20190704T180000
DTEND;TZID=Europe/Helsinki:20190704T200000
DTSTAMP:20260423T192958
CREATED:20190308T091822Z
LAST-MODIFIED:20190618T104354Z
UID:2280-1562263200-1562270400@www.evankeliset.net
SUMMARY:Teuva\, Kesäkirkko
DESCRIPTION:
URL:https://www.evankeliset.net/tapahtuma/teuva-kesakirkko-2/
END:VEVENT
BEGIN:VEVENT
DTSTART;TZID=Europe/Helsinki:20190707T190000
DTEND;TZID=Europe/Helsinki:20190707T210000
DTSTAMP:20260423T192958
CREATED:20190326T174820Z
LAST-MODIFIED:20190502T081716Z
UID:2368-1562526000-1562533200@www.evankeliset.net
SUMMARY:Tiistenjoki\, kesäkirkko
DESCRIPTION:
URL:https://www.evankeliset.net/tapahtuma/tiistenjoki-kesakirkko/
END:VEVENT
BEGIN:VEVENT
DTSTART;TZID=Europe/Helsinki:20190716T190000
DTEND;TZID=Europe/Helsinki:20190716T203000
DTSTAMP:20260423T192958
CREATED:20190326T173747Z
LAST-MODIFIED:20190502T081843Z
UID:2359-1563303600-1563309000@www.evankeliset.net
SUMMARY:Himanka\, Kesäseurat
DESCRIPTION:
URL:https://www.evankeliset.net/tapahtuma/himanka-kesaseurat/
END:VEVENT
BEGIN:VEVENT
DTSTART;TZID=Europe/Helsinki:20190717T130000
DTEND;TZID=Europe/Helsinki:20190717T170000
DTSTAMP:20260423T192958
CREATED:20190513T073836Z
LAST-MODIFIED:20190513T073836Z
UID:2531-1563368400-1563382800@www.evankeliset.net
SUMMARY:Ilmajoki\, Retkipäivä Myllylammelle
DESCRIPTION:
URL:https://www.evankeliset.net/tapahtuma/ilmajoki-retkipaiva-myllylammelle/
END:VEVENT
BEGIN:VEVENT
DTSTART;TZID=Europe/Helsinki:20190722T180000
DTEND;TZID=Europe/Helsinki:20190722T200000
DTSTAMP:20260423T192958
CREATED:20190513T074230Z
LAST-MODIFIED:20190513T074230Z
UID:2533-1563818400-1563825600@www.evankeliset.net
SUMMARY:Toholampi\, Mökkiseurat
DESCRIPTION:
URL:https://www.evankeliset.net/tapahtuma/toholampi-mokkiseurat/
END:VEVENT
BEGIN:VEVENT
DTSTART;TZID=Europe/Helsinki:20190725T180000
DTEND;TZID=Europe/Helsinki:20190725T200000
DTSTAMP:20260423T192958
CREATED:20190131T111346Z
LAST-MODIFIED:20190629T090322Z
UID:2144-1564077600-1564084800@www.evankeliset.net
SUMMARY:Lapua\, Seppämestarin pihaseurat
DESCRIPTION:
URL:https://www.evankeliset.net/tapahtuma/lapua-seppamestarin-seurat-2/
END:VEVENT
END:VCALENDAR