BEGIN:VCALENDAR
VERSION:2.0
PRODID:-//Evankelinen lähetysyhdistys ELY ry - ECPv6.15.18//NONSGML v1.0//EN
CALSCALE:GREGORIAN
METHOD:PUBLISH
X-ORIGINAL-URL:https://www.evankeliset.net
X-WR-CALDESC:Tapahtumat Evankelinen lähetysyhdistys ELY ry
REFRESH-INTERVAL;VALUE=DURATION:PT1H
X-Robots-Tag:noindex
X-PUBLISHED-TTL:PT1H
BEGIN:VTIMEZONE
TZID:Europe/Helsinki
BEGIN:DAYLIGHT
TZOFFSETFROM:+0200
TZOFFSETTO:+0300
TZNAME:EEST
DTSTART:20200329T010000
END:DAYLIGHT
BEGIN:STANDARD
TZOFFSETFROM:+0300
TZOFFSETTO:+0200
TZNAME:EET
DTSTART:20201025T010000
END:STANDARD
BEGIN:DAYLIGHT
TZOFFSETFROM:+0200
TZOFFSETTO:+0300
TZNAME:EEST
DTSTART:20210328T010000
END:DAYLIGHT
BEGIN:STANDARD
TZOFFSETFROM:+0300
TZOFFSETTO:+0200
TZNAME:EET
DTSTART:20211031T010000
END:STANDARD
BEGIN:DAYLIGHT
TZOFFSETFROM:+0200
TZOFFSETTO:+0300
TZNAME:EEST
DTSTART:20220327T010000
END:DAYLIGHT
BEGIN:STANDARD
TZOFFSETFROM:+0300
TZOFFSETTO:+0200
TZNAME:EET
DTSTART:20221030T010000
END:STANDARD
END:VTIMEZONE
BEGIN:VEVENT
DTSTART;TZID=Europe/Helsinki:20210202T180000
DTEND;TZID=Europe/Helsinki:20210202T200000
DTSTAMP:20260423T023525
CREATED:20210128T082827Z
LAST-MODIFIED:20210128T083051Z
UID:5070-1612288800-1612296000@www.evankeliset.net
SUMMARY:Hamina\, Hyvässä seurassa ilta\, striimaus
DESCRIPTION:
URL:https://www.evankeliset.net/tapahtuma/hamina-hyvassa-seurassa-ilta-striimaus/
END:VEVENT
BEGIN:VEVENT
DTSTART;TZID=Europe/Helsinki:20210203T120000
DTEND;TZID=Europe/Helsinki:20210203T123000
DTSTAMP:20260423T023525
CREATED:20210129T065620Z
LAST-MODIFIED:20210130T173830Z
UID:5076-1612353600-1612355400@www.evankeliset.net
SUMMARY:Pispalan Radiossa\, Miten tämä meihin liittyy?
DESCRIPTION:
URL:https://www.evankeliset.net/tapahtuma/pispalan-radiossa-miten-tama-meihin-liittyy/
CATEGORIES:Tilaisuudet netissä
END:VEVENT
BEGIN:VEVENT
DTSTART;TZID=Europe/Helsinki:20210207T140000
DTEND;TZID=Europe/Helsinki:20210207T150000
DTSTAMP:20260423T023525
CREATED:20210127T103805Z
LAST-MODIFIED:20210127T103805Z
UID:5058-1612706400-1612710000@www.evankeliset.net
SUMMARY:Striimi: Sulkava\, Israel-iltapäivä
DESCRIPTION:
URL:https://www.evankeliset.net/tapahtuma/striimi-sulkava-israel-iltapaiva/
CATEGORIES:Tilaisuudet netissä
END:VEVENT
BEGIN:VEVENT
DTSTART;TZID=Europe/Helsinki:20210208T130000
DTEND;TZID=Europe/Helsinki:20210208T150000
DTSTAMP:20260423T023525
CREATED:20201118T130915Z
LAST-MODIFIED:20210129T083248Z
UID:4641-1612789200-1612796400@www.evankeliset.net
SUMMARY:PERUTTU\, Kurikka\, Raamattuluento
DESCRIPTION:
URL:https://www.evankeliset.net/tapahtuma/kurikka-raamattuluento-2/
END:VEVENT
BEGIN:VEVENT
DTSTART;TZID=Europe/Helsinki:20210209T180000
DTEND;TZID=Europe/Helsinki:20210209T190000
DTSTAMP:20260423T023525
CREATED:20210127T104123Z
LAST-MODIFIED:20210127T104123Z
UID:5061-1612893600-1612897200@www.evankeliset.net
SUMMARY:Striimi: Savonlinna\, Raamattuluento
DESCRIPTION:
URL:https://www.evankeliset.net/tapahtuma/striimi-savonlinna-raamattuluento/
CATEGORIES:Tilaisuudet netissä
END:VEVENT
BEGIN:VEVENT
DTSTART;TZID=Europe/Helsinki:20210210T120000
DTEND;TZID=Europe/Helsinki:20210210T123000
DTSTAMP:20260423T023525
CREATED:20210129T065917Z
LAST-MODIFIED:20210129T065917Z
UID:5080-1612958400-1612960200@www.evankeliset.net
SUMMARY:Pispalan Radiossa\, Miten tämä meihin liittyy?
DESCRIPTION:
URL:https://www.evankeliset.net/tapahtuma/pispalan-radiossa-miten-tama-meihin-liittyy-2/
END:VEVENT
BEGIN:VEVENT
DTSTART;TZID=Europe/Helsinki:20210210T140000
DTEND;TZID=Europe/Helsinki:20210210T150000
DTSTAMP:20260423T023525
CREATED:20201117T144738Z
LAST-MODIFIED:20210131T152835Z
UID:4616-1612965600-1612969200@www.evankeliset.net
SUMMARY:Striimi\, Kokkola\, Elyn päiväkahvitilaisuus
DESCRIPTION:
URL:https://www.evankeliset.net/tapahtuma/kokkola-elyn-paivakahvitilaisuus-4/
CATEGORIES:Tilaisuudet netissä
END:VEVENT
BEGIN:VEVENT
DTSTART;TZID=Europe/Helsinki:20210211T130000
DTEND;TZID=Europe/Helsinki:20210211T150000
DTSTAMP:20260423T023525
CREATED:20201117T150659Z
LAST-MODIFIED:20210129T083534Z
UID:4624-1613048400-1613055600@www.evankeliset.net
SUMMARY:PERUTTU\, Kauhajoki\, Raamattuluento
DESCRIPTION:
URL:https://www.evankeliset.net/tapahtuma/kauhajoki-siionin-kanteleen-seurat-2/
END:VEVENT
BEGIN:VEVENT
DTSTART;TZID=Europe/Helsinki:20210214T100000
DTEND;TZID=Europe/Helsinki:20210214T110000
DTSTAMP:20260423T023525
CREATED:20210127T104323Z
LAST-MODIFIED:20210127T104323Z
UID:5063-1613296800-1613300400@www.evankeliset.net
SUMMARY:Striimi: Orimattila\, jumalanpalvelus
DESCRIPTION:
URL:https://www.evankeliset.net/tapahtuma/striimi-orimattila-jumalanpalvelus/
CATEGORIES:Tilaisuudet netissä
END:VEVENT
BEGIN:VEVENT
DTSTART;TZID=Europe/Helsinki:20210214T160000
DTEND;TZID=Europe/Helsinki:20210214T170000
DTSTAMP:20260423T023525
CREATED:20210129T084550Z
LAST-MODIFIED:20210211T135936Z
UID:5102-1613318400-1613322000@www.evankeliset.net
SUMMARY:Striimi\, Ystävänpäiväseurat
DESCRIPTION:
URL:https://www.evankeliset.net/tapahtuma/striimi-ystavanpaivaseurat/
END:VEVENT
BEGIN:VEVENT
DTSTART;TZID=Europe/Helsinki:20210216T170000
DTEND;TZID=Europe/Helsinki:20210216T180000
DTSTAMP:20260423T023525
CREATED:20210210T085003Z
LAST-MODIFIED:20210215T171530Z
UID:5134-1613494800-1613498400@www.evankeliset.net
SUMMARY:Juva\, Raamattuluento
DESCRIPTION:
URL:https://www.evankeliset.net/tapahtuma/juva-raamattuluento-23/
END:VEVENT
BEGIN:VEVENT
DTSTART;TZID=Europe/Helsinki:20210216T173000
DTEND;TZID=Europe/Helsinki:20210216T200000
DTSTAMP:20260423T023525
CREATED:20200917T051449Z
LAST-MODIFIED:20210201T082046Z
UID:4327-1613496600-1613505600@www.evankeliset.net
SUMMARY:PERUTTU Salo\, Siionin kannel -seurat
DESCRIPTION:
URL:https://www.evankeliset.net/tapahtuma/salo-siionin-kannel-seurat-10/
END:VEVENT
BEGIN:VEVENT
DTSTART;TZID=Europe/Helsinki:20210217T120000
DTEND;TZID=Europe/Helsinki:20210217T123000
DTSTAMP:20260423T023525
CREATED:20210131T153115Z
LAST-MODIFIED:20210131T153115Z
UID:5112-1613563200-1613565000@www.evankeliset.net
SUMMARY:Pispalan Radiossa\, Miten tämä meihin liittyy?
DESCRIPTION:
URL:https://www.evankeliset.net/tapahtuma/pispalan-radiossa-miten-tama-meihin-liittyy-6/
CATEGORIES:Tilaisuudet netissä
END:VEVENT
BEGIN:VEVENT
DTSTART;TZID=Europe/Helsinki:20210218T130000
DTEND;TZID=Europe/Helsinki:20210218T140000
DTSTAMP:20260423T023525
CREATED:20210131T152659Z
LAST-MODIFIED:20210202T083944Z
UID:5110-1613653200-1613656800@www.evankeliset.net
SUMMARY:Striimi\, Lappajärvi\, Hyvässä seurassa
DESCRIPTION:
URL:https://www.evankeliset.net/tapahtuma/lappajarvi-hyvassa-seurassa/
CATEGORIES:Tilaisuudet netissä
END:VEVENT
BEGIN:VEVENT
DTSTART;TZID=Europe/Helsinki:20210218T180000
DTEND;TZID=Europe/Helsinki:20210218T193000
DTSTAMP:20260423T023525
CREATED:20210215T171403Z
LAST-MODIFIED:20210215T171403Z
UID:5150-1613671200-1613676600@www.evankeliset.net
SUMMARY:Sulkava\, Raamattuluento
DESCRIPTION:
URL:https://www.evankeliset.net/tapahtuma/sulkava-raamattuluento-28/
END:VEVENT
BEGIN:VEVENT
DTSTART;TZID=Europe/Helsinki:20210221T150000
DTEND;TZID=Europe/Helsinki:20210221T170000
DTSTAMP:20260423T023525
CREATED:20201116T140927Z
LAST-MODIFIED:20210217T075600Z
UID:4589-1613919600-1613926800@www.evankeliset.net
SUMMARY:Seinäjoki\, Siionin kannel seurat
DESCRIPTION:
URL:https://www.evankeliset.net/tapahtuma/seinajoki-siionin-kannel-seurat-6/
END:VEVENT
BEGIN:VEVENT
DTSTART;TZID=Europe/Helsinki:20210222T130000
DTEND;TZID=Europe/Helsinki:20210222T150000
DTSTAMP:20260423T023525
CREATED:20201118T131040Z
LAST-MODIFIED:20210216T193150Z
UID:4643-1613998800-1614006000@www.evankeliset.net
SUMMARY:Striimi\, Kurikka\, Siionin kannel seurat
DESCRIPTION:
URL:https://www.evankeliset.net/tapahtuma/kurikka-raamattuluento-3/
CATEGORIES:Tilaisuudet netissä
END:VEVENT
BEGIN:VEVENT
DTSTART;TZID=Europe/Helsinki:20210223T180000
DTEND;TZID=Europe/Helsinki:20210223T190000
DTSTAMP:20260423T023525
CREATED:20210210T085432Z
LAST-MODIFIED:20210210T085506Z
UID:5138-1614103200-1614106800@www.evankeliset.net
SUMMARY:Savonlinna\, Raamattuluento(myös striimattuna)
DESCRIPTION:
URL:https://www.evankeliset.net/tapahtuma/savonlinna-raamattuluento-12/
CATEGORIES:Tilaisuudet netissä
END:VEVENT
BEGIN:VEVENT
DTSTART;TZID=Europe/Helsinki:20210224T120000
DTEND;TZID=Europe/Helsinki:20210224T123000
DTSTAMP:20260423T023525
CREATED:20210129T070146Z
LAST-MODIFIED:20210129T070146Z
UID:5084-1614168000-1614169800@www.evankeliset.net
SUMMARY:Pispalan Radiossa\, Miten tämä meihin liittyy?
DESCRIPTION:
URL:https://www.evankeliset.net/tapahtuma/pispalan-radiossa-miten-tama-meihin-liittyy-3/
END:VEVENT
BEGIN:VEVENT
DTSTART;TZID=Europe/Helsinki:20210225T130000
DTEND;TZID=Europe/Helsinki:20210225T143000
DTSTAMP:20260423T023525
CREATED:20201120T082607Z
LAST-MODIFIED:20210216T193219Z
UID:4684-1614258000-1614263400@www.evankeliset.net
SUMMARY:Striimaus\, Alavus\, Hyvässä seurassa
DESCRIPTION:
URL:https://www.evankeliset.net/tapahtuma/alavus-hyvassa-seurassa-12/
CATEGORIES:Tilaisuudet netissä
END:VEVENT
BEGIN:VEVENT
DTSTART;TZID=Europe/Helsinki:20210228T100000
DTEND;TZID=Europe/Helsinki:20210228T120000
DTSTAMP:20260423T023525
CREATED:20210210T090448Z
LAST-MODIFIED:20210210T090448Z
UID:5141-1614506400-1614513600@www.evankeliset.net
SUMMARY:Heinävesi\, ELYn kirkkopyhä
DESCRIPTION:
URL:https://www.evankeliset.net/tapahtuma/heinavesi-elyn-kirkkopyha/
END:VEVENT
BEGIN:VEVENT
DTSTART;TZID=Europe/Helsinki:20210228T100000
DTEND;TZID=Europe/Helsinki:20210228T120000
DTSTAMP:20260423T023525
CREATED:20210216T094513Z
LAST-MODIFIED:20210216T192953Z
UID:5156-1614506400-1614513600@www.evankeliset.net
SUMMARY:Radiointi\, Kortesjärvi\, Siionin kannel jumalanpalvelus
DESCRIPTION:
URL:https://www.evankeliset.net/tapahtuma/kortesjarvi-siionin-kannel-jumalanpalvelus/
END:VEVENT
BEGIN:VEVENT
DTSTART;TZID=Europe/Helsinki:20210228T100000
DTEND;TZID=Europe/Helsinki:20210228T130000
DTSTAMP:20260423T023525
CREATED:20201116T140020Z
LAST-MODIFIED:20210223T100110Z
UID:4583-1614506400-1614517200@www.evankeliset.net
SUMMARY:Radiointi: Vimpeli\, Elyn kirkkopyhä
DESCRIPTION:
URL:https://www.evankeliset.net/tapahtuma/vimpeli-elyn-kirkkopyha-2/
CATEGORIES:Tilaisuudet netissä
END:VEVENT
BEGIN:VEVENT
DTSTART;TZID=Europe/Helsinki:20210228T130000
DTEND;TZID=Europe/Helsinki:20210228T160000
DTSTAMP:20260423T023525
CREATED:20210114T111039Z
LAST-MODIFIED:20210202T095405Z
UID:4995-1614517200-1614528000@www.evankeliset.net
SUMMARY:Hyvinkää\, Ehtoollishartaus\, max 8 hlöä kerralla
DESCRIPTION:
URL:https://www.evankeliset.net/tapahtuma/hyvinkaa-messu-ja-siionin-kannel-seurat-4/
END:VEVENT
END:VCALENDAR