BEGIN:VCALENDAR
VERSION:2.0
PRODID:-//Evankelinen lähetysyhdistys ELY ry - ECPv6.15.18//NONSGML v1.0//EN
CALSCALE:GREGORIAN
METHOD:PUBLISH
X-ORIGINAL-URL:https://www.evankeliset.net
X-WR-CALDESC:Tapahtumat Evankelinen lähetysyhdistys ELY ry
REFRESH-INTERVAL;VALUE=DURATION:PT1H
X-Robots-Tag:noindex
X-PUBLISHED-TTL:PT1H
BEGIN:VTIMEZONE
TZID:Europe/Helsinki
BEGIN:DAYLIGHT
TZOFFSETFROM:+0200
TZOFFSETTO:+0300
TZNAME:EEST
DTSTART:20200329T010000
END:DAYLIGHT
BEGIN:STANDARD
TZOFFSETFROM:+0300
TZOFFSETTO:+0200
TZNAME:EET
DTSTART:20201025T010000
END:STANDARD
BEGIN:DAYLIGHT
TZOFFSETFROM:+0200
TZOFFSETTO:+0300
TZNAME:EEST
DTSTART:20210328T010000
END:DAYLIGHT
BEGIN:STANDARD
TZOFFSETFROM:+0300
TZOFFSETTO:+0200
TZNAME:EET
DTSTART:20211031T010000
END:STANDARD
BEGIN:DAYLIGHT
TZOFFSETFROM:+0200
TZOFFSETTO:+0300
TZNAME:EEST
DTSTART:20220327T010000
END:DAYLIGHT
BEGIN:STANDARD
TZOFFSETFROM:+0300
TZOFFSETTO:+0200
TZNAME:EET
DTSTART:20221030T010000
END:STANDARD
END:VTIMEZONE
BEGIN:VEVENT
DTSTART;TZID=Europe/Helsinki:20210303T120000
DTEND;TZID=Europe/Helsinki:20210303T123000
DTSTAMP:20260423T014830
CREATED:20210129T070343Z
LAST-MODIFIED:20210129T070343Z
UID:5086-1614772800-1614774600@www.evankeliset.net
SUMMARY:Pispalan Radiossa\, Miten tämä meihin liittyy?
DESCRIPTION:
URL:https://www.evankeliset.net/tapahtuma/pispalan-radiossa-miten-tama-meihin-liittyy-4/
END:VEVENT
BEGIN:VEVENT
DTSTART;TZID=Europe/Helsinki:20210304T130000
DTEND;TZID=Europe/Helsinki:20210304T140000
DTSTAMP:20260423T014830
CREATED:20210129T095054Z
LAST-MODIFIED:20210303T163042Z
UID:5106-1614862800-1614866400@www.evankeliset.net
SUMMARY:Striimi\, Lohtaja\, Hyvässä seurassa
DESCRIPTION:
URL:https://www.evankeliset.net/tapahtuma/striimi-hyvassa-seurassa/
CATEGORIES:Tilaisuudet netissä
END:VEVENT
BEGIN:VEVENT
DTSTART;TZID=Europe/Helsinki:20210308T130000
DTEND;TZID=Europe/Helsinki:20210308T150000
DTSTAMP:20260423T014830
CREATED:20201118T131216Z
LAST-MODIFIED:20210302T111309Z
UID:4646-1615208400-1615215600@www.evankeliset.net
SUMMARY:PERUTTU\, Kurikka\, Siionin kannel seurat
DESCRIPTION:
URL:https://www.evankeliset.net/tapahtuma/kurikka-raamattuluento-4/
END:VEVENT
BEGIN:VEVENT
DTSTART;TZID=Europe/Helsinki:20210309T180000
DTEND;TZID=Europe/Helsinki:20210309T190000
DTSTAMP:20260423T014830
CREATED:20210303T090519Z
LAST-MODIFIED:20210303T090533Z
UID:5195-1615312800-1615316400@www.evankeliset.net
SUMMARY:Striimi: Raamattuluento Savonlinnassa
DESCRIPTION:
URL:https://www.evankeliset.net/tapahtuma/striimi-raamattuluento-savonlinnassa/
CATEGORIES:Tilaisuudet netissä
END:VEVENT
BEGIN:VEVENT
DTSTART;TZID=Europe/Helsinki:20210310T120000
DTEND;TZID=Europe/Helsinki:20210310T123000
DTSTAMP:20260423T014830
CREATED:20210129T071652Z
LAST-MODIFIED:20210129T071652Z
UID:5088-1615377600-1615379400@www.evankeliset.net
SUMMARY:Pispalan Radio\, MIten tämä meihin liittyy?
DESCRIPTION:
URL:https://www.evankeliset.net/tapahtuma/pispalan-radio-miten-tama-meihin-liittyy/
END:VEVENT
BEGIN:VEVENT
DTSTART;TZID=Europe/Helsinki:20210310T133000
DTEND;TZID=Europe/Helsinki:20210310T150000
DTSTAMP:20260423T014830
CREATED:20201117T144934Z
LAST-MODIFIED:20210209T081203Z
UID:4618-1615383000-1615388400@www.evankeliset.net
SUMMARY:Kokkola\, Elyn päiväkahvitilaisuus
DESCRIPTION:
URL:https://www.evankeliset.net/tapahtuma/kokkola-elyn-paivakahvitilaisuus-5/
END:VEVENT
BEGIN:VEVENT
DTSTART;TZID=Europe/Helsinki:20210311T130000
DTEND;TZID=Europe/Helsinki:20210311T150000
DTSTAMP:20260423T014830
CREATED:20201117T150815Z
LAST-MODIFIED:20210302T111425Z
UID:4626-1615467600-1615474800@www.evankeliset.net
SUMMARY:Peruttu\, Kauhajoki\,Siionin kannel seurat
DESCRIPTION:
URL:https://www.evankeliset.net/tapahtuma/kauhajoki-siionin-kanteleen-seurat-3/
CATEGORIES:Tilaisuudet netissä
END:VEVENT
BEGIN:VEVENT
DTSTART;TZID=Europe/Helsinki:20210311T130000
DTEND;TZID=Europe/Helsinki:20210311T150000
DTSTAMP:20260423T014830
CREATED:20210303T104341Z
LAST-MODIFIED:20210303T163237Z
UID:5197-1615467600-1615474800@www.evankeliset.net
SUMMARY:STRIIMI\, Lapua\, Hyvässä seurassa -seurahetki
DESCRIPTION:
URL:https://www.evankeliset.net/tapahtuma/striimi-hyvassa-seurassa-seurahetki/
CATEGORIES:Tilaisuudet netissä
END:VEVENT
BEGIN:VEVENT
DTSTART;TZID=Europe/Helsinki:20210314T100000
DTEND;TZID=Europe/Helsinki:20210314T140000
DTSTAMP:20260423T014830
CREATED:20201116T140639Z
LAST-MODIFIED:20210209T081325Z
UID:4585-1615716000-1615730400@www.evankeliset.net
SUMMARY:SIIRRETÄÄN\, Perho\, Elyn kirkkopyhä\, perhekirkko
DESCRIPTION:
URL:https://www.evankeliset.net/tapahtuma/perho-elyn-kirkkopyha-perhekirkko/
END:VEVENT
BEGIN:VEVENT
DTSTART;TZID=Europe/Helsinki:20210314T150000
DTEND;TZID=Europe/Helsinki:20210314T170000
DTSTAMP:20260423T014830
CREATED:20201117T143922Z
LAST-MODIFIED:20210302T111611Z
UID:4610-1615734000-1615741200@www.evankeliset.net
SUMMARY:Peruttu\, Seinäjoki\, Siionin kannel seurat
DESCRIPTION:
URL:https://www.evankeliset.net/tapahtuma/seinajoki-siionin-kannel-seurat-9/
END:VEVENT
BEGIN:VEVENT
DTSTART;TZID=Europe/Helsinki:20210316T173000
DTEND;TZID=Europe/Helsinki:20210316T200000
DTSTAMP:20260423T014830
CREATED:20200917T051606Z
LAST-MODIFIED:20200917T051606Z
UID:4329-1615915800-1615924800@www.evankeliset.net
SUMMARY:Salo\, Siionin kannel -seurat
DESCRIPTION:
URL:https://www.evankeliset.net/tapahtuma/salo-siionin-kannel-seurat-11/
END:VEVENT
BEGIN:VEVENT
DTSTART;TZID=Europe/Helsinki:20210317T120000
DTEND;TZID=Europe/Helsinki:20210317T123000
DTSTAMP:20260423T014830
CREATED:20210129T071756Z
LAST-MODIFIED:20210129T071756Z
UID:5090-1615982400-1615984200@www.evankeliset.net
SUMMARY:Pispalan Radiossa\, Miten tämä meihin liittyy?
DESCRIPTION:
URL:https://www.evankeliset.net/tapahtuma/pispalan-radiossa-miten-tama-meihin-liittyy-5/
END:VEVENT
BEGIN:VEVENT
DTSTART;TZID=Europe/Helsinki:20210317T173000
DTEND;TZID=Europe/Helsinki:20210317T180000
DTSTAMP:20260423T014830
CREATED:20210317T080537Z
LAST-MODIFIED:20210317T080537Z
UID:5225-1616002200-1616004000@www.evankeliset.net
SUMMARY:Radio Scoop\, Miten tämä meihin liittyy?
DESCRIPTION:
URL:https://www.evankeliset.net/tapahtuma/radio-scoop-miten-tama-meihin-liittyy/
CATEGORIES:Tilaisuudet netissä
END:VEVENT
BEGIN:VEVENT
DTSTART;TZID=Europe/Helsinki:20210318T180000
DTEND;TZID=Europe/Helsinki:20210318T190000
DTSTAMP:20260423T014830
CREATED:20210315T105905Z
LAST-MODIFIED:20210315T105905Z
UID:5223-1616090400-1616094000@www.evankeliset.net
SUMMARY:Sulkava\, Raamattuluento
DESCRIPTION:
URL:https://www.evankeliset.net/tapahtuma/sulkava-raamattuluento-27/
END:VEVENT
BEGIN:VEVENT
DTSTART;TZID=Europe/Helsinki:20210321T100000
DTEND;TZID=Europe/Helsinki:20210321T130000
DTSTAMP:20260423T014830
CREATED:20201118T114721Z
LAST-MODIFIED:20210307T104439Z
UID:4635-1616320800-1616331600@www.evankeliset.net
SUMMARY:Peräseinäjoki\, Elyn kirkkopyhä
DESCRIPTION:
URL:https://www.evankeliset.net/tapahtuma/peraseinajoki-elyn-kirkkopyha-2/
CATEGORIES:Tilaisuudet netissä
END:VEVENT
BEGIN:VEVENT
DTSTART;TZID=Europe/Helsinki:20210321T130000
DTEND;TZID=Europe/Helsinki:20210321T140000
DTSTAMP:20260423T014830
CREATED:20201116T141122Z
LAST-MODIFIED:20210308T115706Z
UID:4591-1616331600-1616335200@www.evankeliset.net
SUMMARY:STRIIMI\, Lapua\, Naistenpäivä
DESCRIPTION:
URL:https://www.evankeliset.net/tapahtuma/lapua-naistenpaiva/
CATEGORIES:Tilaisuudet netissä
END:VEVENT
BEGIN:VEVENT
DTSTART;TZID=Europe/Helsinki:20210321T180000
DTEND;TZID=Europe/Helsinki:20210321T200000
DTSTAMP:20260423T014830
CREATED:20210114T111237Z
LAST-MODIFIED:20210114T111237Z
UID:4997-1616349600-1616356800@www.evankeliset.net
SUMMARY:Hyvinkää\, Sanan ja laulun ilta
DESCRIPTION:
URL:https://www.evankeliset.net/tapahtuma/hyvinkaa-sanan-ja-laulun-ilta-2/
END:VEVENT
BEGIN:VEVENT
DTSTART;TZID=Europe/Helsinki:20210322T130000
DTEND;TZID=Europe/Helsinki:20210322T150000
DTSTAMP:20260423T014830
CREATED:20201118T131348Z
LAST-MODIFIED:20210302T114521Z
UID:4648-1616418000-1616425200@www.evankeliset.net
SUMMARY:PERUTTU\, Kurikka\, Siionin kannel seurat
DESCRIPTION:
URL:https://www.evankeliset.net/tapahtuma/kurikka-siionin-kannel-seurat-32/
END:VEVENT
BEGIN:VEVENT
DTSTART;TZID=Europe/Helsinki:20210323T183000
DTEND;TZID=Europe/Helsinki:20210323T193000
DTSTAMP:20260423T014830
CREATED:20210310T082551Z
LAST-MODIFIED:20210310T082551Z
UID:5215-1616524200-1616527800@www.evankeliset.net
SUMMARY:Striimi: Savonlinna Raamattuluento
DESCRIPTION:
URL:https://www.evankeliset.net/tapahtuma/striimi-savonlinna-raamattuluento-2/
CATEGORIES:Tilaisuudet netissä
END:VEVENT
BEGIN:VEVENT
DTSTART;TZID=Europe/Helsinki:20210324T120000
DTEND;TZID=Europe/Helsinki:20210324T123000
DTSTAMP:20260423T014830
CREATED:20210209T081553Z
LAST-MODIFIED:20210209T081553Z
UID:5127-1616587200-1616589000@www.evankeliset.net
SUMMARY:Pispalan Radiossa\, MIten tämä meihin liittyy?
DESCRIPTION:
URL:https://www.evankeliset.net/tapahtuma/pispalan-radiossa-miten-tama-meihin-liittyy-7/
END:VEVENT
BEGIN:VEVENT
DTSTART;TZID=Europe/Helsinki:20210324T120000
DTEND;TZID=Europe/Helsinki:20210324T140000
DTSTAMP:20260423T014830
CREATED:20200924T052149Z
LAST-MODIFIED:20210201T081925Z
UID:4355-1616587200-1616594400@www.evankeliset.net
SUMMARY:Salo\, Pastanttipuuro
DESCRIPTION:
URL:https://www.evankeliset.net/tapahtuma/salo-pastanttipuuro-2/
END:VEVENT
BEGIN:VEVENT
DTSTART;TZID=Europe/Helsinki:20210324T173000
DTEND;TZID=Europe/Helsinki:20210324T180000
DTSTAMP:20260423T014830
CREATED:20210317T080751Z
LAST-MODIFIED:20210317T080751Z
UID:5227-1616607000-1616608800@www.evankeliset.net
SUMMARY:Radio Scoop\, MIten tämä meihin liittyy?
DESCRIPTION:
URL:https://www.evankeliset.net/tapahtuma/radio-scoop-miten-tama-meihin-liittyy-2/
CATEGORIES:Tilaisuudet netissä
END:VEVENT
BEGIN:VEVENT
DTSTART;TZID=Europe/Helsinki:20210325T140000
DTEND;TZID=Europe/Helsinki:20210325T150000
DTSTAMP:20260423T014830
CREATED:20201121T081626Z
LAST-MODIFIED:20210322T072513Z
UID:4695-1616680800-1616684400@www.evankeliset.net
SUMMARY:Striimi\, Alavus\, Laulaen pääsiäiseen
DESCRIPTION:
URL:https://www.evankeliset.net/tapahtuma/alavus-hyvassa-seurassa-13/
CATEGORIES:Tilaisuudet netissä
END:VEVENT
BEGIN:VEVENT
DTSTART;TZID=Europe/Helsinki:20210327T170000
DTEND;TZID=Europe/Helsinki:20210327T183000
DTSTAMP:20260423T014830
CREATED:20210325T073134Z
LAST-MODIFIED:20210325T073134Z
UID:5291-1616864400-1616869800@www.evankeliset.net
SUMMARY:Striimi:Savonlinna\, Loistolive
DESCRIPTION:
URL:https://www.evankeliset.net/tapahtuma/striimisavonlinna-loistolive/
CATEGORIES:Tilaisuudet netissä
END:VEVENT
BEGIN:VEVENT
DTSTART;TZID=Europe/Helsinki:20210328T100000
DTEND;TZID=Europe/Helsinki:20210328T120000
DTSTAMP:20260423T014830
CREATED:20210303T132528Z
LAST-MODIFIED:20210324T163830Z
UID:5200-1616925600-1616932800@www.evankeliset.net
SUMMARY:STRIIMI\, Ilmajoki\, Elyn kirkkopyhä
DESCRIPTION:
URL:https://www.evankeliset.net/tapahtuma/striimi-ilmajoki-elyn-kirkkopyha/
CATEGORIES:Tilaisuudet netissä
END:VEVENT
BEGIN:VEVENT
DTSTART;TZID=Europe/Helsinki:20210329T190000
DTEND;TZID=Europe/Helsinki:20210329T203000
DTSTAMP:20260423T014830
CREATED:20201121T075318Z
LAST-MODIFIED:20210308T082305Z
UID:4689-1617044400-1617049800@www.evankeliset.net
SUMMARY:Alahärmä\, Maria\, valittu joukossa vaimojen -runoesitys
DESCRIPTION:
URL:https://www.evankeliset.net/tapahtuma/alaharma-maria-valittu-joukossa-vaimojen-runoesitys/
CATEGORIES:Tilaisuudet netissä
END:VEVENT
BEGIN:VEVENT
DTSTART;TZID=Europe/Helsinki:20210331T120000
DTEND;TZID=Europe/Helsinki:20210331T173000
DTSTAMP:20260423T014830
CREATED:20210317T084018Z
LAST-MODIFIED:20210317T084018Z
UID:5231-1617192000-1617211800@www.evankeliset.net
SUMMARY:Pispalan Radio ja Radio Scoop\, Miten tämä meihin liittyy?
DESCRIPTION:
URL:https://www.evankeliset.net/tapahtuma/pispalan-radio-ja-radio-scoop-miten-tama-meihin-liittyy/
CATEGORIES:Tilaisuudet netissä
END:VEVENT
BEGIN:VEVENT
DTSTART;TZID=Europe/Helsinki:20210331T190000
DTEND;TZID=Europe/Helsinki:20210331T200000
DTSTAMP:20260423T014830
CREATED:20201121T075659Z
LAST-MODIFIED:20210308T072810Z
UID:4693-1617217200-1617220800@www.evankeliset.net
SUMMARY:STRIIMI\, Kuortane\, Hiljaisen viikon iltakirkko
DESCRIPTION:
URL:https://www.evankeliset.net/tapahtuma/kuortane-maria-valittu-joukossa-vaimojen-runoeistys/
CATEGORIES:Tilaisuudet netissä
END:VEVENT
END:VCALENDAR