BEGIN:VCALENDAR
VERSION:2.0
PRODID:-//Evankelinen lähetysyhdistys ELY ry - ECPv6.15.18//NONSGML v1.0//EN
CALSCALE:GREGORIAN
METHOD:PUBLISH
X-ORIGINAL-URL:https://www.evankeliset.net
X-WR-CALDESC:Tapahtumat Evankelinen lähetysyhdistys ELY ry
REFRESH-INTERVAL;VALUE=DURATION:PT1H
X-Robots-Tag:noindex
X-PUBLISHED-TTL:PT1H
BEGIN:VTIMEZONE
TZID:Europe/Helsinki
BEGIN:DAYLIGHT
TZOFFSETFROM:+0200
TZOFFSETTO:+0300
TZNAME:EEST
DTSTART:20200329T010000
END:DAYLIGHT
BEGIN:STANDARD
TZOFFSETFROM:+0300
TZOFFSETTO:+0200
TZNAME:EET
DTSTART:20201025T010000
END:STANDARD
BEGIN:DAYLIGHT
TZOFFSETFROM:+0200
TZOFFSETTO:+0300
TZNAME:EEST
DTSTART:20210328T010000
END:DAYLIGHT
BEGIN:STANDARD
TZOFFSETFROM:+0300
TZOFFSETTO:+0200
TZNAME:EET
DTSTART:20211031T010000
END:STANDARD
BEGIN:DAYLIGHT
TZOFFSETFROM:+0200
TZOFFSETTO:+0300
TZNAME:EEST
DTSTART:20220327T010000
END:DAYLIGHT
BEGIN:STANDARD
TZOFFSETFROM:+0300
TZOFFSETTO:+0200
TZNAME:EET
DTSTART:20221030T010000
END:STANDARD
END:VTIMEZONE
BEGIN:VEVENT
DTSTART;TZID=Europe/Helsinki:20210629T110000
DTEND;TZID=Europe/Helsinki:20210701T140000
DTSTAMP:20260422T210019
CREATED:20201116T142035Z
LAST-MODIFIED:20201116T142035Z
UID:4601-1624964400-1625148000@www.evankeliset.net
SUMMARY:Aarrearkkuleiri\, Karstula
DESCRIPTION:
URL:https://www.evankeliset.net/tapahtuma/aarrearkkuleiri-karstula/
END:VEVENT
BEGIN:VEVENT
DTSTART;TZID=Europe/Helsinki:20210704T130000
DTEND;TZID=Europe/Helsinki:20210704T150000
DTSTAMP:20260422T210019
CREATED:20210617T043209Z
LAST-MODIFIED:20210617T043209Z
UID:5649-1625403600-1625410800@www.evankeliset.net
SUMMARY:Padasjoki\, Elyn kumppanuuspyhän Messu
DESCRIPTION:
URL:https://www.evankeliset.net/tapahtuma/padasjoki-elyn-kumppanuuspyhan-messu/
END:VEVENT
BEGIN:VEVENT
DTSTART;TZID=Europe/Helsinki:20210710T150000
DTEND;TZID=Europe/Helsinki:20210710T180000
DTSTAMP:20260422T210019
CREATED:20201121T082810Z
LAST-MODIFIED:20210526T113255Z
UID:4703-1625929200-1625940000@www.evankeliset.net
SUMMARY:Alahärmä\, Naisten iltapäivä
DESCRIPTION:
URL:https://www.evankeliset.net/tapahtuma/alaharma-naisten-iltapaiva/
END:VEVENT
BEGIN:VEVENT
DTSTART;TZID=Europe/Helsinki:20210710T180000
DTEND;TZID=Europe/Helsinki:20210710T200000
DTSTAMP:20260422T210019
CREATED:20201121T085150Z
LAST-MODIFIED:20210519T103346Z
UID:4707-1625940000-1625947200@www.evankeliset.net
SUMMARY:Alahärmä\, Kesäkirkko
DESCRIPTION:
URL:https://www.evankeliset.net/tapahtuma/alaharma-kesakirkko/
END:VEVENT
BEGIN:VEVENT
DTSTART;TZID=Europe/Helsinki:20210718T100000
DTEND;TZID=Europe/Helsinki:20210718T140000
DTSTAMP:20260422T210019
CREATED:20201119T084515Z
LAST-MODIFIED:20201120T061211Z
UID:4659-1626602400-1626616800@www.evankeliset.net
SUMMARY:Perho\, Elyn kirkkopyhä
DESCRIPTION:
URL:https://www.evankeliset.net/tapahtuma/perho-elyn-kirkkopyha-3/
END:VEVENT
BEGIN:VEVENT
DTSTART;TZID=Europe/Helsinki:20210728T180000
DTEND;TZID=Europe/Helsinki:20210728T200000
DTSTAMP:20260422T210019
CREATED:20210608T190859Z
LAST-MODIFIED:20210725T145017Z
UID:5632-1627495200-1627502400@www.evankeliset.net
SUMMARY:Elimäki Koria\, Siionin kanteleen lauluilta
DESCRIPTION:
URL:https://www.evankeliset.net/tapahtuma/elimaki-koria-siionin-kanteleen-lauluilta/
END:VEVENT
BEGIN:VEVENT
DTSTART;TZID=Europe/Helsinki:20210728T190000
DTEND;TZID=Europe/Helsinki:20210728T200000
DTSTAMP:20260422T210019
CREATED:20210422T092151Z
LAST-MODIFIED:20210706T112747Z
UID:5395-1627498800-1627502400@www.evankeliset.net
SUMMARY:Teuva\, hartaushetki Rauniokirkko
DESCRIPTION:
URL:https://www.evankeliset.net/tapahtuma/teuva-hartaushetki-rauniokirkko/
END:VEVENT
END:VCALENDAR