BEGIN:VCALENDAR
VERSION:2.0
PRODID:-//Evankelinen lähetysyhdistys ELY ry - ECPv6.15.18//NONSGML v1.0//EN
CALSCALE:GREGORIAN
METHOD:PUBLISH
X-ORIGINAL-URL:https://www.evankeliset.net
X-WR-CALDESC:Tapahtumat Evankelinen lähetysyhdistys ELY ry
REFRESH-INTERVAL;VALUE=DURATION:PT1H
X-Robots-Tag:noindex
X-PUBLISHED-TTL:PT1H
BEGIN:VTIMEZONE
TZID:Europe/Helsinki
BEGIN:DAYLIGHT
TZOFFSETFROM:+0200
TZOFFSETTO:+0300
TZNAME:EEST
DTSTART:20210328T010000
END:DAYLIGHT
BEGIN:STANDARD
TZOFFSETFROM:+0300
TZOFFSETTO:+0200
TZNAME:EET
DTSTART:20211031T010000
END:STANDARD
BEGIN:DAYLIGHT
TZOFFSETFROM:+0200
TZOFFSETTO:+0300
TZNAME:EEST
DTSTART:20220327T010000
END:DAYLIGHT
BEGIN:STANDARD
TZOFFSETFROM:+0300
TZOFFSETTO:+0200
TZNAME:EET
DTSTART:20221030T010000
END:STANDARD
BEGIN:DAYLIGHT
TZOFFSETFROM:+0200
TZOFFSETTO:+0300
TZNAME:EEST
DTSTART:20230326T010000
END:DAYLIGHT
BEGIN:STANDARD
TZOFFSETFROM:+0300
TZOFFSETTO:+0200
TZNAME:EET
DTSTART:20231029T010000
END:STANDARD
END:VTIMEZONE
BEGIN:VEVENT
DTSTART;VALUE=DATE:20220611
DTEND;VALUE=DATE:20220613
DTSTAMP:20260424T234349
CREATED:20211215T110920Z
LAST-MODIFIED:20220407T092804Z
UID:6387-1654905600-1655078399@www.evankeliset.net
SUMMARY:Jämsä\, Evankeliset kesäjuhlat
DESCRIPTION:
URL:https://www.evankeliset.net/tapahtuma/jamsa-evankeliset-kesajuhlat/
END:VEVENT
BEGIN:VEVENT
DTSTART;TZID=Europe/Helsinki:20220615T190000
DTEND;TZID=Europe/Helsinki:20220615T200000
DTSTAMP:20260424T234349
CREATED:20220317T084627Z
LAST-MODIFIED:20220512T062100Z
UID:6658-1655319600-1655323200@www.evankeliset.net
SUMMARY:Lapua\, Kesäkirkko Kauhajärvellä
DESCRIPTION:
URL:https://www.evankeliset.net/tapahtuma/lapua-kesakirkko-kauhajarvella/
END:VEVENT
BEGIN:VEVENT
DTSTART;TZID=Europe/Helsinki:20220617T100000
DTEND;TZID=Europe/Helsinki:20220617T140000
DTSTAMP:20260424T234349
CREATED:20211116T131139Z
LAST-MODIFIED:20220530T073817Z
UID:6265-1655460000-1655474400@www.evankeliset.net
SUMMARY:Alahärmä\, Isovanhempi lapsenlapsi leiripäivä
DESCRIPTION:
URL:https://www.evankeliset.net/tapahtuma/alaharma-isovanhempi-lapsenlapsi-leiripaiva-2/
END:VEVENT
BEGIN:VEVENT
DTSTART;TZID=Europe/Helsinki:20220619T190000
DTEND;TZID=Europe/Helsinki:20220619T200000
DTSTAMP:20260424T234349
CREATED:20220317T084453Z
LAST-MODIFIED:20220613T072900Z
UID:6656-1655665200-1655668800@www.evankeliset.net
SUMMARY:Lapua\, kesäkirkko Tiistenjoella
DESCRIPTION:
URL:https://www.evankeliset.net/tapahtuma/lapua-kesakirkko-tiistenjoella/
END:VEVENT
BEGIN:VEVENT
DTSTART;TZID=Europe/Helsinki:20220621T183000
DTEND;TZID=Europe/Helsinki:20220621T200000
DTSTAMP:20260424T234349
CREATED:20220516T085046Z
LAST-MODIFIED:20220520T072338Z
UID:6933-1655836200-1655841600@www.evankeliset.net
SUMMARY:Himanka\, Kesäseurat
DESCRIPTION:
URL:https://www.evankeliset.net/tapahtuma/himanka-kesaseurat-4/
END:VEVENT
END:VCALENDAR