BEGIN:VCALENDAR
VERSION:2.0
PRODID:-//Evankelinen lähetysyhdistys ELY ry - ECPv6.15.18//NONSGML v1.0//EN
CALSCALE:GREGORIAN
METHOD:PUBLISH
X-ORIGINAL-URL:https://www.evankeliset.net
X-WR-CALDESC:Tapahtumat Evankelinen lähetysyhdistys ELY ry
REFRESH-INTERVAL;VALUE=DURATION:PT1H
X-Robots-Tag:noindex
X-PUBLISHED-TTL:PT1H
BEGIN:VTIMEZONE
TZID:Europe/Helsinki
BEGIN:DAYLIGHT
TZOFFSETFROM:+0200
TZOFFSETTO:+0300
TZNAME:EEST
DTSTART:20220327T010000
END:DAYLIGHT
BEGIN:STANDARD
TZOFFSETFROM:+0300
TZOFFSETTO:+0200
TZNAME:EET
DTSTART:20221030T010000
END:STANDARD
BEGIN:DAYLIGHT
TZOFFSETFROM:+0200
TZOFFSETTO:+0300
TZNAME:EEST
DTSTART:20230326T010000
END:DAYLIGHT
BEGIN:STANDARD
TZOFFSETFROM:+0300
TZOFFSETTO:+0200
TZNAME:EET
DTSTART:20231029T010000
END:STANDARD
BEGIN:DAYLIGHT
TZOFFSETFROM:+0200
TZOFFSETTO:+0300
TZNAME:EEST
DTSTART:20240331T010000
END:DAYLIGHT
BEGIN:STANDARD
TZOFFSETFROM:+0300
TZOFFSETTO:+0200
TZNAME:EET
DTSTART:20241027T010000
END:STANDARD
END:VTIMEZONE
BEGIN:VEVENT
DTSTART;TZID=Europe/Helsinki:20231102T153000
DTEND;TZID=Europe/Helsinki:20231102T173000
DTSTAMP:20260424T032348
CREATED:20230606T095905Z
LAST-MODIFIED:20231027T061036Z
UID:8110-1698939000-1698946200@www.evankeliset.net
SUMMARY:Tampere\, Sanaa ja Siikkaria
DESCRIPTION:
URL:https://www.evankeliset.net/tapahtuma/tampere-sanaa-ja-siikkaria-2/
END:VEVENT
BEGIN:VEVENT
DTSTART;TZID=Europe/Helsinki:20231105T100000
DTEND;TZID=Europe/Helsinki:20231105T120000
DTSTAMP:20260424T032348
CREATED:20230825T132632Z
LAST-MODIFIED:20231010T044944Z
UID:8282-1699178400-1699185600@www.evankeliset.net
SUMMARY:Alavus\, Elyn kirkkopyhä
DESCRIPTION:
URL:https://www.evankeliset.net/tapahtuma/alavus-elyn-kirkkopyha-3/
END:VEVENT
BEGIN:VEVENT
DTSTART;TZID=Europe/Helsinki:20231105T100000
DTEND;TZID=Europe/Helsinki:20231105T140000
DTSTAMP:20260424T032348
CREATED:20230524T082930Z
LAST-MODIFIED:20230913T071854Z
UID:8049-1699178400-1699192800@www.evankeliset.net
SUMMARY:Kokkola\, Lähetyspyhä
DESCRIPTION:
URL:https://www.evankeliset.net/tapahtuma/kokkola-lahetyspyha/
END:VEVENT
BEGIN:VEVENT
DTSTART;TZID=Europe/Helsinki:20231105T100000
DTEND;TZID=Europe/Helsinki:20231105T140000
DTSTAMP:20260424T032348
CREATED:20230529T101228Z
LAST-MODIFIED:20230529T101228Z
UID:8074-1699178400-1699192800@www.evankeliset.net
SUMMARY:Riihimäki\, Elyn kirkkopyhä
DESCRIPTION:
URL:https://www.evankeliset.net/tapahtuma/riihimaki-elyn-kirkkopyha-7/
END:VEVENT
BEGIN:VEVENT
DTSTART;TZID=Europe/Helsinki:20231105T120000
DTEND;TZID=Europe/Helsinki:20231105T133000
DTSTAMP:20260424T032348
CREATED:20231003T064102Z
LAST-MODIFIED:20231003T064102Z
UID:8403-1699185600-1699191000@www.evankeliset.net
SUMMARY:Nummela\, Elyn kirkkopyhä
DESCRIPTION:
URL:https://www.evankeliset.net/tapahtuma/nummela-elyn-kirkkopyha/
END:VEVENT
BEGIN:VEVENT
DTSTART;TZID=Europe/Helsinki:20231106T130000
DTEND;TZID=Europe/Helsinki:20231106T150000
DTSTAMP:20260424T032348
CREATED:20230606T103321Z
LAST-MODIFIED:20230606T103321Z
UID:8126-1699275600-1699282800@www.evankeliset.net
SUMMARY:Kurikka\, Siionin kannel -seurat
DESCRIPTION:
URL:https://www.evankeliset.net/tapahtuma/kurikka-siionin-kannel-seurat-66/
END:VEVENT
BEGIN:VEVENT
DTSTART;TZID=Europe/Helsinki:20231107T120000
DTEND;TZID=Europe/Helsinki:20231107T133000
DTSTAMP:20260424T032348
CREATED:20231003T064231Z
LAST-MODIFIED:20231003T064231Z
UID:8405-1699358400-1699363800@www.evankeliset.net
SUMMARY:Espoo\, Kappelilounashartaus
DESCRIPTION:
URL:https://www.evankeliset.net/tapahtuma/espoo-kappelilounashartaus/
END:VEVENT
BEGIN:VEVENT
DTSTART;TZID=Europe/Helsinki:20231108T123000
DTEND;TZID=Europe/Helsinki:20231108T140000
DTSTAMP:20260424T032348
CREATED:20230914T041949Z
LAST-MODIFIED:20230914T042401Z
UID:8340-1699446600-1699452000@www.evankeliset.net
SUMMARY:Jalasjärvi\, Lähetystilaisuus
DESCRIPTION:
URL:https://www.evankeliset.net/tapahtuma/jalasjarvi-lahetystilaisuus/
END:VEVENT
BEGIN:VEVENT
DTSTART;TZID=Europe/Helsinki:20231109T140000
DTEND;TZID=Europe/Helsinki:20231109T160000
DTSTAMP:20260424T032348
CREATED:20230606T110707Z
LAST-MODIFIED:20230913T062954Z
UID:8134-1699538400-1699545600@www.evankeliset.net
SUMMARY:Kauhajoki\, Siionin kannel -seurat
DESCRIPTION:
URL:https://www.evankeliset.net/tapahtuma/kauhajoki-siionin-kannel-seurat-25/
END:VEVENT
BEGIN:VEVENT
DTSTART;TZID=Europe/Helsinki:20231109T140000
DTEND;TZID=Europe/Helsinki:20231109T160000
DTSTAMP:20260424T032348
CREATED:20230825T065425Z
LAST-MODIFIED:20230825T065425Z
UID:8274-1699538400-1699545600@www.evankeliset.net
SUMMARY:Seinäjoki\, SK-lauluryhmä Simunanrannassa
DESCRIPTION:
URL:https://www.evankeliset.net/tapahtuma/seinajoki-sk-lauluryhma-simunanrannassa-3/
END:VEVENT
BEGIN:VEVENT
DTSTART;TZID=Europe/Helsinki:20231110T140000
DTEND;TZID=Europe/Helsinki:20231110T153000
DTSTAMP:20260424T032348
CREATED:20230321T135723Z
LAST-MODIFIED:20231020T060018Z
UID:7911-1699624800-1699630200@www.evankeliset.net
SUMMARY:Peruttu: Hämeenlinna\, Martinpäivän -seurat
DESCRIPTION:
URL:https://www.evankeliset.net/tapahtuma/hameenlinna-martinpaivan-seurat/
END:VEVENT
BEGIN:VEVENT
DTSTART;TZID=Europe/Helsinki:20231113T120000
DTEND;TZID=Europe/Helsinki:20231113T140000
DTSTAMP:20260424T032348
CREATED:20230823T111358Z
LAST-MODIFIED:20230823T111358Z
UID:8254-1699876800-1699884000@www.evankeliset.net
SUMMARY:Alajärvi\, lähetyspiiri
DESCRIPTION:
URL:https://www.evankeliset.net/tapahtuma/alajarvi-lahetyspiiri/
END:VEVENT
BEGIN:VEVENT
DTSTART;TZID=Europe/Helsinki:20231113T183000
DTEND;TZID=Europe/Helsinki:20231113T203000
DTSTAMP:20260424T032348
CREATED:20231003T064406Z
LAST-MODIFIED:20231003T064406Z
UID:8407-1699900200-1699907400@www.evankeliset.net
SUMMARY:Espoo\, Kristittyjen liikemiesten ilta
DESCRIPTION:
URL:https://www.evankeliset.net/tapahtuma/espoo-kristittyjen-liikemiesten-ilta/
END:VEVENT
BEGIN:VEVENT
DTSTART;TZID=Europe/Helsinki:20231114T180000
DTEND;TZID=Europe/Helsinki:20231114T200000
DTSTAMP:20260424T032348
CREATED:20230921T054517Z
LAST-MODIFIED:20230921T054820Z
UID:8356-1699984800-1699992000@www.evankeliset.net
SUMMARY:Lapua\, Lähetyspiiri
DESCRIPTION:
URL:https://www.evankeliset.net/tapahtuma/lapua-lahetyspiir/
END:VEVENT
BEGIN:VEVENT
DTSTART;TZID=Europe/Helsinki:20231115T103000
DTEND;TZID=Europe/Helsinki:20231115T130000
DTSTAMP:20260424T032348
CREATED:20230817T052727Z
LAST-MODIFIED:20230821T074228Z
UID:8230-1700044200-1700053200@www.evankeliset.net
SUMMARY:Peräseinäjoki\, Kaverikeskiviikko
DESCRIPTION:
URL:https://www.evankeliset.net/tapahtuma/jalasjarvi-kaverikeskiviikko/
END:VEVENT
BEGIN:VEVENT
DTSTART;TZID=Europe/Helsinki:20231115T130000
DTEND;TZID=Europe/Helsinki:20231115T150000
DTSTAMP:20260424T032348
CREATED:20230322T073401Z
LAST-MODIFIED:20230913T053706Z
UID:7924-1700053200-1700060400@www.evankeliset.net
SUMMARY:Kokkola\, Lauluhetki
DESCRIPTION:
URL:https://www.evankeliset.net/tapahtuma/kokkola-lauluhetki-4/
END:VEVENT
BEGIN:VEVENT
DTSTART;TZID=Europe/Helsinki:20231115T180000
DTEND;TZID=Europe/Helsinki:20231115T200000
DTSTAMP:20260424T032348
CREATED:20230825T041844Z
LAST-MODIFIED:20230825T041844Z
UID:8264-1700071200-1700078400@www.evankeliset.net
SUMMARY:Seinäjoki\, Inkeri-ilta
DESCRIPTION:
URL:https://www.evankeliset.net/tapahtuma/seinajoki-inkeri-ilta/
END:VEVENT
BEGIN:VEVENT
DTSTART;TZID=Europe/Helsinki:20231116T080000
DTEND;TZID=Europe/Helsinki:20231116T170000
DTSTAMP:20260424T032348
CREATED:20230823T112043Z
LAST-MODIFIED:20230823T112043Z
UID:8260-1700121600-1700154000@www.evankeliset.net
SUMMARY:Kokkola\, Lähetyssoppi+hartaus
DESCRIPTION:
URL:https://www.evankeliset.net/tapahtuma/kokkola-lahetyssoppihartaus-2/
END:VEVENT
BEGIN:VEVENT
DTSTART;TZID=Europe/Helsinki:20231116T130000
DTEND;TZID=Europe/Helsinki:20231116T150000
DTSTAMP:20260424T032348
CREATED:20230914T102352Z
LAST-MODIFIED:20230914T102352Z
UID:8345-1700139600-1700146800@www.evankeliset.net
SUMMARY:Lapua\, lähetyspiiri
DESCRIPTION:
URL:https://www.evankeliset.net/tapahtuma/lapua-lahetyspiiri/
END:VEVENT
BEGIN:VEVENT
DTSTART;TZID=Europe/Helsinki:20231116T180000
DTEND;TZID=Europe/Helsinki:20231116T200000
DTSTAMP:20260424T032348
CREATED:20230904T062600Z
LAST-MODIFIED:20230904T062600Z
UID:8300-1700157600-1700164800@www.evankeliset.net
SUMMARY:Vaskio\, Lähetysilta
DESCRIPTION:
URL:https://www.evankeliset.net/tapahtuma/vaskio-lahetysilta/
END:VEVENT
BEGIN:VEVENT
DTSTART;TZID=Europe/Helsinki:20231116T180000
DTEND;TZID=Europe/Helsinki:20231116T200000
DTSTAMP:20260424T032348
CREATED:20231108T122201Z
LAST-MODIFIED:20231108T122201Z
UID:8478-1700157600-1700164800@www.evankeliset.net
SUMMARY:Tampere\, Toivelauluja Siionin kanteleesta
DESCRIPTION:
URL:https://www.evankeliset.net/tapahtuma/tampere-toivelauluja-siionin-kanteleesta/
END:VEVENT
BEGIN:VEVENT
DTSTART;TZID=Europe/Helsinki:20231119T100000
DTEND;TZID=Europe/Helsinki:20231119T130000
DTSTAMP:20260424T032348
CREATED:20230524T083812Z
LAST-MODIFIED:20231114T090929Z
UID:8053-1700388000-1700398800@www.evankeliset.net
SUMMARY:Kortesjärvi\, messu
DESCRIPTION:
URL:https://www.evankeliset.net/tapahtuma/kortesjarvi-messu/
END:VEVENT
BEGIN:VEVENT
DTSTART;TZID=Europe/Helsinki:20231119T100000
DTEND;TZID=Europe/Helsinki:20231119T130000
DTSTAMP:20260424T032348
CREATED:20230808T045846Z
LAST-MODIFIED:20230808T045846Z
UID:8185-1700388000-1700398800@www.evankeliset.net
SUMMARY:Forssa\, Elyn kirkkopyhä
DESCRIPTION:
URL:https://www.evankeliset.net/tapahtuma/forssa-elyn-kirkkopyha-6/
END:VEVENT
BEGIN:VEVENT
DTSTART;TZID=Europe/Helsinki:20231119T100000
DTEND;TZID=Europe/Helsinki:20231119T130000
DTSTAMP:20260424T032348
CREATED:20230904T062755Z
LAST-MODIFIED:20230904T062755Z
UID:8302-1700388000-1700398800@www.evankeliset.net
SUMMARY:Espoo\, Elyn lähetyskirkkopyhä
DESCRIPTION:
URL:https://www.evankeliset.net/tapahtuma/espoo-elyn-lahetyskirkkopyha/
END:VEVENT
BEGIN:VEVENT
DTSTART;TZID=Europe/Helsinki:20231119T100000
DTEND;TZID=Europe/Helsinki:20231119T140000
DTSTAMP:20260424T032348
CREATED:20230303T095433Z
LAST-MODIFIED:20231117T061819Z
UID:7780-1700388000-1700402400@www.evankeliset.net
SUMMARY:Suolahti\, Elyn kirkkopyhä
DESCRIPTION:
URL:https://www.evankeliset.net/tapahtuma/aanekoski-elyn-kirkkopyha/
END:VEVENT
BEGIN:VEVENT
DTSTART;TZID=Europe/Helsinki:20231119T100000
DTEND;TZID=Europe/Helsinki:20231119T140000
DTSTAMP:20260424T032348
CREATED:20230524T083225Z
LAST-MODIFIED:20230823T053837Z
UID:8051-1700388000-1700402400@www.evankeliset.net
SUMMARY:Ylistaro\, messu
DESCRIPTION:
URL:https://www.evankeliset.net/tapahtuma/ylistaro-messu/
END:VEVENT
BEGIN:VEVENT
DTSTART;TZID=Europe/Helsinki:20231119T100000
DTEND;TZID=Europe/Helsinki:20231119T140000
DTSTAMP:20260424T032348
CREATED:20230602T055541Z
LAST-MODIFIED:20230602T060607Z
UID:8086-1700388000-1700402400@www.evankeliset.net
SUMMARY:Keuruu\, Perhekirkko ja aarrearkkutapahtuma
DESCRIPTION:
URL:https://www.evankeliset.net/tapahtuma/keuruu-perhekirkko-ja-aarrearkkutapahtuma/
END:VEVENT
BEGIN:VEVENT
DTSTART;TZID=Europe/Helsinki:20231119T150000
DTEND;TZID=Europe/Helsinki:20231119T170000
DTSTAMP:20260424T032348
CREATED:20231003T064526Z
LAST-MODIFIED:20231003T064526Z
UID:8409-1700406000-1700413200@www.evankeliset.net
SUMMARY:Espoo\, Messu
DESCRIPTION:
URL:https://www.evankeliset.net/tapahtuma/espoo-messu/
END:VEVENT
BEGIN:VEVENT
DTSTART;TZID=Europe/Helsinki:20231120T120000
DTEND;TZID=Europe/Helsinki:20231120T150000
DTSTAMP:20260424T032348
CREATED:20230606T103434Z
LAST-MODIFIED:20230913T062208Z
UID:8128-1700481600-1700492400@www.evankeliset.net
SUMMARY:Kurikka\, Retki Jurvaan
DESCRIPTION:
URL:https://www.evankeliset.net/tapahtuma/kurikka-siionin-kannel-seurat-67/
END:VEVENT
BEGIN:VEVENT
DTSTART;TZID=Europe/Helsinki:20231120T140000
DTEND;TZID=Europe/Helsinki:20231120T160000
DTSTAMP:20260424T032348
CREATED:20230904T062945Z
LAST-MODIFIED:20230904T062945Z
UID:8304-1700488800-1700496000@www.evankeliset.net
SUMMARY:Salo\, Siionin kannel -seurat
DESCRIPTION:
URL:https://www.evankeliset.net/tapahtuma/salo-siionin-kannel-seurat-23/
END:VEVENT
END:VCALENDAR