BEGIN:VCALENDAR
VERSION:2.0
PRODID:-//Evankelinen lähetysyhdistys ELY ry - ECPv6.15.18//NONSGML v1.0//EN
CALSCALE:GREGORIAN
METHOD:PUBLISH
X-ORIGINAL-URL:https://www.evankeliset.net
X-WR-CALDESC:Tapahtumat Evankelinen lähetysyhdistys ELY ry
REFRESH-INTERVAL;VALUE=DURATION:PT1H
X-Robots-Tag:noindex
X-PUBLISHED-TTL:PT1H
BEGIN:VTIMEZONE
TZID:Europe/Helsinki
BEGIN:DAYLIGHT
TZOFFSETFROM:+0200
TZOFFSETTO:+0300
TZNAME:EEST
DTSTART:20230326T010000
END:DAYLIGHT
BEGIN:STANDARD
TZOFFSETFROM:+0300
TZOFFSETTO:+0200
TZNAME:EET
DTSTART:20231029T010000
END:STANDARD
BEGIN:DAYLIGHT
TZOFFSETFROM:+0200
TZOFFSETTO:+0300
TZNAME:EEST
DTSTART:20240331T010000
END:DAYLIGHT
BEGIN:STANDARD
TZOFFSETFROM:+0300
TZOFFSETTO:+0200
TZNAME:EET
DTSTART:20241027T010000
END:STANDARD
BEGIN:DAYLIGHT
TZOFFSETFROM:+0200
TZOFFSETTO:+0300
TZNAME:EEST
DTSTART:20250330T010000
END:DAYLIGHT
BEGIN:STANDARD
TZOFFSETFROM:+0300
TZOFFSETTO:+0200
TZNAME:EET
DTSTART:20251026T010000
END:STANDARD
END:VTIMEZONE
BEGIN:VEVENT
DTSTART;TZID=Europe/Helsinki:20240402T140000
DTEND;TZID=Europe/Helsinki:20240402T160000
DTSTAMP:20260423T190044
CREATED:20240212T123001Z
LAST-MODIFIED:20240212T123001Z
UID:8969-1712066400-1712073600@www.evankeliset.net
SUMMARY:Riihimäki\, Lähetystilaisuus
DESCRIPTION:
URL:https://www.evankeliset.net/tapahtuma/riihimaki-lahetystilaisuus/
END:VEVENT
BEGIN:VEVENT
DTSTART;TZID=Europe/Helsinki:20240403T140000
DTEND;TZID=Europe/Helsinki:20240403T153000
DTSTAMP:20260423T190044
CREATED:20240115T132100Z
LAST-MODIFIED:20240405T041717Z
UID:8809-1712152800-1712158200@www.evankeliset.net
SUMMARY:Järvenpää\, Lähetyspiiri
DESCRIPTION:
URL:https://www.evankeliset.net/tapahtuma/jarvenpaa-lahetyspiiri-6/
END:VEVENT
BEGIN:VEVENT
DTSTART;TZID=Europe/Helsinki:20240405T140000
DTEND;TZID=Europe/Helsinki:20240405T153000
DTSTAMP:20260423T190044
CREATED:20231117T062736Z
LAST-MODIFIED:20231117T062736Z
UID:8573-1712325600-1712331000@www.evankeliset.net
SUMMARY:Hämeenlinna\, Raamattuhetki
DESCRIPTION:
URL:https://www.evankeliset.net/tapahtuma/hameenlinna-raamattuhetki-9/
END:VEVENT
BEGIN:VEVENT
DTSTART;TZID=Europe/Helsinki:20240407T100000
DTEND;TZID=Europe/Helsinki:20240407T130000
DTSTAMP:20260423T190044
CREATED:20240305T154248Z
LAST-MODIFIED:20240305T154248Z
UID:9027-1712484000-1712494800@www.evankeliset.net
SUMMARY:Imatra\, Tainionkosken kirkko\, Elyn kirkkopyhä
DESCRIPTION:
URL:https://www.evankeliset.net/tapahtuma/imatra-tainionkosken-kirkko-elyn-kirkkopyha/
END:VEVENT
BEGIN:VEVENT
DTSTART;TZID=Europe/Helsinki:20240407T100000
DTEND;TZID=Europe/Helsinki:20240407T130000
DTSTAMP:20260423T190044
CREATED:20240305T154349Z
LAST-MODIFIED:20240305T154349Z
UID:9029-1712484000-1712494800@www.evankeliset.net
SUMMARY:Lempäälä\, Elyn kirkkopyhä
DESCRIPTION:
URL:https://www.evankeliset.net/tapahtuma/lempaala-elyn-kirkkopyha/
END:VEVENT
BEGIN:VEVENT
DTSTART;TZID=Europe/Helsinki:20240408T130000
DTEND;TZID=Europe/Helsinki:20240408T150000
DTSTAMP:20260423T190044
CREATED:20231115T141446Z
LAST-MODIFIED:20240108T085454Z
UID:8552-1712581200-1712588400@www.evankeliset.net
SUMMARY:Kurikka\, Siionin kannel -seurat
DESCRIPTION:
URL:https://www.evankeliset.net/tapahtuma/kurikka-siionin-kannel-seurat-75/
END:VEVENT
BEGIN:VEVENT
DTSTART;TZID=Europe/Helsinki:20240408T140000
DTEND;TZID=Europe/Helsinki:20240408T153000
DTSTAMP:20260423T190044
CREATED:20240216T062119Z
LAST-MODIFIED:20240216T062119Z
UID:8990-1712584800-1712590200@www.evankeliset.net
SUMMARY:Kouvola\, Evankelinen lähetyspiiri
DESCRIPTION:
URL:https://www.evankeliset.net/tapahtuma/kouvola-evankelinen-lahetyspiiri-10/
END:VEVENT
BEGIN:VEVENT
DTSTART;TZID=Europe/Helsinki:20240410T133000
DTEND;TZID=Europe/Helsinki:20240410T153000
DTSTAMP:20260423T190044
CREATED:20231115T122008Z
LAST-MODIFIED:20231115T122008Z
UID:8523-1712755800-1712763000@www.evankeliset.net
SUMMARY:Kokkola\, Lauluhetki päiväkahvin aikaan
DESCRIPTION:
URL:https://www.evankeliset.net/tapahtuma/kokkola-lauluhetki-paivakahvin-aikaan-4/
END:VEVENT
BEGIN:VEVENT
DTSTART;TZID=Europe/Helsinki:20240411T110000
DTEND;TZID=Europe/Helsinki:20240411T150000
DTSTAMP:20260423T190044
CREATED:20240108T115511Z
LAST-MODIFIED:20240108T115511Z
UID:8745-1712833200-1712847600@www.evankeliset.net
SUMMARY:Kokkola\, Lähetyssoppi
DESCRIPTION:
URL:https://www.evankeliset.net/tapahtuma/kokkola-lahetyssoppi-52/
END:VEVENT
BEGIN:VEVENT
DTSTART;TZID=Europe/Helsinki:20240411T140000
DTEND;TZID=Europe/Helsinki:20240411T160000
DTSTAMP:20260423T190044
CREATED:20231115T141556Z
LAST-MODIFIED:20240304T125614Z
UID:8554-1712844000-1712851200@www.evankeliset.net
SUMMARY:Kauhajoki\, Siionin kannel -seurat
DESCRIPTION:
URL:https://www.evankeliset.net/tapahtuma/kauhajoki-siionin-kannel-seurat-29/
END:VEVENT
BEGIN:VEVENT
DTSTART;TZID=Europe/Helsinki:20240413T080000
DTEND;TZID=Europe/Helsinki:20240413T210000
DTSTAMP:20260423T190044
CREATED:20240124T105855Z
LAST-MODIFIED:20240124T105855Z
UID:8880-1712995200-1713042000@www.evankeliset.net
SUMMARY:Retki vuosikokoukseen Tampereelle
DESCRIPTION:
URL:https://www.evankeliset.net/tapahtuma/retki-vuosikokoukseen-tampereelle/
END:VEVENT
BEGIN:VEVENT
DTSTART;TZID=Europe/Helsinki:20240413T080000
DTEND;TZID=Europe/Helsinki:20240414T170000
DTSTAMP:20260423T190044
CREATED:20240124T110749Z
LAST-MODIFIED:20240411T050713Z
UID:8882-1712995200-1713114000@www.evankeliset.net
SUMMARY:Tampere\, Elyn 16-vuotisjuhla\, kevätkokous ja seminaari
DESCRIPTION:
URL:https://www.evankeliset.net/tapahtuma/tampere-elyn-16-vuotisjuhla-kevatkokous-ja-seminaari/
END:VEVENT
BEGIN:VEVENT
DTSTART;TZID=Europe/Helsinki:20240415T180000
DTEND;TZID=Europe/Helsinki:20240415T200000
DTSTAMP:20260423T190044
CREATED:20240222T080259Z
LAST-MODIFIED:20240222T080259Z
UID:9008-1713204000-1713211200@www.evankeliset.net
SUMMARY:Helsinki\, Lähetystilaisuus STELK
DESCRIPTION:
URL:https://www.evankeliset.net/tapahtuma/helsinki-lahetystilaisuus-stelk/
END:VEVENT
BEGIN:VEVENT
DTSTART;TZID=Europe/Helsinki:20240416T180000
DTEND;TZID=Europe/Helsinki:20240416T200000
DTSTAMP:20260423T190044
CREATED:20240404T052515Z
LAST-MODIFIED:20240404T052515Z
UID:9115-1713290400-1713297600@www.evankeliset.net
SUMMARY:Hyvinkää\, Siionin kanteleen -lauluilta
DESCRIPTION:
URL:https://www.evankeliset.net/tapahtuma/hyvinkaa-siionin-kanteleen-lauluilta/
END:VEVENT
BEGIN:VEVENT
DTSTART;TZID=Europe/Helsinki:20240417T123000
DTEND;TZID=Europe/Helsinki:20240417T133000
DTSTAMP:20260423T190044
CREATED:20231128T121611Z
LAST-MODIFIED:20231128T121611Z
UID:8618-1713357000-1713360600@www.evankeliset.net
SUMMARY:Jalasjärvi\, Siionin kannel seurat
DESCRIPTION:
URL:https://www.evankeliset.net/tapahtuma/jalasjarvi-siionin-kannel-seurat-12/
END:VEVENT
BEGIN:VEVENT
DTSTART;TZID=Europe/Helsinki:20240417T180000
DTEND;TZID=Europe/Helsinki:20240417T200000
DTSTAMP:20260423T190044
CREATED:20240222T080540Z
LAST-MODIFIED:20240311T130207Z
UID:9010-1713376800-1713384000@www.evankeliset.net
SUMMARY:Espoo\, Iloisten laulujen -ilta
DESCRIPTION:
URL:https://www.evankeliset.net/tapahtuma/espoo-iloisten-laulujen-ilta/
END:VEVENT
BEGIN:VEVENT
DTSTART;TZID=Europe/Helsinki:20240418T123000
DTEND;TZID=Europe/Helsinki:20240418T143000
DTSTAMP:20260423T190044
CREATED:20231102T113623Z
LAST-MODIFIED:20240405T073521Z
UID:8460-1713443400-1713450600@www.evankeliset.net
SUMMARY:Alavus\, Hyvässä seurassa
DESCRIPTION:
URL:https://www.evankeliset.net/tapahtuma/alavus-hyvassa-seurassa-32/
END:VEVENT
BEGIN:VEVENT
DTSTART;TZID=Europe/Helsinki:20240418T180000
DTEND;TZID=Europe/Helsinki:20240418T180000
DTSTAMP:20260423T190044
CREATED:20240411T064638Z
LAST-MODIFIED:20240411T064638Z
UID:9147-1713463200-1713463200@www.evankeliset.net
SUMMARY:Alahärmä\, Elyn ja Hyn seurat
DESCRIPTION:
URL:https://www.evankeliset.net/tapahtuma/alaharma-elyn-ja-hyn-seurat/
END:VEVENT
BEGIN:VEVENT
DTSTART;TZID=Europe/Helsinki:20240421T080000
DTEND;TZID=Europe/Helsinki:20240423T170000
DTSTAMP:20260423T190044
CREATED:20240205T070021Z
LAST-MODIFIED:20240205T071345Z
UID:8918-1713686400-1713891600@www.evankeliset.net
SUMMARY:Ylistaro\, lähetysnäyttely
DESCRIPTION:
URL:https://www.evankeliset.net/tapahtuma/ylistaro-lahetysnayttely/
END:VEVENT
BEGIN:VEVENT
DTSTART;TZID=Europe/Helsinki:20240421T100000
DTEND;TZID=Europe/Helsinki:20240421T140000
DTSTAMP:20260423T190044
CREATED:20231122T103735Z
LAST-MODIFIED:20240205T071518Z
UID:8591-1713693600-1713708000@www.evankeliset.net
SUMMARY:Alahärmä\, Kirkkopyhä
DESCRIPTION:
URL:https://www.evankeliset.net/tapahtuma/alaharma-kirkkopyha-3/
END:VEVENT
BEGIN:VEVENT
DTSTART;TZID=Europe/Helsinki:20240422T130000
DTEND;TZID=Europe/Helsinki:20240422T150000
DTSTAMP:20260423T190044
CREATED:20231115T141702Z
LAST-MODIFIED:20240415T114243Z
UID:8556-1713790800-1713798000@www.evankeliset.net
SUMMARY:Kurikka\, Siionin kannel -seurat
DESCRIPTION:
URL:https://www.evankeliset.net/tapahtuma/kurikka-siionin-kannel-seurat-76/
END:VEVENT
BEGIN:VEVENT
DTSTART;TZID=Europe/Helsinki:20240422T130000
DTEND;TZID=Europe/Helsinki:20240422T150000
DTSTAMP:20260423T190044
CREATED:20240201T105541Z
LAST-MODIFIED:20240311T130422Z
UID:8910-1713790800-1713798000@www.evankeliset.net
SUMMARY:Salo\, Päiväkahviseurat
DESCRIPTION:
URL:https://www.evankeliset.net/tapahtuma/salo-paivakahviseurat-2/
END:VEVENT
BEGIN:VEVENT
DTSTART;TZID=Europe/Helsinki:20240422T140000
DTEND;TZID=Europe/Helsinki:20240422T153000
DTSTAMP:20260423T190044
CREATED:20240216T061557Z
LAST-MODIFIED:20240216T061557Z
UID:8987-1713794400-1713799800@www.evankeliset.net
SUMMARY:Kouvola\, Evankelinen lähetyspiiri
DESCRIPTION:
URL:https://www.evankeliset.net/tapahtuma/kouvola-evankelinen-lahetyspiiri-9/
END:VEVENT
BEGIN:VEVENT
DTSTART;TZID=Europe/Helsinki:20240422T180000
DTEND;TZID=Europe/Helsinki:20240422T200000
DTSTAMP:20260423T190044
CREATED:20240311T130706Z
LAST-MODIFIED:20240311T130817Z
UID:9045-1713808800-1713816000@www.evankeliset.net
SUMMARY:Salo\, Raamattutunti
DESCRIPTION:
URL:https://www.evankeliset.net/tapahtuma/salo-raamattutunti/
END:VEVENT
BEGIN:VEVENT
DTSTART;TZID=Europe/Helsinki:20240428T140000
DTEND;TZID=Europe/Helsinki:20240428T160000
DTSTAMP:20260423T190044
CREATED:20231122T104027Z
LAST-MODIFIED:20231218T093501Z
UID:8593-1714312800-1714320000@www.evankeliset.net
SUMMARY:Seinäjoki\, Rakkain Kanteleen lauluni
DESCRIPTION:
URL:https://www.evankeliset.net/tapahtuma/seinajoki-rakkain-kanteleen-lauluni/
END:VEVENT
BEGIN:VEVENT
DTSTART;TZID=Europe/Helsinki:20240428T140000
DTEND;TZID=Europe/Helsinki:20240428T160000
DTSTAMP:20260423T190044
CREATED:20240311T131030Z
LAST-MODIFIED:20240311T131030Z
UID:9047-1714312800-1714320000@www.evankeliset.net
SUMMARY:Espoo\, Nojatuolimessu
DESCRIPTION:
URL:https://www.evankeliset.net/tapahtuma/espoo-nojatuolimessu/
END:VEVENT
BEGIN:VEVENT
DTSTART;TZID=Europe/Helsinki:20240429T180000
DTEND;TZID=Europe/Helsinki:20240429T193000
DTSTAMP:20260423T190044
CREATED:20240305T154447Z
LAST-MODIFIED:20240305T154447Z
UID:9031-1714413600-1714419000@www.evankeliset.net
SUMMARY:Hamina\, Hyvässä seurassa ilta
DESCRIPTION:
URL:https://www.evankeliset.net/tapahtuma/hamina-hyvassa-seurassa-ilta-22/
END:VEVENT
BEGIN:VEVENT
DTSTART;TZID=Europe/Helsinki:20240430T170000
DTEND;TZID=Europe/Helsinki:20240430T200000
DTSTAMP:20260423T190044
CREATED:20231010T073742Z
LAST-MODIFIED:20240325T112309Z
UID:8432-1714496400-1714507200@www.evankeliset.net
SUMMARY:Lapua\, Vappumyyjäiset ja seurat
DESCRIPTION:
URL:https://www.evankeliset.net/tapahtuma/lapua-vappumyyjaiset-ja-seurat-4/
END:VEVENT
END:VCALENDAR