BEGIN:VCALENDAR
VERSION:2.0
PRODID:-//Evankelinen lähetysyhdistys ELY ry - ECPv6.15.18//NONSGML v1.0//EN
CALSCALE:GREGORIAN
METHOD:PUBLISH
X-WR-CALNAME:Evankelinen lähetysyhdistys ELY ry
X-ORIGINAL-URL:https://www.evankeliset.net
X-WR-CALDESC:Tapahtumat Evankelinen lähetysyhdistys ELY ry
REFRESH-INTERVAL;VALUE=DURATION:PT1H
X-Robots-Tag:noindex
X-PUBLISHED-TTL:PT1H
BEGIN:VTIMEZONE
TZID:Europe/Helsinki
BEGIN:DAYLIGHT
TZOFFSETFROM:+0200
TZOFFSETTO:+0300
TZNAME:EEST
DTSTART:20170326T010000
END:DAYLIGHT
BEGIN:STANDARD
TZOFFSETFROM:+0300
TZOFFSETTO:+0200
TZNAME:EET
DTSTART:20171029T010000
END:STANDARD
BEGIN:DAYLIGHT
TZOFFSETFROM:+0200
TZOFFSETTO:+0300
TZNAME:EEST
DTSTART:20180325T010000
END:DAYLIGHT
BEGIN:STANDARD
TZOFFSETFROM:+0300
TZOFFSETTO:+0200
TZNAME:EET
DTSTART:20181028T010000
END:STANDARD
BEGIN:DAYLIGHT
TZOFFSETFROM:+0200
TZOFFSETTO:+0300
TZNAME:EEST
DTSTART:20190331T010000
END:DAYLIGHT
BEGIN:STANDARD
TZOFFSETFROM:+0300
TZOFFSETTO:+0200
TZNAME:EET
DTSTART:20191027T010000
END:STANDARD
END:VTIMEZONE
BEGIN:VEVENT
DTSTART;TZID=Europe/Helsinki:20180802T180000
DTEND;TZID=Europe/Helsinki:20180802T200000
DTSTAMP:20260423T130301
CREATED:20180411T051206Z
LAST-MODIFIED:20180702T105347Z
UID:737-1533232800-1533240000@www.evankeliset.net
SUMMARY:Kauhajoki\, Kirkkopihaseurat
DESCRIPTION:
URL:https://www.evankeliset.net/tapahtuma/kauhajoki-kirkkopihaseurat/
END:VEVENT
BEGIN:VEVENT
DTSTART;TZID=Europe/Helsinki:20180805T140000
DTEND;TZID=Europe/Helsinki:20180805T160000
DTSTAMP:20260423T130301
CREATED:20180626T041253Z
LAST-MODIFIED:20180626T041253Z
UID:1104-1533477600-1533484800@www.evankeliset.net
SUMMARY:Kouvola\, Pihaseurat
DESCRIPTION:
URL:https://www.evankeliset.net/tapahtuma/kouvola-pihaseurat/
END:VEVENT
BEGIN:VEVENT
DTSTART;TZID=Europe/Helsinki:20180805T140000
DTEND;TZID=Europe/Helsinki:20180805T170000
DTSTAMP:20260423T130301
CREATED:20180621T165134Z
LAST-MODIFIED:20180713T040732Z
UID:1054-1533477600-1533488400@www.evankeliset.net
SUMMARY:Lohtaja\, Mökkiseurat
DESCRIPTION:
URL:https://www.evankeliset.net/tapahtuma/lohtaja-mokkiseurat/
END:VEVENT
BEGIN:VEVENT
DTSTART;TZID=Europe/Helsinki:20180805T180000
DTEND;TZID=Europe/Helsinki:20180805T210000
DTSTAMP:20260423T130301
CREATED:20180308T062338Z
LAST-MODIFIED:20180424T140421Z
UID:464-1533492000-1533502800@www.evankeliset.net
SUMMARY:Alahärmä\, miestenilta
DESCRIPTION:
URL:https://www.evankeliset.net/tapahtuma/kal-464/
END:VEVENT
BEGIN:VEVENT
DTSTART;TZID=Europe/Helsinki:20180807T100000
DTEND;TZID=Europe/Helsinki:20180807T140000
DTSTAMP:20260423T130301
CREATED:20180411T041855Z
LAST-MODIFIED:20180411T041855Z
UID:722-1533636000-1533650400@www.evankeliset.net
SUMMARY:Kurikka\, Kesätori
DESCRIPTION:
URL:https://www.evankeliset.net/tapahtuma/kurikka-kesatori/
END:VEVENT
BEGIN:VEVENT
DTSTART;TZID=Europe/Helsinki:20180812T100000
DTEND;TZID=Europe/Helsinki:20180812T140000
DTSTAMP:20260423T130301
CREATED:20180417T043823Z
LAST-MODIFIED:20180417T043823Z
UID:808-1534068000-1534082400@www.evankeliset.net
SUMMARY:Hyvinkää\, Messu ja päiväjuhla
DESCRIPTION:
URL:https://www.evankeliset.net/tapahtuma/hyvinkaa-messu-ja-paivajuhla/
END:VEVENT
BEGIN:VEVENT
DTSTART;TZID=Europe/Helsinki:20180812T140000
DTEND;TZID=Europe/Helsinki:20180812T150000
DTSTAMP:20260423T130301
CREATED:20180614T072111Z
LAST-MODIFIED:20180614T072111Z
UID:984-1534082400-1534086000@www.evankeliset.net
SUMMARY:Kohtaamisia Verkostossa
DESCRIPTION:
URL:https://www.evankeliset.net/tapahtuma/kohtaamisia-verkostossa/
END:VEVENT
BEGIN:VEVENT
DTSTART;TZID=Europe/Helsinki:20180812T150000
DTEND;TZID=Europe/Helsinki:20180812T170000
DTSTAMP:20260423T130301
CREATED:20180416T054319Z
LAST-MODIFIED:20180424T140522Z
UID:799-1534086000-1534093200@www.evankeliset.net
SUMMARY:Lapua\, Pihaseurat
DESCRIPTION:
URL:https://www.evankeliset.net/tapahtuma/lapua-pihaseurat/
END:VEVENT
BEGIN:VEVENT
DTSTART;TZID=Europe/Helsinki:20180812T180000
DTEND;TZID=Europe/Helsinki:20180812T200000
DTSTAMP:20260423T130301
CREATED:20180628T070233Z
LAST-MODIFIED:20180628T070233Z
UID:1115-1534096800-1534104000@www.evankeliset.net
SUMMARY:Anneli Näkin muistoseurat Näkillä Kannusjärvellä
DESCRIPTION:
URL:https://www.evankeliset.net/tapahtuma/anneli-nakin-muistoseurat-nakilla-kannusjarvella/
END:VEVENT
BEGIN:VEVENT
DTSTART;TZID=Europe/Helsinki:20180813T180000
DTEND;TZID=Europe/Helsinki:20180813T200000
DTSTAMP:20260423T130301
CREATED:20180614T072633Z
LAST-MODIFIED:20180614T072633Z
UID:986-1534183200-1534190400@www.evankeliset.net
SUMMARY:Kohtaamisia Alppilassa
DESCRIPTION:
URL:https://www.evankeliset.net/tapahtuma/kohtaamisia-alppilassa/
END:VEVENT
BEGIN:VEVENT
DTSTART;TZID=Europe/Helsinki:20180819T100000
DTEND;TZID=Europe/Helsinki:20180819T130000
DTSTAMP:20260423T130301
CREATED:20180420T113242Z
LAST-MODIFIED:20180420T113242Z
UID:858-1534672800-1534683600@www.evankeliset.net
SUMMARY:Hämeenlinna\, Elyn kirkkopyhä
DESCRIPTION:
URL:https://www.evankeliset.net/tapahtuma/hameenlinna-elyn-kirkkopyha-2/
END:VEVENT
BEGIN:VEVENT
DTSTART;TZID=Europe/Helsinki:20180819T140000
DTEND;TZID=Europe/Helsinki:20180819T170000
DTSTAMP:20260423T130301
CREATED:20180424T140821Z
LAST-MODIFIED:20180816T060955Z
UID:878-1534687200-1534698000@www.evankeliset.net
SUMMARY:Lestijärvi\, mökkiseurat
DESCRIPTION:
URL:https://www.evankeliset.net/tapahtuma/lestijarvi-mokkiseurat/
END:VEVENT
BEGIN:VEVENT
DTSTART;TZID=Europe/Helsinki:20180820T100000
DTEND;TZID=Europe/Helsinki:20180820T140000
DTSTAMP:20260423T130301
CREATED:20180815T110413Z
LAST-MODIFIED:20180815T110413Z
UID:1196-1534759200-1534773600@www.evankeliset.net
SUMMARY:Kokkola\, Lähetyssoppi
DESCRIPTION:
URL:https://www.evankeliset.net/tapahtuma/kokkola-lahetyssoppi/
END:VEVENT
BEGIN:VEVENT
DTSTART;TZID=Europe/Helsinki:20180821T180000
DTEND;TZID=Europe/Helsinki:20180821T193000
DTSTAMP:20260423T130301
CREATED:20180821T092923Z
LAST-MODIFIED:20180821T092923Z
UID:1246-1534874400-1534879800@www.evankeliset.net
SUMMARY:Juva\, Raamattuluento
DESCRIPTION:
URL:https://www.evankeliset.net/tapahtuma/juva-raamattuluento-2/
END:VEVENT
BEGIN:VEVENT
DTSTART;TZID=Europe/Helsinki:20180823T180000
DTEND;TZID=Europe/Helsinki:20180823T193000
DTSTAMP:20260423T130301
CREATED:20180821T093059Z
LAST-MODIFIED:20180821T093059Z
UID:1248-1535047200-1535052600@www.evankeliset.net
SUMMARY:Sulkava\, Raamattuluento
DESCRIPTION:
URL:https://www.evankeliset.net/tapahtuma/sulkava-raamattuluento-4/
END:VEVENT
BEGIN:VEVENT
DTSTART;TZID=Europe/Helsinki:20180826T130000
DTEND;TZID=Europe/Helsinki:20180826T150000
DTSTAMP:20260423T130301
CREATED:20180409T121228Z
LAST-MODIFIED:20180823T101417Z
UID:699-1535288400-1535295600@www.evankeliset.net
SUMMARY:Kurikka\, Myllykylä\,  seurat
DESCRIPTION:
URL:https://www.evankeliset.net/tapahtuma/kurikka-myllykyla-seurat/
END:VEVENT
BEGIN:VEVENT
DTSTART;TZID=Europe/Helsinki:20180826T170000
DTEND;TZID=Europe/Helsinki:20180826T190000
DTSTAMP:20260423T130301
CREATED:20180614T072904Z
LAST-MODIFIED:20180614T072904Z
UID:989-1535302800-1535310000@www.evankeliset.net
SUMMARY:Laukaa\, Israel-ilta
DESCRIPTION:
URL:https://www.evankeliset.net/tapahtuma/laukaa-israel-ilta/
END:VEVENT
BEGIN:VEVENT
DTSTART;TZID=Europe/Helsinki:20180828T180000
DTEND;TZID=Europe/Helsinki:20180828T183000
DTSTAMP:20260423T130301
CREATED:20180821T093319Z
LAST-MODIFIED:20180821T093319Z
UID:1250-1535479200-1535481000@www.evankeliset.net
SUMMARY:Erja Radio Deissä
DESCRIPTION:
URL:https://www.evankeliset.net/tapahtuma/erja-radio-deissa/
END:VEVENT
BEGIN:VEVENT
DTSTART;TZID=Europe/Helsinki:20180828T180000
DTEND;TZID=Europe/Helsinki:20180828T200000
DTSTAMP:20260423T130301
CREATED:20180413T072545Z
LAST-MODIFIED:20180815T102542Z
UID:770-1535479200-1535486400@www.evankeliset.net
SUMMARY:Alavus\, Lauluseurat
DESCRIPTION:
URL:https://www.evankeliset.net/tapahtuma/alavus-lauluseurat/
END:VEVENT
BEGIN:VEVENT
DTSTART;TZID=Europe/Helsinki:20180829T180000
DTEND;TZID=Europe/Helsinki:20180829T190000
DTSTAMP:20260423T130301
CREATED:20180821T093446Z
LAST-MODIFIED:20180821T093446Z
UID:1252-1535565600-1535569200@www.evankeliset.net
SUMMARY:Sulkava\, rukousilta
DESCRIPTION:
URL:https://www.evankeliset.net/tapahtuma/sulkava-rukousilta-2/
END:VEVENT
BEGIN:VEVENT
DTSTART;TZID=Europe/Helsinki:20180830T180000
DTEND;TZID=Europe/Helsinki:20180830T200000
DTSTAMP:20260423T130301
CREATED:20180308T062338Z
LAST-MODIFIED:20180821T072510Z
UID:465-1535652000-1535659200@www.evankeliset.net
SUMMARY:Lapua\, mökkiseurat
DESCRIPTION:
URL:https://www.evankeliset.net/tapahtuma/kal-465/
END:VEVENT
BEGIN:VEVENT
DTSTART;TZID=Europe/Helsinki:20180901T170000
DTEND;TZID=Europe/Helsinki:20180901T190000
DTSTAMP:20260423T130301
CREATED:20180821T093557Z
LAST-MODIFIED:20180821T093557Z
UID:1254-1535821200-1535828400@www.evankeliset.net
SUMMARY:Savonlinna\, Loisto-ilta
DESCRIPTION:
URL:https://www.evankeliset.net/tapahtuma/savonlinna-loisto-ilta-2/
END:VEVENT
BEGIN:VEVENT
DTSTART;TZID=Europe/Helsinki:20180902T100000
DTEND;TZID=Europe/Helsinki:20180902T130000
DTSTAMP:20260423T130301
CREATED:20180628T071116Z
LAST-MODIFIED:20180628T071116Z
UID:1118-1535882400-1535893200@www.evankeliset.net
SUMMARY:Elimäki\, lähetyspyhä
DESCRIPTION:
URL:https://www.evankeliset.net/tapahtuma/elimaki-lahetyspyha/
END:VEVENT
BEGIN:VEVENT
DTSTART;TZID=Europe/Helsinki:20180902T100000
DTEND;TZID=Europe/Helsinki:20180902T150000
DTSTAMP:20260423T130301
CREATED:20180308T062338Z
LAST-MODIFIED:20180822T050259Z
UID:475-1535882400-1535900400@www.evankeliset.net
SUMMARY:Kaustinen\, kirkkopyhä
DESCRIPTION:
URL:https://www.evankeliset.net/tapahtuma/kal-475/
END:VEVENT
BEGIN:VEVENT
DTSTART;TZID=Europe/Helsinki:20180903T130000
DTEND;TZID=Europe/Helsinki:20180903T150000
DTSTAMP:20260423T130301
CREATED:20180411T044754Z
LAST-MODIFIED:20180702T125148Z
UID:728-1535979600-1535986800@www.evankeliset.net
SUMMARY:Kurikka\, Siionin Kannel seurat
DESCRIPTION:
URL:https://www.evankeliset.net/tapahtuma/kurikka-siionin-kannel-seurat-2/
END:VEVENT
BEGIN:VEVENT
DTSTART;TZID=Europe/Helsinki:20180909T100000
DTEND;TZID=Europe/Helsinki:20180909T140000
DTSTAMP:20260423T130301
CREATED:20180308T062338Z
LAST-MODIFIED:20180702T120905Z
UID:467-1536487200-1536501600@www.evankeliset.net
SUMMARY:Kauhava \,etelä-pohjalaanen kirkkopyhä "Korkiammas käres"
DESCRIPTION:
URL:https://www.evankeliset.net/tapahtuma/kal-467/
END:VEVENT
BEGIN:VEVENT
DTSTART;TZID=Europe/Helsinki:20180909T100000
DTEND;TZID=Europe/Helsinki:20180909T140000
DTSTAMP:20260423T130301
CREATED:20180308T062338Z
LAST-MODIFIED:20180821T045710Z
UID:468-1536487200-1536501600@www.evankeliset.net
SUMMARY:Virrat\, Elyn kirkkopyhä
DESCRIPTION:
URL:https://www.evankeliset.net/tapahtuma/kal-468/
END:VEVENT
BEGIN:VEVENT
DTSTART;TZID=Europe/Helsinki:20180909T100000
DTEND;TZID=Europe/Helsinki:20180909T140000
DTSTAMP:20260423T130301
CREATED:20180308T062338Z
LAST-MODIFIED:20180821T094228Z
UID:469-1536487200-1536501600@www.evankeliset.net
SUMMARY:Sulkava\, kirkkopyhä ja lähettäjätapaaminen
DESCRIPTION:
URL:https://www.evankeliset.net/tapahtuma/kal-469/
END:VEVENT
BEGIN:VEVENT
DTSTART;TZID=Europe/Helsinki:20180909T130000
DTEND;TZID=Europe/Helsinki:20180909T150000
DTSTAMP:20260423T130301
CREATED:20180821T045530Z
LAST-MODIFIED:20180821T045530Z
UID:1228-1536498000-1536505200@www.evankeliset.net
SUMMARY:Virrat\, Kurjenkylä\, Jumalanpalvelus
DESCRIPTION:
URL:https://www.evankeliset.net/tapahtuma/virrat-kurjenkyla-jumalanpalvelus/
END:VEVENT
BEGIN:VEVENT
DTSTART;TZID=Europe/Helsinki:20180909T170000
DTEND;TZID=Europe/Helsinki:20180909T190000
DTSTAMP:20260423T130301
CREATED:20180820T052119Z
LAST-MODIFIED:20180820T052119Z
UID:1216-1536512400-1536519600@www.evankeliset.net
SUMMARY:Tampere\, Lauluseurat
DESCRIPTION:
URL:https://www.evankeliset.net/tapahtuma/tampere-lauluseurat/
END:VEVENT
END:VCALENDAR