BEGIN:VCALENDAR
VERSION:2.0
PRODID:-//Evankelinen lähetysyhdistys ELY ry - ECPv6.15.18//NONSGML v1.0//EN
CALSCALE:GREGORIAN
METHOD:PUBLISH
X-WR-CALNAME:Evankelinen lähetysyhdistys ELY ry
X-ORIGINAL-URL:https://www.evankeliset.net
X-WR-CALDESC:Tapahtumat Evankelinen lähetysyhdistys ELY ry
REFRESH-INTERVAL;VALUE=DURATION:PT1H
X-Robots-Tag:noindex
X-PUBLISHED-TTL:PT1H
BEGIN:VTIMEZONE
TZID:Europe/Helsinki
BEGIN:DAYLIGHT
TZOFFSETFROM:+0200
TZOFFSETTO:+0300
TZNAME:EEST
DTSTART:20170326T010000
END:DAYLIGHT
BEGIN:STANDARD
TZOFFSETFROM:+0300
TZOFFSETTO:+0200
TZNAME:EET
DTSTART:20171029T010000
END:STANDARD
BEGIN:DAYLIGHT
TZOFFSETFROM:+0200
TZOFFSETTO:+0300
TZNAME:EEST
DTSTART:20180325T010000
END:DAYLIGHT
BEGIN:STANDARD
TZOFFSETFROM:+0300
TZOFFSETTO:+0200
TZNAME:EET
DTSTART:20181028T010000
END:STANDARD
BEGIN:DAYLIGHT
TZOFFSETFROM:+0200
TZOFFSETTO:+0300
TZNAME:EEST
DTSTART:20190331T010000
END:DAYLIGHT
BEGIN:STANDARD
TZOFFSETFROM:+0300
TZOFFSETTO:+0200
TZNAME:EET
DTSTART:20191027T010000
END:STANDARD
END:VTIMEZONE
BEGIN:VEVENT
DTSTART;TZID=Europe/Helsinki:20180912T100000
DTEND;TZID=Europe/Helsinki:20180912T140000
DTSTAMP:20260423T144924
CREATED:20180815T110546Z
LAST-MODIFIED:20180815T110546Z
UID:1198-1536746400-1536760800@www.evankeliset.net
SUMMARY:Kokkola\, Lähetyssoppi
DESCRIPTION:
URL:https://www.evankeliset.net/tapahtuma/kokkola-lahetyssoppi-2/
END:VEVENT
BEGIN:VEVENT
DTSTART;TZID=Europe/Helsinki:20180912T180000
DTEND;TZID=Europe/Helsinki:20180912T193000
DTSTAMP:20260423T144924
CREATED:20180912T064247Z
LAST-MODIFIED:20180912T064247Z
UID:1335-1536775200-1536780600@www.evankeliset.net
SUMMARY:Sulkava\, rukousilta
DESCRIPTION:
URL:https://www.evankeliset.net/tapahtuma/sulkava-rukousilta-3/
END:VEVENT
BEGIN:VEVENT
DTSTART;TZID=Europe/Helsinki:20180913T100000
DTEND;TZID=Europe/Helsinki:20180913T150000
DTSTAMP:20260423T144924
CREATED:20180308T062338Z
LAST-MODIFIED:20180308T062338Z
UID:471-1536832800-1536850800@www.evankeliset.net
SUMMARY:Kauhajoki\, Siionin Kannel seurat
DESCRIPTION:
URL:https://www.evankeliset.net/tapahtuma/kal-471/
END:VEVENT
BEGIN:VEVENT
DTSTART;TZID=Europe/Helsinki:20180913T180000
DTEND;TZID=Europe/Helsinki:20180913T200000
DTSTAMP:20260423T144924
CREATED:20180704T091616Z
LAST-MODIFIED:20180704T091616Z
UID:1143-1536861600-1536868800@www.evankeliset.net
SUMMARY:Kannus\, Hyvässä seurassa -ilta
DESCRIPTION:
URL:https://www.evankeliset.net/tapahtuma/kannus-hyvassa-seurassa-ilta/
END:VEVENT
BEGIN:VEVENT
DTSTART;VALUE=DATE:20180915
DTEND;VALUE=DATE:20180917
DTSTAMP:20260423T144924
CREATED:20180821T051047Z
LAST-MODIFIED:20180821T051047Z
UID:1241-1536969600-1537142399@www.evankeliset.net
SUMMARY:Espoo\, SyysMatin markkinat
DESCRIPTION:
URL:https://www.evankeliset.net/tapahtuma/espoo-syysmatin-markkinat/
END:VEVENT
BEGIN:VEVENT
DTSTART;TZID=Europe/Helsinki:20180916T100000
DTEND;TZID=Europe/Helsinki:20180916T140000
DTSTAMP:20260423T144924
CREATED:20180308T062338Z
LAST-MODIFIED:20180308T062338Z
UID:300-1537092000-1537106400@www.evankeliset.net
SUMMARY:Toivakka\, Elyn kirkkopyhä
DESCRIPTION:
URL:https://www.evankeliset.net/tapahtuma/toivakka-elyn-kirkkopyha/
END:VEVENT
BEGIN:VEVENT
DTSTART;TZID=Europe/Helsinki:20180916T100000
DTEND;TZID=Europe/Helsinki:20180916T140000
DTSTAMP:20260423T144924
CREATED:20180308T062338Z
LAST-MODIFIED:20180820T113757Z
UID:473-1537092000-1537106400@www.evankeliset.net
SUMMARY:Seinäjoki\, maakunnallinen kirkkopyhä\, kiitosjuhla
DESCRIPTION:
URL:https://www.evankeliset.net/tapahtuma/kal-473/
END:VEVENT
BEGIN:VEVENT
DTSTART;TZID=Europe/Helsinki:20180917T160000
DTEND;TZID=Europe/Helsinki:20180917T180000
DTSTAMP:20260423T144924
CREATED:20180411T044958Z
LAST-MODIFIED:20180912T052738Z
UID:730-1537200000-1537207200@www.evankeliset.net
SUMMARY:Kurikka\, Myyjäiset
DESCRIPTION:
URL:https://www.evankeliset.net/tapahtuma/kurikka-myyjaiset/
END:VEVENT
BEGIN:VEVENT
DTSTART;TZID=Europe/Helsinki:20180918T133000
DTEND;TZID=Europe/Helsinki:20180918T153000
DTSTAMP:20260423T144924
CREATED:20180717T040226Z
LAST-MODIFIED:20180717T040310Z
UID:1167-1537277400-1537284600@www.evankeliset.net
SUMMARY:Forssa\, Siionin Kannel -seurat
DESCRIPTION:
URL:https://www.evankeliset.net/tapahtuma/forssa-siionin-kannel-seurat/
END:VEVENT
BEGIN:VEVENT
DTSTART;TZID=Europe/Helsinki:20180918T180000
DTEND;TZID=Europe/Helsinki:20180918T193000
DTSTAMP:20260423T144924
CREATED:20180912T064652Z
LAST-MODIFIED:20180912T064652Z
UID:1337-1537293600-1537299000@www.evankeliset.net
SUMMARY:Juva\, Raamattuluento
DESCRIPTION:
URL:https://www.evankeliset.net/tapahtuma/juva-raamattuluento-3/
END:VEVENT
BEGIN:VEVENT
DTSTART;TZID=Europe/Helsinki:20180920T180000
DTEND;TZID=Europe/Helsinki:20180920T200000
DTSTAMP:20260423T144924
CREATED:20180416T052020Z
LAST-MODIFIED:20180416T052020Z
UID:796-1537466400-1537473600@www.evankeliset.net
SUMMARY:Lapua\, Lauluseurat
DESCRIPTION:
URL:https://www.evankeliset.net/tapahtuma/lapua-lauluseurat/
END:VEVENT
BEGIN:VEVENT
DTSTART;TZID=Europe/Helsinki:20180921T180000
DTEND;TZID=Europe/Helsinki:20180921T200000
DTSTAMP:20260423T144924
CREATED:20180614T073229Z
LAST-MODIFIED:20180614T073229Z
UID:991-1537552800-1537560000@www.evankeliset.net
SUMMARY:Helsinki\, Vuosaari\, Kuninkaan ilta
DESCRIPTION:
URL:https://www.evankeliset.net/tapahtuma/helsinki-vuosaari-kuninkaan-ilta/
END:VEVENT
BEGIN:VEVENT
DTSTART;TZID=Europe/Helsinki:20180923T093000
DTEND;TZID=Europe/Helsinki:20180923T170000
DTSTAMP:20260423T144924
CREATED:20180904T084504Z
LAST-MODIFIED:20180904T085026Z
UID:1312-1537695000-1537722000@www.evankeliset.net
SUMMARY:Karstula\, Ev. Opiston 70v-juhla
DESCRIPTION:
URL:https://www.evankeliset.net/tapahtuma/karstula-ev-opiston-70v-juhla/
END:VEVENT
BEGIN:VEVENT
DTSTART;TZID=Europe/Helsinki:20180923T100000
DTEND;TZID=Europe/Helsinki:20180923T113000
DTSTAMP:20260423T144924
CREATED:20180411T052925Z
LAST-MODIFIED:20180807T075524Z
UID:747-1537696800-1537702200@www.evankeliset.net
SUMMARY:Jalasjärvi\, Kirkkopyhä
DESCRIPTION:
URL:https://www.evankeliset.net/tapahtuma/jalasjarvi-kirkkopyha/
END:VEVENT
BEGIN:VEVENT
DTSTART;TZID=Europe/Helsinki:20180923T100000
DTEND;TZID=Europe/Helsinki:20180923T123000
DTSTAMP:20260423T144924
CREATED:20180614T073406Z
LAST-MODIFIED:20180614T073406Z
UID:993-1537696800-1537705800@www.evankeliset.net
SUMMARY:Helsinki\, Pitäjänmäki\, Elyn kirkkopyhä
DESCRIPTION:
URL:https://www.evankeliset.net/tapahtuma/helsinki-pitajanmaki-elyn-kirkkopyha/
END:VEVENT
BEGIN:VEVENT
DTSTART;TZID=Europe/Helsinki:20180923T100000
DTEND;TZID=Europe/Helsinki:20180923T130000
DTSTAMP:20260423T144924
CREATED:20180420T112205Z
LAST-MODIFIED:20180420T112842Z
UID:854-1537696800-1537707600@www.evankeliset.net
SUMMARY:Pyhtää\, Elyn kirkkopyhä
DESCRIPTION:
URL:https://www.evankeliset.net/tapahtuma/hameenlinna-elyn-kirkkopyha/
END:VEVENT
BEGIN:VEVENT
DTSTART;TZID=Europe/Helsinki:20180923T100000
DTEND;TZID=Europe/Helsinki:20180923T140000
DTSTAMP:20260423T144924
CREATED:20180308T062338Z
LAST-MODIFIED:20180905T103004Z
UID:477-1537696800-1537711200@www.evankeliset.net
SUMMARY:Evijärvi\, ELYn kirkkopyhä
DESCRIPTION:
URL:https://www.evankeliset.net/tapahtuma/kal-477/
END:VEVENT
BEGIN:VEVENT
DTSTART;TZID=Europe/Helsinki:20180923T100000
DTEND;TZID=Europe/Helsinki:20180923T140000
DTSTAMP:20260423T144924
CREATED:20180308T062338Z
LAST-MODIFIED:20180702T121256Z
UID:476-1537696800-1537711200@www.evankeliset.net
SUMMARY:Himanka\, Elyn kirkkopyhä
DESCRIPTION:
URL:https://www.evankeliset.net/tapahtuma/kal-476/
END:VEVENT
BEGIN:VEVENT
DTSTART;TZID=Europe/Helsinki:20180923T120000
DTEND;TZID=Europe/Helsinki:20180923T140000
DTSTAMP:20260423T144924
CREATED:20180411T053127Z
LAST-MODIFIED:20180807T075400Z
UID:749-1537704000-1537711200@www.evankeliset.net
SUMMARY:Jalasjärvi\, Minä Uskon? Raamattuluento
DESCRIPTION:
URL:https://www.evankeliset.net/tapahtuma/jalasjarvi-mina-uskon-raamattuluento/
END:VEVENT
BEGIN:VEVENT
DTSTART;TZID=Europe/Helsinki:20180923T130000
DTEND;TZID=Europe/Helsinki:20180923T140000
DTSTAMP:20260423T144924
CREATED:20180912T065951Z
LAST-MODIFIED:20180912T065951Z
UID:1342-1537707600-1537711200@www.evankeliset.net
SUMMARY:Helsinki\, Verkoston messu
DESCRIPTION:
URL:https://www.evankeliset.net/tapahtuma/helsinki-verkoston-messu/
END:VEVENT
BEGIN:VEVENT
DTSTART;TZID=Europe/Helsinki:20180923T140000
DTEND;TZID=Europe/Helsinki:20180923T150000
DTSTAMP:20260423T144924
CREATED:20180614T073500Z
LAST-MODIFIED:20180912T065751Z
UID:995-1537711200-1537714800@www.evankeliset.net
SUMMARY:Kohtaamisia Verkostossa
DESCRIPTION:
URL:https://www.evankeliset.net/tapahtuma/kohtaamisia-verkostossa-2/
END:VEVENT
BEGIN:VEVENT
DTSTART;TZID=Europe/Helsinki:20180923T180000
DTEND;TZID=Europe/Helsinki:20180923T200000
DTSTAMP:20260423T144924
CREATED:20180417T043959Z
LAST-MODIFIED:20180906T084025Z
UID:810-1537725600-1537732800@www.evankeliset.net
SUMMARY:Hyvinkää\, kirkkoilta
DESCRIPTION:
URL:https://www.evankeliset.net/tapahtuma/hyvinkaa-siionin-kannel-seurat/
END:VEVENT
BEGIN:VEVENT
DTSTART;TZID=Europe/Helsinki:20180925T130000
DTEND;TZID=Europe/Helsinki:20180925T150000
DTSTAMP:20260423T144924
CREATED:20180308T062338Z
LAST-MODIFIED:20180827T084935Z
UID:478-1537880400-1537887600@www.evankeliset.net
SUMMARY:Alavus\, Lauluseurat
DESCRIPTION:
URL:https://www.evankeliset.net/tapahtuma/kal-478/
END:VEVENT
BEGIN:VEVENT
DTSTART;TZID=Europe/Helsinki:20180925T180000
DTEND;TZID=Europe/Helsinki:20180925T200000
DTSTAMP:20260423T144924
CREATED:20180520T175129Z
LAST-MODIFIED:20180820T104501Z
UID:947-1537898400-1537905600@www.evankeliset.net
SUMMARY:Laihia\, Minä uskon? raamattuluento
DESCRIPTION:
URL:https://www.evankeliset.net/tapahtuma/laihia-mina-uskon-raamattuluento/
END:VEVENT
BEGIN:VEVENT
DTSTART;TZID=Europe/Helsinki:20180925T180000
DTEND;TZID=Europe/Helsinki:20180925T200000
DTSTAMP:20260423T144924
CREATED:20180618T051129Z
LAST-MODIFIED:20180618T051301Z
UID:1023-1537898400-1537905600@www.evankeliset.net
SUMMARY:Salo\, Siionin Kannel -seurat
DESCRIPTION:
URL:https://www.evankeliset.net/tapahtuma/salo-siionin-kannel-seurat/
END:VEVENT
BEGIN:VEVENT
DTSTART;TZID=Europe/Helsinki:20180926T180000
DTEND;TZID=Europe/Helsinki:20180926T193000
DTSTAMP:20260423T144924
CREATED:20180912T070121Z
LAST-MODIFIED:20180912T070121Z
UID:1344-1537984800-1537990200@www.evankeliset.net
SUMMARY:Sulkava\, rukousilta
DESCRIPTION:
URL:https://www.evankeliset.net/tapahtuma/sulkava-rukousilta-4/
END:VEVENT
BEGIN:VEVENT
DTSTART;TZID=Europe/Helsinki:20180926T180000
DTEND;TZID=Europe/Helsinki:20180926T200000
DTSTAMP:20260423T144924
CREATED:20180827T085349Z
LAST-MODIFIED:20180827T085349Z
UID:1288-1537984800-1537992000@www.evankeliset.net
SUMMARY:Lappajärvi\, seurat
DESCRIPTION:
URL:https://www.evankeliset.net/tapahtuma/lappajarvi-seurat/
END:VEVENT
BEGIN:VEVENT
DTSTART;TZID=Europe/Helsinki:20180927T180000
DTEND;TZID=Europe/Helsinki:20180927T193000
DTSTAMP:20260423T144924
CREATED:20180912T070213Z
LAST-MODIFIED:20180912T070213Z
UID:1346-1538071200-1538076600@www.evankeliset.net
SUMMARY:Sulkava\, Raamattuluento
DESCRIPTION:
URL:https://www.evankeliset.net/tapahtuma/sulkava-raamattuluento-5/
END:VEVENT
BEGIN:VEVENT
DTSTART;TZID=Europe/Helsinki:20180927T180000
DTEND;TZID=Europe/Helsinki:20180927T200000
DTSTAMP:20260423T144924
CREATED:20180905T093606Z
LAST-MODIFIED:20180905T093606Z
UID:1320-1538071200-1538078400@www.evankeliset.net
SUMMARY:Peräseinäjoki
DESCRIPTION:
URL:https://www.evankeliset.net/tapahtuma/peraseinajoki/
END:VEVENT
BEGIN:VEVENT
DTSTART;TZID=Europe/Helsinki:20181001T130000
DTEND;TZID=Europe/Helsinki:20181001T150000
DTSTAMP:20260423T144924
CREATED:20180411T045136Z
LAST-MODIFIED:20180928T103938Z
UID:732-1538398800-1538406000@www.evankeliset.net
SUMMARY:Kurikka\, Siionin Kannel seurat
DESCRIPTION:
URL:https://www.evankeliset.net/tapahtuma/kurikka-siionin-kannel-seurat-3/
END:VEVENT
END:VCALENDAR