BEGIN:VCALENDAR
VERSION:2.0
PRODID:-//Evankelinen lähetysyhdistys ELY ry - ECPv6.15.18//NONSGML v1.0//EN
CALSCALE:GREGORIAN
METHOD:PUBLISH
X-WR-CALNAME:Evankelinen lähetysyhdistys ELY ry
X-ORIGINAL-URL:https://www.evankeliset.net
X-WR-CALDESC:Tapahtumat Evankelinen lähetysyhdistys ELY ry
REFRESH-INTERVAL;VALUE=DURATION:PT1H
X-Robots-Tag:noindex
X-PUBLISHED-TTL:PT1H
BEGIN:VTIMEZONE
TZID:Europe/Helsinki
BEGIN:DAYLIGHT
TZOFFSETFROM:+0200
TZOFFSETTO:+0300
TZNAME:EEST
DTSTART:20180325T010000
END:DAYLIGHT
BEGIN:STANDARD
TZOFFSETFROM:+0300
TZOFFSETTO:+0200
TZNAME:EET
DTSTART:20181028T010000
END:STANDARD
BEGIN:DAYLIGHT
TZOFFSETFROM:+0200
TZOFFSETTO:+0300
TZNAME:EEST
DTSTART:20190331T010000
END:DAYLIGHT
BEGIN:STANDARD
TZOFFSETFROM:+0300
TZOFFSETTO:+0200
TZNAME:EET
DTSTART:20191027T010000
END:STANDARD
BEGIN:DAYLIGHT
TZOFFSETFROM:+0200
TZOFFSETTO:+0300
TZNAME:EEST
DTSTART:20200329T010000
END:DAYLIGHT
BEGIN:STANDARD
TZOFFSETFROM:+0300
TZOFFSETTO:+0200
TZNAME:EET
DTSTART:20201025T010000
END:STANDARD
END:VTIMEZONE
BEGIN:VEVENT
DTSTART;TZID=Europe/Helsinki:20190115T133000
DTEND;TZID=Europe/Helsinki:20190115T153000
DTSTAMP:20260423T143209
CREATED:20181112T121338Z
LAST-MODIFIED:20181112T121338Z
UID:1798-1547559000-1547566200@www.evankeliset.net
SUMMARY:Forssa\, Siionin Kannel -seurat
DESCRIPTION:
URL:https://www.evankeliset.net/tapahtuma/forssa-siionin-kannel-seurat-4/
END:VEVENT
BEGIN:VEVENT
DTSTART;TZID=Europe/Helsinki:20190115T180000
DTEND;TZID=Europe/Helsinki:20190115T193000
DTSTAMP:20260423T143209
CREATED:20190110T120859Z
LAST-MODIFIED:20190110T120859Z
UID:1934-1547575200-1547580600@www.evankeliset.net
SUMMARY:Juva\, Raamattuluento
DESCRIPTION:
URL:https://www.evankeliset.net/tapahtuma/juva-raamattuluento-7/
END:VEVENT
BEGIN:VEVENT
DTSTART;TZID=Europe/Helsinki:20190117T180000
DTEND;TZID=Europe/Helsinki:20190117T193000
DTSTAMP:20260423T143209
CREATED:20190110T120947Z
LAST-MODIFIED:20190110T120947Z
UID:1936-1547748000-1547753400@www.evankeliset.net
SUMMARY:Sulkava\, Raamattuluento
DESCRIPTION:
URL:https://www.evankeliset.net/tapahtuma/sulkava-raamattuluento-9/
END:VEVENT
BEGIN:VEVENT
DTSTART;TZID=Europe/Helsinki:20190120T100000
DTEND;TZID=Europe/Helsinki:20190120T120000
DTSTAMP:20260423T143209
CREATED:20180308T062338Z
LAST-MODIFIED:20181009T081728Z
UID:490-1547978400-1547985600@www.evankeliset.net
SUMMARY:Kauhajoki\, Kirkkopyhä
DESCRIPTION:
URL:https://www.evankeliset.net/tapahtuma/kal-490/
END:VEVENT
BEGIN:VEVENT
DTSTART;TZID=Europe/Helsinki:20190120T120000
DTEND;TZID=Europe/Helsinki:20190120T140000
DTSTAMP:20260423T143209
CREATED:20180308T062338Z
LAST-MODIFIED:20181010T074244Z
UID:491-1547985600-1547992800@www.evankeliset.net
SUMMARY:Kauhajoki\, Minä uskon?
DESCRIPTION:
URL:https://www.evankeliset.net/tapahtuma/kal-491/
END:VEVENT
BEGIN:VEVENT
DTSTART;TZID=Europe/Helsinki:20190120T150000
DTEND;TZID=Europe/Helsinki:20190120T170000
DTSTAMP:20260423T143209
CREATED:20181008T135903Z
LAST-MODIFIED:20181008T142448Z
UID:1556-1547996400-1548003600@www.evankeliset.net
SUMMARY:Seinäjoki\, Minä uskon?
DESCRIPTION:
URL:https://www.evankeliset.net/tapahtuma/seinajoki-mina-uskon/
END:VEVENT
BEGIN:VEVENT
DTSTART;TZID=Europe/Helsinki:20190120T160000
DTEND;TZID=Europe/Helsinki:20190120T180000
DTSTAMP:20260423T143209
CREATED:20190110T121151Z
LAST-MODIFIED:20190110T121151Z
UID:1938-1548000000-1548007200@www.evankeliset.net
SUMMARY:Espoon Soukkalahti\, OneWayMission tilaisuus
DESCRIPTION:
URL:https://www.evankeliset.net/tapahtuma/espoon-soukkalahti-onewaymission-tilaisuus/
END:VEVENT
BEGIN:VEVENT
DTSTART;TZID=Europe/Helsinki:20190120T180000
DTEND;TZID=Europe/Helsinki:20190120T200000
DTSTAMP:20260423T143209
CREATED:20180418T052836Z
LAST-MODIFIED:20190118T143204Z
UID:826-1548007200-1548014400@www.evankeliset.net
SUMMARY:Ilmajoki\, Minä uskon? Raamattuluento
DESCRIPTION:
URL:https://www.evankeliset.net/tapahtuma/ilmajoki-mina-uskon-raamattuluento/
END:VEVENT
BEGIN:VEVENT
DTSTART;TZID=Europe/Helsinki:20190121T130000
DTEND;TZID=Europe/Helsinki:20190121T150000
DTSTAMP:20260423T143209
CREATED:20181010T074433Z
LAST-MODIFIED:20181010T074433Z
UID:1571-1548075600-1548082800@www.evankeliset.net
SUMMARY:Kurikka\, Siionin kannel seurat
DESCRIPTION:
URL:https://www.evankeliset.net/tapahtuma/kurikka-siionin-kannel-seurat-10/
END:VEVENT
BEGIN:VEVENT
DTSTART;TZID=Europe/Helsinki:20190121T140000
DTEND;TZID=Europe/Helsinki:20190121T160000
DTSTAMP:20260423T143209
CREATED:20190109T124643Z
LAST-MODIFIED:20190109T130708Z
UID:1921-1548079200-1548086400@www.evankeliset.net
SUMMARY:Kouvola\, Lähetyspiiri
DESCRIPTION:
URL:https://www.evankeliset.net/tapahtuma/kouvola-lahetyspiiri-5/
END:VEVENT
BEGIN:VEVENT
DTSTART;TZID=Europe/Helsinki:20190122T180000
DTEND;TZID=Europe/Helsinki:20190122T193000
DTSTAMP:20260423T143209
CREATED:20190110T121300Z
LAST-MODIFIED:20190110T121300Z
UID:1940-1548180000-1548185400@www.evankeliset.net
SUMMARY:Ruokolahti\, Raamattuluento
DESCRIPTION:
URL:https://www.evankeliset.net/tapahtuma/ruokolahti-raamattuluento/
END:VEVENT
BEGIN:VEVENT
DTSTART;TZID=Europe/Helsinki:20190124T180000
DTEND;TZID=Europe/Helsinki:20190124T200000
DTSTAMP:20260423T143209
CREATED:20190110T121404Z
LAST-MODIFIED:20190110T121404Z
UID:1942-1548352800-1548360000@www.evankeliset.net
SUMMARY:Savonlinna\, Vapaaseurakunta\, Israel- rukousilta
DESCRIPTION:
URL:https://www.evankeliset.net/tapahtuma/savonlinna-vapaaseurakunta-israel-rukousilta/
END:VEVENT
BEGIN:VEVENT
DTSTART;TZID=Europe/Helsinki:20190127T100000
DTEND;TZID=Europe/Helsinki:20190127T140000
DTSTAMP:20260423T143209
CREATED:20181010T134719Z
LAST-MODIFIED:20190121T164959Z
UID:1619-1548583200-1548597600@www.evankeliset.net
SUMMARY:Kurikka\, ELYn kirkkopyhä ja raamattuluento
DESCRIPTION:
URL:https://www.evankeliset.net/tapahtuma/kurikka-elyn-kirkkopyha/
END:VEVENT
BEGIN:VEVENT
DTSTART;TZID=Europe/Helsinki:20190127T100000
DTEND;TZID=Europe/Helsinki:20190127T200000
DTSTAMP:20260423T143209
CREATED:20180618T061540Z
LAST-MODIFIED:20180618T061540Z
UID:1033-1548583200-1548619200@www.evankeliset.net
SUMMARY:Salo\, Messu\, Siionin Kannel -seurat\, Iltakirkko
DESCRIPTION:
URL:https://www.evankeliset.net/tapahtuma/salo-messu-siionin-kannel-seurat-iltakirkko/
END:VEVENT
BEGIN:VEVENT
DTSTART;TZID=Europe/Helsinki:20190127T180000
DTEND;TZID=Europe/Helsinki:20190127T200000
DTSTAMP:20260423T143209
CREATED:20180418T052940Z
LAST-MODIFIED:20190121T171953Z
UID:828-1548612000-1548619200@www.evankeliset.net
SUMMARY:Ilmajoki\, Minä uskon? Raamattuluento
DESCRIPTION:
URL:https://www.evankeliset.net/tapahtuma/ilmajoki-mina-uskon-raamattuluento-2/
END:VEVENT
BEGIN:VEVENT
DTSTART;TZID=Europe/Helsinki:20190127T180000
DTEND;TZID=Europe/Helsinki:20190127T200000
DTSTAMP:20260423T143209
CREATED:20181010T074726Z
LAST-MODIFIED:20190121T164824Z
UID:1574-1548612000-1548619200@www.evankeliset.net
SUMMARY:Ylihärmä\, raamattuluento
DESCRIPTION:
URL:https://www.evankeliset.net/tapahtuma/yliharma-raamattuluento/
END:VEVENT
BEGIN:VEVENT
DTSTART;TZID=Europe/Helsinki:20190129T130000
DTEND;TZID=Europe/Helsinki:20190129T150000
DTSTAMP:20260423T143209
CREATED:20181101T121107Z
LAST-MODIFIED:20181101T121107Z
UID:1754-1548766800-1548774000@www.evankeliset.net
SUMMARY:Alavus\, lauluseurat
DESCRIPTION:
URL:https://www.evankeliset.net/tapahtuma/alavus-lauluseurat-2/
END:VEVENT
BEGIN:VEVENT
DTSTART;TZID=Europe/Helsinki:20190129T180000
DTEND;TZID=Europe/Helsinki:20190129T193000
DTSTAMP:20260423T143209
CREATED:20190110T121505Z
LAST-MODIFIED:20190110T121505Z
UID:1944-1548784800-1548790200@www.evankeliset.net
SUMMARY:Ruokolahti\, Raamattuluento
DESCRIPTION:
URL:https://www.evankeliset.net/tapahtuma/ruokolahti-raamattuluento-2/
END:VEVENT
BEGIN:VEVENT
DTSTART;TZID=Europe/Helsinki:20190131T180000
DTEND;TZID=Europe/Helsinki:20190131T190000
DTSTAMP:20260423T143209
CREATED:20190110T121554Z
LAST-MODIFIED:20190110T121554Z
UID:1946-1548957600-1548961200@www.evankeliset.net
SUMMARY:Sulkava\, rukousilta
DESCRIPTION:
URL:https://www.evankeliset.net/tapahtuma/sulkava-rukousilta-6/
END:VEVENT
BEGIN:VEVENT
DTSTART;TZID=Europe/Helsinki:20190202T170000
DTEND;TZID=Europe/Helsinki:20190202T190000
DTSTAMP:20260423T143209
CREATED:20190110T121745Z
LAST-MODIFIED:20190110T121745Z
UID:1948-1549126800-1549134000@www.evankeliset.net
SUMMARY:Savonlinna\, Loisto-ilta
DESCRIPTION:
URL:https://www.evankeliset.net/tapahtuma/savonlinna-loisto-ilta-3/
END:VEVENT
BEGIN:VEVENT
DTSTART;TZID=Europe/Helsinki:20190203T160000
DTEND;TZID=Europe/Helsinki:20190203T173000
DTSTAMP:20260423T143209
CREATED:20190110T121843Z
LAST-MODIFIED:20190110T121843Z
UID:1950-1549209600-1549215000@www.evankeliset.net
SUMMARY:Savonlinna\, Uuden elämän-ilta
DESCRIPTION:
URL:https://www.evankeliset.net/tapahtuma/savonlinna-uuden-elaman-ilta/
END:VEVENT
BEGIN:VEVENT
DTSTART;TZID=Europe/Helsinki:20190203T180000
DTEND;TZID=Europe/Helsinki:20190203T200000
DTSTAMP:20260423T143209
CREATED:20180418T053051Z
LAST-MODIFIED:20190121T171909Z
UID:830-1549216800-1549224000@www.evankeliset.net
SUMMARY:Ilmajoki\, Minä uskon? Raamattuluento
DESCRIPTION:
URL:https://www.evankeliset.net/tapahtuma/ilmajoki-mina-uskon-raamattuluento-3/
END:VEVENT
BEGIN:VEVENT
DTSTART;TZID=Europe/Helsinki:20190204T100000
DTEND;TZID=Europe/Helsinki:20190204T140000
DTSTAMP:20260423T143209
CREATED:20181205T094750Z
LAST-MODIFIED:20181205T094750Z
UID:1837-1549274400-1549288800@www.evankeliset.net
SUMMARY:Kokkola\, Lähetyssoppi
DESCRIPTION:
URL:https://www.evankeliset.net/tapahtuma/kokkola-lahetyssoppi-7/
END:VEVENT
BEGIN:VEVENT
DTSTART;TZID=Europe/Helsinki:20190204T130000
DTEND;TZID=Europe/Helsinki:20190204T150000
DTSTAMP:20260423T143209
CREATED:20181010T075148Z
LAST-MODIFIED:20181010T075148Z
UID:1577-1549285200-1549292400@www.evankeliset.net
SUMMARY:Kurikka\, Siionin kannel seurat
DESCRIPTION:
URL:https://www.evankeliset.net/tapahtuma/kurikka-siionin-kannel-seurat-11/
END:VEVENT
BEGIN:VEVENT
DTSTART;TZID=Europe/Helsinki:20190205T130000
DTEND;TZID=Europe/Helsinki:20190205T150000
DTSTAMP:20260423T143209
CREATED:20181219T090212Z
LAST-MODIFIED:20181219T090831Z
UID:1876-1549371600-1549378800@www.evankeliset.net
SUMMARY:Keuruu\, Siionin kanteleen lauluseurat
DESCRIPTION:
URL:https://www.evankeliset.net/tapahtuma/keuruu-sionin-kanteleen-lauluseurat/
END:VEVENT
BEGIN:VEVENT
DTSTART;TZID=Europe/Helsinki:20190205T180000
DTEND;TZID=Europe/Helsinki:20190205T193000
DTSTAMP:20260423T143209
CREATED:20190110T121937Z
LAST-MODIFIED:20190110T121937Z
UID:1952-1549389600-1549395000@www.evankeliset.net
SUMMARY:Ruokolahti\, Raamattuluento
DESCRIPTION:
URL:https://www.evankeliset.net/tapahtuma/ruokolahti-raamattuluento-3/
END:VEVENT
BEGIN:VEVENT
DTSTART;TZID=Europe/Helsinki:20190205T180000
DTEND;TZID=Europe/Helsinki:20190205T200000
DTSTAMP:20260423T143209
CREATED:20181025T054210Z
LAST-MODIFIED:20190116T114308Z
UID:1709-1549389600-1549396800@www.evankeliset.net
SUMMARY:Riihimäki\, Siionin Kannel -seurat
DESCRIPTION:
URL:https://www.evankeliset.net/tapahtuma/riihimaki-siionin-kannel-seurat-3/
END:VEVENT
BEGIN:VEVENT
DTSTART;TZID=Europe/Helsinki:20190209T100000
DTEND;TZID=Europe/Helsinki:20190209T160000
DTSTAMP:20260423T143209
CREATED:20190110T122335Z
LAST-MODIFIED:20190110T122335Z
UID:1954-1549706400-1549728000@www.evankeliset.net
SUMMARY:Kangasniemi\, Armolahjapäivä
DESCRIPTION:
URL:https://www.evankeliset.net/tapahtuma/kangasniemi-armolahjapaiva/
END:VEVENT
BEGIN:VEVENT
DTSTART;TZID=Europe/Helsinki:20190210T100000
DTEND;TZID=Europe/Helsinki:20190210T123000
DTSTAMP:20260423T143209
CREATED:20190110T122423Z
LAST-MODIFIED:20190110T122423Z
UID:1956-1549792800-1549801800@www.evankeliset.net
SUMMARY:Juva\, Kirkkopyhä
DESCRIPTION:
URL:https://www.evankeliset.net/tapahtuma/juva-kirkkopyha/
END:VEVENT
BEGIN:VEVENT
DTSTART;TZID=Europe/Helsinki:20190210T100000
DTEND;TZID=Europe/Helsinki:20190210T130000
DTSTAMP:20260423T143209
CREATED:20181112T114153Z
LAST-MODIFIED:20181112T114153Z
UID:1796-1549792800-1549803600@www.evankeliset.net
SUMMARY:Orimattila\, Elyn kirkkopyhä
DESCRIPTION:
URL:https://www.evankeliset.net/tapahtuma/orimattila-elyn-kirkkopyha/
END:VEVENT
END:VCALENDAR