BEGIN:VCALENDAR
VERSION:2.0
PRODID:-//Evankelinen lähetysyhdistys ELY ry - ECPv6.15.18//NONSGML v1.0//EN
CALSCALE:GREGORIAN
METHOD:PUBLISH
X-WR-CALNAME:Evankelinen lähetysyhdistys ELY ry
X-ORIGINAL-URL:https://www.evankeliset.net
X-WR-CALDESC:Tapahtumat Evankelinen lähetysyhdistys ELY ry
REFRESH-INTERVAL;VALUE=DURATION:PT1H
X-Robots-Tag:noindex
X-PUBLISHED-TTL:PT1H
BEGIN:VTIMEZONE
TZID:Europe/Helsinki
BEGIN:DAYLIGHT
TZOFFSETFROM:+0200
TZOFFSETTO:+0300
TZNAME:EEST
DTSTART:20180325T010000
END:DAYLIGHT
BEGIN:STANDARD
TZOFFSETFROM:+0300
TZOFFSETTO:+0200
TZNAME:EET
DTSTART:20181028T010000
END:STANDARD
BEGIN:DAYLIGHT
TZOFFSETFROM:+0200
TZOFFSETTO:+0300
TZNAME:EEST
DTSTART:20190331T010000
END:DAYLIGHT
BEGIN:STANDARD
TZOFFSETFROM:+0300
TZOFFSETTO:+0200
TZNAME:EET
DTSTART:20191027T010000
END:STANDARD
BEGIN:DAYLIGHT
TZOFFSETFROM:+0200
TZOFFSETTO:+0300
TZNAME:EEST
DTSTART:20200329T010000
END:DAYLIGHT
BEGIN:STANDARD
TZOFFSETFROM:+0300
TZOFFSETTO:+0200
TZNAME:EET
DTSTART:20201025T010000
END:STANDARD
END:VTIMEZONE
BEGIN:VEVENT
DTSTART;TZID=Europe/Helsinki:20190214T130000
DTEND;TZID=Europe/Helsinki:20190214T150000
DTSTAMP:20260423T143207
CREATED:20180413T074152Z
LAST-MODIFIED:20190126T123654Z
UID:782-1550149200-1550156400@www.evankeliset.net
SUMMARY:Kauhajoki\, muistoseurat
DESCRIPTION:
URL:https://www.evankeliset.net/tapahtuma/kauhajoki-ystavanpaivaseurat/
END:VEVENT
BEGIN:VEVENT
DTSTART;TZID=Europe/Helsinki:20190214T180000
DTEND;TZID=Europe/Helsinki:20190214T193000
DTSTAMP:20260423T143207
CREATED:20190110T122612Z
LAST-MODIFIED:20190110T122612Z
UID:1960-1550167200-1550172600@www.evankeliset.net
SUMMARY:Savonlinna\, Vapaaseurakunta\, Israel-rukousilta
DESCRIPTION:
URL:https://www.evankeliset.net/tapahtuma/savonlinna-vapaaseurakunta-israel-rukousilta-2/
END:VEVENT
BEGIN:VEVENT
DTSTART;TZID=Europe/Helsinki:20190217T100000
DTEND;TZID=Europe/Helsinki:20190217T120000
DTSTAMP:20260423T143207
CREATED:20181104T173040Z
LAST-MODIFIED:20190121T172934Z
UID:1779-1550397600-1550404800@www.evankeliset.net
SUMMARY:Peräseinäjoki\, kirkkopyhä
DESCRIPTION:
URL:https://www.evankeliset.net/tapahtuma/peraseinajoki-kirkkopyha/
END:VEVENT
BEGIN:VEVENT
DTSTART;TZID=Europe/Helsinki:20190217T140000
DTEND;TZID=Europe/Helsinki:20190217T160000
DTSTAMP:20260423T143207
CREATED:20181101T125204Z
LAST-MODIFIED:20190121T173052Z
UID:1769-1550412000-1550419200@www.evankeliset.net
SUMMARY:Jalasjärvi\, Ystävänseurat
DESCRIPTION:
URL:https://www.evankeliset.net/tapahtuma/jalasjarvi-ystavanseurat/
END:VEVENT
BEGIN:VEVENT
DTSTART;TZID=Europe/Helsinki:20190217T150000
DTEND;TZID=Europe/Helsinki:20190217T170000
DTSTAMP:20260423T143207
CREATED:20181010T080204Z
LAST-MODIFIED:20181102T090020Z
UID:1585-1550415600-1550422800@www.evankeliset.net
SUMMARY:Seinäjoki\, Minä uskon? raamattuluento
DESCRIPTION:
URL:https://www.evankeliset.net/tapahtuma/seinajoki-mina-uskon-raamattuluento/
END:VEVENT
BEGIN:VEVENT
DTSTART;TZID=Europe/Helsinki:20190217T180000
DTEND;TZID=Europe/Helsinki:20190217T200000
DTSTAMP:20260423T143207
CREATED:20180413T074038Z
LAST-MODIFIED:20190121T173420Z
UID:780-1550426400-1550433600@www.evankeliset.net
SUMMARY:Kauhajoki\, Minä uskon? Raamattuluentosarja
DESCRIPTION:
URL:https://www.evankeliset.net/tapahtuma/kauhajoki-mina-uskon-raamattuluentosarja/
END:VEVENT
BEGIN:VEVENT
DTSTART;TZID=Europe/Helsinki:20190217T180000
DTEND;TZID=Europe/Helsinki:20190217T200000
DTSTAMP:20260423T143207
CREATED:20181010T080331Z
LAST-MODIFIED:20190121T173254Z
UID:1587-1550426400-1550433600@www.evankeliset.net
SUMMARY:Alahärmä\,  raamattuluento
DESCRIPTION:
URL:https://www.evankeliset.net/tapahtuma/alaharma-raamattuluento-2/
END:VEVENT
BEGIN:VEVENT
DTSTART;TZID=Europe/Helsinki:20190218T130000
DTEND;TZID=Europe/Helsinki:20190218T150000
DTSTAMP:20260423T143207
CREATED:20181010T080633Z
LAST-MODIFIED:20181010T080633Z
UID:1589-1550494800-1550502000@www.evankeliset.net
SUMMARY:Kurikka\, siionin kannel seurat
DESCRIPTION:
URL:https://www.evankeliset.net/tapahtuma/kurikka-siionin-kannel-seurat-12/
END:VEVENT
BEGIN:VEVENT
DTSTART;TZID=Europe/Helsinki:20190219T130000
DTEND;TZID=Europe/Helsinki:20190219T150000
DTSTAMP:20260423T143207
CREATED:20181101T121811Z
LAST-MODIFIED:20190121T173921Z
UID:1760-1550581200-1550588400@www.evankeliset.net
SUMMARY:Alavus\, lauluseurat
DESCRIPTION:
URL:https://www.evankeliset.net/tapahtuma/alavus-lauluseurat-5/
END:VEVENT
BEGIN:VEVENT
DTSTART;TZID=Europe/Helsinki:20190219T133000
DTEND;TZID=Europe/Helsinki:20190219T153000
DTSTAMP:20260423T143207
CREATED:20181112T121632Z
LAST-MODIFIED:20190118T064012Z
UID:1800-1550583000-1550590200@www.evankeliset.net
SUMMARY:Forssa\, Siionin Kannel -seurat
DESCRIPTION:
URL:https://www.evankeliset.net/tapahtuma/forssa-siionin-kannel-seurat-5/
END:VEVENT
BEGIN:VEVENT
DTSTART;TZID=Europe/Helsinki:20190219T180000
DTEND;TZID=Europe/Helsinki:20190219T193000
DTSTAMP:20260423T143207
CREATED:20190110T122706Z
LAST-MODIFIED:20190110T122706Z
UID:1962-1550599200-1550604600@www.evankeliset.net
SUMMARY:Juva\, Raamattuluento
DESCRIPTION:
URL:https://www.evankeliset.net/tapahtuma/juva-raamattuluento-8/
END:VEVENT
BEGIN:VEVENT
DTSTART;TZID=Europe/Helsinki:20190221T180000
DTEND;TZID=Europe/Helsinki:20190221T193000
DTSTAMP:20260423T143207
CREATED:20190110T122754Z
LAST-MODIFIED:20190110T122754Z
UID:1964-1550772000-1550777400@www.evankeliset.net
SUMMARY:Sulkava\,Raamattuluento
DESCRIPTION:
URL:https://www.evankeliset.net/tapahtuma/sulkavaraamattuluento/
END:VEVENT
BEGIN:VEVENT
DTSTART;TZID=Europe/Helsinki:20190221T180000
DTEND;TZID=Europe/Helsinki:20190221T200000
DTSTAMP:20260423T143207
CREATED:20180418T053239Z
LAST-MODIFIED:20190121T173634Z
UID:832-1550772000-1550779200@www.evankeliset.net
SUMMARY:Koskenkorva\, seurat
DESCRIPTION:
URL:https://www.evankeliset.net/tapahtuma/koskenkorva-seurat/
END:VEVENT
BEGIN:VEVENT
DTSTART;TZID=Europe/Helsinki:20190224T080000
DTEND;TZID=Europe/Helsinki:20190224T170000
DTSTAMP:20260423T143207
CREATED:20181220T141908Z
LAST-MODIFIED:20181220T142040Z
UID:1892-1550995200-1551027600@www.evankeliset.net
SUMMARY:Urjala\, kirkkopyhä
DESCRIPTION:
URL:https://www.evankeliset.net/tapahtuma/kirkkopyha/
END:VEVENT
BEGIN:VEVENT
DTSTART;TZID=Europe/Helsinki:20190224T100000
DTEND;TZID=Europe/Helsinki:20190224T140000
DTSTAMP:20260423T143207
CREATED:20190124T125634Z
LAST-MODIFIED:20190124T125634Z
UID:2123-1551002400-1551016800@www.evankeliset.net
SUMMARY:Hyvinkää\, Messu ja Siionin Kannel -seurat
DESCRIPTION:
URL:https://www.evankeliset.net/tapahtuma/hyvinkaa-messu-ja-siionin-kannel-seurat-2/
END:VEVENT
BEGIN:VEVENT
DTSTART;TZID=Europe/Helsinki:20190224T160000
DTEND;TZID=Europe/Helsinki:20190224T180000
DTSTAMP:20260423T143207
CREATED:20190110T123006Z
LAST-MODIFIED:20190110T123006Z
UID:1966-1551024000-1551031200@www.evankeliset.net
SUMMARY:Helsinki\, Pihlajanmäen kirkko\, kirkkopyhä
DESCRIPTION:
URL:https://www.evankeliset.net/tapahtuma/helsinki-pihlajanmaen-kirkko-kirkkopyha/
END:VEVENT
BEGIN:VEVENT
DTSTART;TZID=Europe/Helsinki:20190224T180000
DTEND;TZID=Europe/Helsinki:20190224T200000
DTSTAMP:20260423T143207
CREATED:20180413T074327Z
LAST-MODIFIED:20181010T080824Z
UID:784-1551031200-1551038400@www.evankeliset.net
SUMMARY:Kauhajoki\, Minä uskon? Raamattuluento
DESCRIPTION:
URL:https://www.evankeliset.net/tapahtuma/kauhajoki-mina-uskon-raamattuluento/
END:VEVENT
BEGIN:VEVENT
DTSTART;TZID=Europe/Helsinki:20190226T170000
DTEND;TZID=Europe/Helsinki:20190226T190000
DTSTAMP:20260423T143207
CREATED:20190204T074831Z
LAST-MODIFIED:20190205T061659Z
UID:2165-1551200400-1551207600@www.evankeliset.net
SUMMARY:Hämeenlinna\, Siionin Kannel -seurat
DESCRIPTION:
URL:https://www.evankeliset.net/tapahtuma/hameenlinna-siionin-kannel-seurat/
END:VEVENT
BEGIN:VEVENT
DTSTART;TZID=Europe/Helsinki:20190226T180000
DTEND;TZID=Europe/Helsinki:20190226T193000
DTSTAMP:20260423T143207
CREATED:20190110T123100Z
LAST-MODIFIED:20190110T123100Z
UID:1968-1551204000-1551209400@www.evankeliset.net
SUMMARY:Ruokolahti\, Raamattuluento
DESCRIPTION:
URL:https://www.evankeliset.net/tapahtuma/ruokolahti-raamattuluento-5/
END:VEVENT
BEGIN:VEVENT
DTSTART;TZID=Europe/Helsinki:20190226T180000
DTEND;TZID=Europe/Helsinki:20190226T200000
DTSTAMP:20260423T143207
CREATED:20180618T061816Z
LAST-MODIFIED:20180618T061816Z
UID:1035-1551204000-1551211200@www.evankeliset.net
SUMMARY:Salo\, Siionin Kannel -seurat
DESCRIPTION:
URL:https://www.evankeliset.net/tapahtuma/salo-siionin-kannel-seurat-2/
END:VEVENT
BEGIN:VEVENT
DTSTART;TZID=Europe/Helsinki:20190302T093000
DTEND;TZID=Europe/Helsinki:20190302T150000
DTSTAMP:20260423T143207
CREATED:20190110T123312Z
LAST-MODIFIED:20190110T123312Z
UID:1970-1551519000-1551538800@www.evankeliset.net
SUMMARY:Saarijärvi\,naisten päivä
DESCRIPTION:
URL:https://www.evankeliset.net/tapahtuma/saarijarvinaisten-paiva/
END:VEVENT
BEGIN:VEVENT
DTSTART;TZID=Europe/Helsinki:20190303T100000
DTEND;TZID=Europe/Helsinki:20190303T123000
DTSTAMP:20260423T143207
CREATED:20190201T212900Z
LAST-MODIFIED:20190201T212900Z
UID:2162-1551607200-1551616200@www.evankeliset.net
SUMMARY:Elyn kirkkopyhä\, saarna Harri Kuhalampi\, kirkkokahvit ja iltapäivätilaisuus
DESCRIPTION:
URL:https://www.evankeliset.net/tapahtuma/elyn-kirkkopyha-saarna-harri-kuhalampi-kirkkokahvit-ja-iltapaivatilaisuus/
END:VEVENT
BEGIN:VEVENT
DTSTART;TZID=Europe/Helsinki:20190303T100000
DTEND;TZID=Europe/Helsinki:20190303T133000
DTSTAMP:20260423T143207
CREATED:20190226T082201Z
LAST-MODIFIED:20190226T083944Z
UID:2257-1551607200-1551619800@www.evankeliset.net
SUMMARY:Jyväskylä\, Tikkakosken srk\, Kirkkopyhä
DESCRIPTION:
URL:https://www.evankeliset.net/tapahtuma/jyvaskyla-tikkakosken-srk-kirkkopyha/
END:VEVENT
BEGIN:VEVENT
DTSTART;TZID=Europe/Helsinki:20190303T100000
DTEND;TZID=Europe/Helsinki:20190303T140000
DTSTAMP:20260423T143207
CREATED:20190118T065022Z
LAST-MODIFIED:20190118T065022Z
UID:2027-1551607200-1551621600@www.evankeliset.net
SUMMARY:Kerava\, jumalanpalvelus ja päivätilaisuus
DESCRIPTION:
URL:https://www.evankeliset.net/tapahtuma/kerava-jumalanpalvelus-ja-paivatilaisuus/
END:VEVENT
BEGIN:VEVENT
DTSTART;TZID=Europe/Helsinki:20190304T130000
DTEND;TZID=Europe/Helsinki:20190304T150000
DTSTAMP:20260423T143207
CREATED:20181010T081332Z
LAST-MODIFIED:20181010T081332Z
UID:1594-1551704400-1551711600@www.evankeliset.net
SUMMARY:Kurikka\, Siionin Kannel seurat
DESCRIPTION:
URL:https://www.evankeliset.net/tapahtuma/kurikka-siionin-kannel-seurat-13/
END:VEVENT
BEGIN:VEVENT
DTSTART;TZID=Europe/Helsinki:20190304T140000
DTEND;TZID=Europe/Helsinki:20190304T160000
DTSTAMP:20260423T143207
CREATED:20190109T130806Z
LAST-MODIFIED:20190109T130806Z
UID:1924-1551708000-1551715200@www.evankeliset.net
SUMMARY:Kouvola\, Lähetyspiiri
DESCRIPTION:
URL:https://www.evankeliset.net/tapahtuma/kouvola-lahetyspiiri-6/
END:VEVENT
BEGIN:VEVENT
DTSTART;TZID=Europe/Helsinki:20190305T130000
DTEND;TZID=Europe/Helsinki:20190305T150000
DTSTAMP:20260423T143207
CREATED:20181219T090335Z
LAST-MODIFIED:20181219T090335Z
UID:1878-1551790800-1551798000@www.evankeliset.net
SUMMARY:Keuruu\, Siionin kanteleen lauluseurat
DESCRIPTION:
URL:https://www.evankeliset.net/tapahtuma/keuruu-siionin-kanteleen-lauluseurat/
END:VEVENT
BEGIN:VEVENT
DTSTART;TZID=Europe/Helsinki:20190305T180000
DTEND;TZID=Europe/Helsinki:20190305T193000
DTSTAMP:20260423T143207
CREATED:20190110T123401Z
LAST-MODIFIED:20190110T123401Z
UID:1972-1551808800-1551814200@www.evankeliset.net
SUMMARY:Ruokolahti\,Raamattuluento
DESCRIPTION:
URL:https://www.evankeliset.net/tapahtuma/ruokolahtiraamattuluento/
END:VEVENT
BEGIN:VEVENT
DTSTART;TZID=Europe/Helsinki:20190305T180000
DTEND;TZID=Europe/Helsinki:20190305T200000
DTSTAMP:20260423T143207
CREATED:20181025T054318Z
LAST-MODIFIED:20181210T112700Z
UID:1711-1551808800-1551816000@www.evankeliset.net
SUMMARY:Riihimäki\, Siionin Kannel -seurat
DESCRIPTION:
URL:https://www.evankeliset.net/tapahtuma/riihimaki-siionin-kannel-seurat-4/
END:VEVENT
BEGIN:VEVENT
DTSTART;TZID=Europe/Helsinki:20190306T140000
DTEND;TZID=Europe/Helsinki:20190306T160000
DTSTAMP:20260423T143207
CREATED:20190219T100053Z
LAST-MODIFIED:20190219T100218Z
UID:2248-1551880800-1551888000@www.evankeliset.net
SUMMARY:Järvenpää\, Lähetyspiiri
DESCRIPTION:
URL:https://www.evankeliset.net/tapahtuma/jarvenpaa-lahetyspiiri/
END:VEVENT
END:VCALENDAR