BEGIN:VCALENDAR
VERSION:2.0
PRODID:-//Evankelinen lähetysyhdistys ELY ry - ECPv6.15.18//NONSGML v1.0//EN
CALSCALE:GREGORIAN
METHOD:PUBLISH
X-WR-CALNAME:Evankelinen lähetysyhdistys ELY ry
X-ORIGINAL-URL:https://www.evankeliset.net
X-WR-CALDESC:Tapahtumat Evankelinen lähetysyhdistys ELY ry
REFRESH-INTERVAL;VALUE=DURATION:PT1H
X-Robots-Tag:noindex
X-PUBLISHED-TTL:PT1H
BEGIN:VTIMEZONE
TZID:Europe/Helsinki
BEGIN:DAYLIGHT
TZOFFSETFROM:+0200
TZOFFSETTO:+0300
TZNAME:EEST
DTSTART:20180325T010000
END:DAYLIGHT
BEGIN:STANDARD
TZOFFSETFROM:+0300
TZOFFSETTO:+0200
TZNAME:EET
DTSTART:20181028T010000
END:STANDARD
BEGIN:DAYLIGHT
TZOFFSETFROM:+0200
TZOFFSETTO:+0300
TZNAME:EEST
DTSTART:20190331T010000
END:DAYLIGHT
BEGIN:STANDARD
TZOFFSETFROM:+0300
TZOFFSETTO:+0200
TZNAME:EET
DTSTART:20191027T010000
END:STANDARD
BEGIN:DAYLIGHT
TZOFFSETFROM:+0200
TZOFFSETTO:+0300
TZNAME:EEST
DTSTART:20200329T010000
END:DAYLIGHT
BEGIN:STANDARD
TZOFFSETFROM:+0300
TZOFFSETTO:+0200
TZNAME:EET
DTSTART:20201025T010000
END:STANDARD
END:VTIMEZONE
BEGIN:VEVENT
DTSTART;TZID=Europe/Helsinki:20190826T183000
DTEND;TZID=Europe/Helsinki:20190826T200000
DTSTAMP:20260424T005243
CREATED:20190820T115749Z
LAST-MODIFIED:20190820T115749Z
UID:2796-1566844200-1566849600@www.evankeliset.net
SUMMARY:Hyvinkää\, Israel-ilta
DESCRIPTION:
URL:https://www.evankeliset.net/tapahtuma/hyvinkaa-israel-ilta/
END:VEVENT
BEGIN:VEVENT
DTSTART;TZID=Europe/Helsinki:20190827T100000
DTEND;TZID=Europe/Helsinki:20190827T140000
DTSTAMP:20260424T005243
CREATED:20190701T062754Z
LAST-MODIFIED:20190805T054318Z
UID:2706-1566900000-1566914400@www.evankeliset.net
SUMMARY:Kokkola\, lähetyssoppi
DESCRIPTION:
URL:https://www.evankeliset.net/tapahtuma/kokkola-lahetyssoppi-11/
END:VEVENT
BEGIN:VEVENT
DTSTART;TZID=Europe/Helsinki:20190901T130000
DTEND;TZID=Europe/Helsinki:20190901T150000
DTSTAMP:20260424T005243
CREATED:20190121T191450Z
LAST-MODIFIED:20190629T114041Z
UID:2091-1567342800-1567350000@www.evankeliset.net
SUMMARY:Kurikka\, Myllykylän seurat
DESCRIPTION:
URL:https://www.evankeliset.net/tapahtuma/kurikka-myllykylan-seurat/
END:VEVENT
BEGIN:VEVENT
DTSTART;TZID=Europe/Helsinki:20190901T180000
DTEND;TZID=Europe/Helsinki:20190901T200000
DTSTAMP:20260424T005243
CREATED:20190629T100752Z
LAST-MODIFIED:20190808T141848Z
UID:2649-1567360800-1567368000@www.evankeliset.net
SUMMARY:Ilmajoki\, Raamattuluento
DESCRIPTION:
URL:https://www.evankeliset.net/tapahtuma/ilmajoku-raamattuluento/
END:VEVENT
BEGIN:VEVENT
DTSTART;TZID=Europe/Helsinki:20190903T130000
DTEND;TZID=Europe/Helsinki:20190903T150000
DTSTAMP:20260424T005243
CREATED:20190820T052800Z
LAST-MODIFIED:20190820T052800Z
UID:2773-1567515600-1567522800@www.evankeliset.net
SUMMARY:Riihimäki\, Siionin Kannel -seurat
DESCRIPTION:
URL:https://www.evankeliset.net/tapahtuma/riihimaki-siionin-kannel-seurat-7/
END:VEVENT
BEGIN:VEVENT
DTSTART;TZID=Europe/Helsinki:20190904T133000
DTEND;TZID=Europe/Helsinki:20190904T153000
DTSTAMP:20260424T005243
CREATED:20190502T091440Z
LAST-MODIFIED:20190820T082453Z
UID:2484-1567603800-1567611000@www.evankeliset.net
SUMMARY:Kokkola\, Päiväkahviseurat
DESCRIPTION:
URL:https://www.evankeliset.net/tapahtuma/kokkola-paivakahviseurat/
END:VEVENT
BEGIN:VEVENT
DTSTART;TZID=Europe/Helsinki:20190905T180000
DTEND;TZID=Europe/Helsinki:20190905T200000
DTSTAMP:20260424T005243
CREATED:20190121T192850Z
LAST-MODIFIED:20190823T073208Z
UID:2105-1567706400-1567713600@www.evankeliset.net
SUMMARY:Evijärvi\, raamattuluento
DESCRIPTION:
URL:https://www.evankeliset.net/tapahtuma/evijarvi-raamattuluento/
END:VEVENT
BEGIN:VEVENT
DTSTART;TZID=Europe/Helsinki:20190907T100000
DTEND;TZID=Europe/Helsinki:20190907T180000
DTSTAMP:20260424T005243
CREATED:20190701T083607Z
LAST-MODIFIED:20190701T085500Z
UID:2716-1567850400-1567879200@www.evankeliset.net
SUMMARY:Kannus\, hiippakunnallinen lähetysjuhla
DESCRIPTION:
URL:https://www.evankeliset.net/tapahtuma/kannus-hiippakunnallinen-lahetysjuhla/
END:VEVENT
BEGIN:VEVENT
DTSTART;TZID=Europe/Helsinki:20190908T080000
DTEND;TZID=Europe/Helsinki:20190908T170000
DTSTAMP:20260424T005243
CREATED:20190629T101656Z
LAST-MODIFIED:20190702T044909Z
UID:2653-1567929600-1567962000@www.evankeliset.net
SUMMARY:Ilmajoki\, syntymäpäiväseurat
DESCRIPTION:
URL:https://www.evankeliset.net/tapahtuma/kurikka-syntymapaivaseurat/
END:VEVENT
BEGIN:VEVENT
DTSTART;TZID=Europe/Helsinki:20190908T100000
DTEND;TZID=Europe/Helsinki:20190908T130000
DTSTAMP:20260424T005243
CREATED:20190614T055624Z
LAST-MODIFIED:20190614T055624Z
UID:2593-1567936800-1567947600@www.evankeliset.net
SUMMARY:Pyhtää\, ELYn kirkkopyhä klo 10
DESCRIPTION:
URL:https://www.evankeliset.net/tapahtuma/pyhtaa-elyn-kirkkopyha-klo-10/
END:VEVENT
BEGIN:VEVENT
DTSTART;TZID=Europe/Helsinki:20190908T140000
DTEND;TZID=Europe/Helsinki:20190908T170000
DTSTAMP:20260424T005243
CREATED:20190121T192052Z
LAST-MODIFIED:20190502T083857Z
UID:2095-1567951200-1567962000@www.evankeliset.net
SUMMARY:Alahärmä\, kirkkokonsertti
DESCRIPTION:
URL:https://www.evankeliset.net/tapahtuma/alaharma-kirkkokonsertti/
END:VEVENT
BEGIN:VEVENT
DTSTART;TZID=Europe/Helsinki:20190908T180000
DTEND;TZID=Europe/Helsinki:20190908T200000
DTSTAMP:20260424T005243
CREATED:20190211T115823Z
LAST-MODIFIED:20190701T071316Z
UID:2225-1567965600-1567972800@www.evankeliset.net
SUMMARY:Lapua\, Minä uskon? raamattuluento
DESCRIPTION:
URL:https://www.evankeliset.net/tapahtuma/lapua-mina-uskon-raamattuluento-2/
END:VEVENT
BEGIN:VEVENT
DTSTART;TZID=Europe/Helsinki:20190909T130000
DTEND;TZID=Europe/Helsinki:20190909T150000
DTSTAMP:20260424T005243
CREATED:20190629T115545Z
LAST-MODIFIED:20190629T115612Z
UID:2680-1568034000-1568041200@www.evankeliset.net
SUMMARY:Kurikka\, Siionin Kannnel seurat
DESCRIPTION:
URL:https://www.evankeliset.net/tapahtuma/kurikka-siionin-kannnel-seurat/
END:VEVENT
BEGIN:VEVENT
DTSTART;TZID=Europe/Helsinki:20190910T150000
DTEND;TZID=Europe/Helsinki:20190910T163000
DTSTAMP:20260424T005243
CREATED:20190909T112939Z
LAST-MODIFIED:20190909T112939Z
UID:2871-1568127600-1568133000@www.evankeliset.net
SUMMARY:Sulkava\, rukousiltapäivä
DESCRIPTION:
URL:https://www.evankeliset.net/tapahtuma/sulkava-rukousiltapaiva/
END:VEVENT
BEGIN:VEVENT
DTSTART;TZID=Europe/Helsinki:20190912T120000
DTEND;TZID=Europe/Helsinki:20190912T130000
DTSTAMP:20260424T005243
CREATED:20190820T081454Z
LAST-MODIFIED:20190820T081454Z
UID:2785-1568289600-1568293200@www.evankeliset.net
SUMMARY:Kokkola\, Lähetyssopin lauluhetki
DESCRIPTION:
URL:https://www.evankeliset.net/tapahtuma/kokkola-lahetyssopin-lauluhetki/
END:VEVENT
BEGIN:VEVENT
DTSTART;TZID=Europe/Helsinki:20190912T130000
DTEND;TZID=Europe/Helsinki:20190912T150000
DTSTAMP:20260424T005243
CREATED:20190416T062834Z
LAST-MODIFIED:20190707T093430Z
UID:2413-1568293200-1568300400@www.evankeliset.net
SUMMARY:Kauhajoki\, Siionin Kannel seurat
DESCRIPTION:
URL:https://www.evankeliset.net/tapahtuma/kauhajoki-siionin-kannel-seurat-2/
END:VEVENT
BEGIN:VEVENT
DTSTART;TZID=Europe/Helsinki:20190912T180000
DTEND;TZID=Europe/Helsinki:20190912T193000
DTSTAMP:20260424T005243
CREATED:20190614T055724Z
LAST-MODIFIED:20190614T055724Z
UID:2595-1568311200-1568316600@www.evankeliset.net
SUMMARY:Sulkava\, Raamattuluento
DESCRIPTION:
URL:https://www.evankeliset.net/tapahtuma/sulkava-raamattuluento-12/
END:VEVENT
BEGIN:VEVENT
DTSTART;TZID=Europe/Helsinki:20190915T100000
DTEND;TZID=Europe/Helsinki:20190915T130000
DTSTAMP:20260424T005243
CREATED:20190812T072233Z
LAST-MODIFIED:20190812T072233Z
UID:2753-1568541600-1568552400@www.evankeliset.net
SUMMARY:Helsinki\,Roihuvuori\, kirkkopyhä
DESCRIPTION:
URL:https://www.evankeliset.net/tapahtuma/helsinkiroihuvuori-kirkkopyha/
END:VEVENT
BEGIN:VEVENT
DTSTART;TZID=Europe/Helsinki:20190915T180000
DTEND;TZID=Europe/Helsinki:20190915T200000
DTSTAMP:20260424T005243
CREATED:20190128T090441Z
LAST-MODIFIED:20190828T050808Z
UID:2135-1568570400-1568577600@www.evankeliset.net
SUMMARY:Seinäjoki\, SK-messu
DESCRIPTION:
URL:https://www.evankeliset.net/tapahtuma/seinajoki-sk-messu/
END:VEVENT
BEGIN:VEVENT
DTSTART;TZID=Europe/Helsinki:20190917T133000
DTEND;TZID=Europe/Helsinki:20190917T153000
DTSTAMP:20260424T005243
CREATED:20190711T054127Z
LAST-MODIFIED:20190711T054127Z
UID:2735-1568727000-1568734200@www.evankeliset.net
SUMMARY:Forssa\, Siionin Kannel -seurat
DESCRIPTION:
URL:https://www.evankeliset.net/tapahtuma/forssa-siionin-kannel-seurat-8/
END:VEVENT
BEGIN:VEVENT
DTSTART;TZID=Europe/Helsinki:20190917T180000
DTEND;TZID=Europe/Helsinki:20190917T193000
DTSTAMP:20260424T005243
CREATED:20190614T055812Z
LAST-MODIFIED:20190614T055812Z
UID:2597-1568743200-1568748600@www.evankeliset.net
SUMMARY:Juva\, Raamattuluento
DESCRIPTION:
URL:https://www.evankeliset.net/tapahtuma/juva-raamattuluento-11/
END:VEVENT
BEGIN:VEVENT
DTSTART;TZID=Europe/Helsinki:20190917T180000
DTEND;TZID=Europe/Helsinki:20190917T200000
DTSTAMP:20260424T005243
CREATED:20190425T065249Z
LAST-MODIFIED:20190829T091743Z
UID:2443-1568743200-1568750400@www.evankeliset.net
SUMMARY:Salo\, Siionin Kannel -seurat
DESCRIPTION:
URL:https://www.evankeliset.net/tapahtuma/salo-siionin-kannel-seurat-5/
END:VEVENT
BEGIN:VEVENT
DTSTART;TZID=Europe/Helsinki:20190918T180000
DTEND;TZID=Europe/Helsinki:20190918T200000
DTSTAMP:20260424T005243
CREATED:20190825T180608Z
LAST-MODIFIED:20190917T053626Z
UID:2808-1568829600-1568836800@www.evankeliset.net
SUMMARY:Lappajärvi\, Syysseurat
DESCRIPTION:
URL:https://www.evankeliset.net/tapahtuma/lappajarvi-syysseurat/
END:VEVENT
BEGIN:VEVENT
DTSTART;TZID=Europe/Helsinki:20190919T180000
DTEND;TZID=Europe/Helsinki:20190919T200000
DTSTAMP:20260424T005243
CREATED:20190131T111735Z
LAST-MODIFIED:20190629T122131Z
UID:2147-1568916000-1568923200@www.evankeliset.net
SUMMARY:Lapua\, Lauluseurat
DESCRIPTION:
URL:https://www.evankeliset.net/tapahtuma/lapua-lauluseurat-2/
END:VEVENT
BEGIN:VEVENT
DTSTART;TZID=Europe/Helsinki:20190919T180000
DTEND;TZID=Europe/Helsinki:20190919T200000
DTSTAMP:20260424T005243
CREATED:20190916T073850Z
LAST-MODIFIED:20190916T073850Z
UID:2913-1568916000-1568923200@www.evankeliset.net
SUMMARY:Sulkava\, naisten ilta
DESCRIPTION:
URL:https://www.evankeliset.net/tapahtuma/sulkava-naisten-ilta/
END:VEVENT
BEGIN:VEVENT
DTSTART;VALUE=DATE:20190921
DTEND;VALUE=DATE:20190923
DTSTAMP:20260424T005243
CREATED:20190830T050911Z
LAST-MODIFIED:20190830T050911Z
UID:2836-1569024000-1569196799@www.evankeliset.net
SUMMARY:Espoo\, Syysmatin markkinat
DESCRIPTION:
URL:https://www.evankeliset.net/tapahtuma/espoo-syysmatin-markkinat-2/
END:VEVENT
BEGIN:VEVENT
DTSTART;TZID=Europe/Helsinki:20190921T170000
DTEND;TZID=Europe/Helsinki:20190921T190000
DTSTAMP:20260424T005243
CREATED:20190812T082738Z
LAST-MODIFIED:20190812T082738Z
UID:2756-1569085200-1569092400@www.evankeliset.net
SUMMARY:Savonlinna\, Loisto-ilta
DESCRIPTION:
URL:https://www.evankeliset.net/tapahtuma/savonlinna-loisto-ilta-4/
END:VEVENT
BEGIN:VEVENT
DTSTART;TZID=Europe/Helsinki:20190922T100000
DTEND;TZID=Europe/Helsinki:20190922T130000
DTSTAMP:20260424T005243
CREATED:20190614T055939Z
LAST-MODIFIED:20190614T055939Z
UID:2599-1569146400-1569157200@www.evankeliset.net
SUMMARY:Hirvensalmi\, ELYn kirkkopyhä
DESCRIPTION:
URL:https://www.evankeliset.net/tapahtuma/hirvensalmi-elyn-kirkkopyha/
END:VEVENT
BEGIN:VEVENT
DTSTART;TZID=Europe/Helsinki:20190922T100000
DTEND;TZID=Europe/Helsinki:20190922T140000
DTSTAMP:20260424T005243
CREATED:20190121T192231Z
LAST-MODIFIED:20190629T102508Z
UID:2097-1569146400-1569160800@www.evankeliset.net
SUMMARY:Toholampi\, kirkkopyhä
DESCRIPTION:
URL:https://www.evankeliset.net/tapahtuma/toholampi-kirkkopyha/
END:VEVENT
BEGIN:VEVENT
DTSTART;TZID=Europe/Helsinki:20190922T140000
DTEND;TZID=Europe/Helsinki:20190922T153000
DTSTAMP:20260424T005243
CREATED:20190408T082620Z
LAST-MODIFIED:20190629T102626Z
UID:2381-1569160800-1569166200@www.evankeliset.net
SUMMARY:Jalasjärvi\, Raamattuluento
DESCRIPTION:
URL:https://www.evankeliset.net/tapahtuma/jalasjarvi-raamattuluento/
END:VEVENT
END:VCALENDAR