BEGIN:VCALENDAR
VERSION:2.0
PRODID:-//Evankelinen lähetysyhdistys ELY ry - ECPv6.15.18//NONSGML v1.0//EN
CALSCALE:GREGORIAN
METHOD:PUBLISH
X-WR-CALNAME:Evankelinen lähetysyhdistys ELY ry
X-ORIGINAL-URL:https://www.evankeliset.net
X-WR-CALDESC:Tapahtumat Evankelinen lähetysyhdistys ELY ry
REFRESH-INTERVAL;VALUE=DURATION:PT1H
X-Robots-Tag:noindex
X-PUBLISHED-TTL:PT1H
BEGIN:VTIMEZONE
TZID:Europe/Helsinki
BEGIN:DAYLIGHT
TZOFFSETFROM:+0200
TZOFFSETTO:+0300
TZNAME:EEST
DTSTART:20180325T010000
END:DAYLIGHT
BEGIN:STANDARD
TZOFFSETFROM:+0300
TZOFFSETTO:+0200
TZNAME:EET
DTSTART:20181028T010000
END:STANDARD
BEGIN:DAYLIGHT
TZOFFSETFROM:+0200
TZOFFSETTO:+0300
TZNAME:EEST
DTSTART:20190331T010000
END:DAYLIGHT
BEGIN:STANDARD
TZOFFSETFROM:+0300
TZOFFSETTO:+0200
TZNAME:EET
DTSTART:20191027T010000
END:STANDARD
BEGIN:DAYLIGHT
TZOFFSETFROM:+0200
TZOFFSETTO:+0300
TZNAME:EEST
DTSTART:20200329T010000
END:DAYLIGHT
BEGIN:STANDARD
TZOFFSETFROM:+0300
TZOFFSETTO:+0200
TZNAME:EET
DTSTART:20201025T010000
END:STANDARD
END:VTIMEZONE
BEGIN:VEVENT
DTSTART;TZID=Europe/Helsinki:20191001T130000
DTEND;TZID=Europe/Helsinki:20191001T150000
DTSTAMP:20260424T021802
CREATED:20190820T053216Z
LAST-MODIFIED:20190820T053216Z
UID:2777-1569934800-1569942000@www.evankeliset.net
SUMMARY:Riihimäki\, Siionin Kannel -seurat
DESCRIPTION:
URL:https://www.evankeliset.net/tapahtuma/riihimaki-siionin-kannel-seurat-8/
END:VEVENT
BEGIN:VEVENT
DTSTART;TZID=Europe/Helsinki:20191002T140000
DTEND;TZID=Europe/Helsinki:20191002T160000
DTSTAMP:20260424T021802
CREATED:20190917T042240Z
LAST-MODIFIED:20190917T042240Z
UID:2915-1570024800-1570032000@www.evankeliset.net
SUMMARY:Järvenpää\, Lähetyspiiri
DESCRIPTION:
URL:https://www.evankeliset.net/tapahtuma/jarvenpaa-lahetyspiiri-2/
END:VEVENT
BEGIN:VEVENT
DTSTART;TZID=Europe/Helsinki:20191006T100000
DTEND;TZID=Europe/Helsinki:20191006T130000
DTSTAMP:20260424T021803
CREATED:20190121T192408Z
LAST-MODIFIED:20190121T192408Z
UID:2099-1570356000-1570366800@www.evankeliset.net
SUMMARY:Vaasa\, kirkkopyhä
DESCRIPTION:
URL:https://www.evankeliset.net/tapahtuma/vaasa-kirkkopyha/
END:VEVENT
BEGIN:VEVENT
DTSTART;TZID=Europe/Helsinki:20191006T100000
DTEND;TZID=Europe/Helsinki:20191006T140000
DTSTAMP:20260424T021803
CREATED:20190313T102606Z
LAST-MODIFIED:20190629T105010Z
UID:2302-1570356000-1570370400@www.evankeliset.net
SUMMARY:Jalasjärvi\, Kirkkopyhä
DESCRIPTION:
URL:https://www.evankeliset.net/tapahtuma/jalasjarvi-kirkkopyha-2/
END:VEVENT
BEGIN:VEVENT
DTSTART;TZID=Europe/Helsinki:20191006T100000
DTEND;TZID=Europe/Helsinki:20191006T140000
DTSTAMP:20260424T021803
CREATED:20190326T173507Z
LAST-MODIFIED:20190629T105121Z
UID:2357-1570356000-1570370400@www.evankeliset.net
SUMMARY:Himanka\, Elyn kirkkopyhä
DESCRIPTION:
URL:https://www.evankeliset.net/tapahtuma/himanka-elyn-kirkkopyha/
END:VEVENT
BEGIN:VEVENT
DTSTART;TZID=Europe/Helsinki:20191006T160000
DTEND;TZID=Europe/Helsinki:20191006T180000
DTSTAMP:20260424T021803
CREATED:20190614T060225Z
LAST-MODIFIED:20190614T060225Z
UID:2603-1570377600-1570384800@www.evankeliset.net
SUMMARY:Savonlinna\, Pääskylahden kirkko. Uuden elämän ilta
DESCRIPTION:
URL:https://www.evankeliset.net/tapahtuma/savonlinna-paaskylahden-kirkko-uuden-elaman-ilta/
END:VEVENT
BEGIN:VEVENT
DTSTART;TZID=Europe/Helsinki:20191006T180000
DTEND;TZID=Europe/Helsinki:20191006T200000
DTSTAMP:20260424T021803
CREATED:20190629T105332Z
LAST-MODIFIED:20190813T061807Z
UID:2666-1570384800-1570392000@www.evankeliset.net
SUMMARY:Ilmajoki\, Raamattuluento
DESCRIPTION:
URL:https://www.evankeliset.net/tapahtuma/ilmajoki-raamattuluento-2/
END:VEVENT
BEGIN:VEVENT
DTSTART;TZID=Europe/Helsinki:20191007T130000
DTEND;TZID=Europe/Helsinki:20191007T150000
DTSTAMP:20260424T021803
CREATED:20190629T120051Z
LAST-MODIFIED:20190807T051741Z
UID:2684-1570453200-1570460400@www.evankeliset.net
SUMMARY:Kurikka\, Raamattuluento
DESCRIPTION:
URL:https://www.evankeliset.net/tapahtuma/kurikka-raamattuluento/
END:VEVENT
BEGIN:VEVENT
DTSTART;TZID=Europe/Helsinki:20191009T133000
DTEND;TZID=Europe/Helsinki:20191009T163000
DTSTAMP:20260424T021803
CREATED:20190502T091635Z
LAST-MODIFIED:20190502T091635Z
UID:2486-1570627800-1570638600@www.evankeliset.net
SUMMARY:Kokkola\, Päiväkahviseurat
DESCRIPTION:
URL:https://www.evankeliset.net/tapahtuma/kokkola-paivakahviseurat-2/
END:VEVENT
BEGIN:VEVENT
DTSTART;TZID=Europe/Helsinki:20191009T190000
DTEND;TZID=Europe/Helsinki:20191009T200000
DTSTAMP:20260424T021803
CREATED:20190917T100408Z
LAST-MODIFIED:20190917T100408Z
UID:2922-1570647600-1570651200@www.evankeliset.net
SUMMARY:Alajärvi\, Seurat
DESCRIPTION:
URL:https://www.evankeliset.net/tapahtuma/alajarvi-seurat/
END:VEVENT
BEGIN:VEVENT
DTSTART;TZID=Europe/Helsinki:20191010T180000
DTEND;TZID=Europe/Helsinki:20191010T193000
DTSTAMP:20260424T021803
CREATED:20190614T060325Z
LAST-MODIFIED:20190614T060325Z
UID:2605-1570730400-1570735800@www.evankeliset.net
SUMMARY:Sulkava\, Raamattuluento
DESCRIPTION:
URL:https://www.evankeliset.net/tapahtuma/sulkava-raamattuluento-13/
END:VEVENT
BEGIN:VEVENT
DTSTART;TZID=Europe/Helsinki:20191010T180000
DTEND;TZID=Europe/Helsinki:20191010T200000
DTSTAMP:20260424T021803
CREATED:20190121T193122Z
LAST-MODIFIED:20190629T104040Z
UID:2109-1570730400-1570737600@www.evankeliset.net
SUMMARY:Evijärvi\, raamattuluento
DESCRIPTION:
URL:https://www.evankeliset.net/tapahtuma/evijarvi-raamattuluento-3/
END:VEVENT
BEGIN:VEVENT
DTSTART;TZID=Europe/Helsinki:20191010T180000
DTEND;TZID=Europe/Helsinki:20191010T200000
DTSTAMP:20260424T021803
CREATED:20190131T111919Z
LAST-MODIFIED:20190704T060040Z
UID:2149-1570730400-1570737600@www.evankeliset.net
SUMMARY:Lapua\, Elyn lähetysseurat
DESCRIPTION:
URL:https://www.evankeliset.net/tapahtuma/lapua-lauluseurat-3/
END:VEVENT
BEGIN:VEVENT
DTSTART;TZID=Europe/Helsinki:20191011T180000
DTEND;TZID=Europe/Helsinki:20191011T200000
DTSTAMP:20260424T021803
CREATED:20190614T060507Z
LAST-MODIFIED:20190614T060507Z
UID:2607-1570816800-1570824000@www.evankeliset.net
SUMMARY:Helsinki\, Myllypuron kirkko. Armon ilta
DESCRIPTION:
URL:https://www.evankeliset.net/tapahtuma/helsinki-myllypuron-kirkko-armon-ilta/
END:VEVENT
BEGIN:VEVENT
DTSTART;TZID=Europe/Helsinki:20191013T100000
DTEND;TZID=Europe/Helsinki:20191013T130000
DTSTAMP:20260424T021803
CREATED:20190513T054704Z
LAST-MODIFIED:20190513T054704Z
UID:2527-1570960800-1570971600@www.evankeliset.net
SUMMARY:Kouvola\, Elyn kirkkopyhä
DESCRIPTION:
URL:https://www.evankeliset.net/tapahtuma/kouvola-elyn-kirkkopyha/
END:VEVENT
BEGIN:VEVENT
DTSTART;TZID=Europe/Helsinki:20191013T100000
DTEND;TZID=Europe/Helsinki:20191013T130000
DTSTAMP:20260424T021803
CREATED:20190830T051659Z
LAST-MODIFIED:20190830T051659Z
UID:2838-1570960800-1570971600@www.evankeliset.net
SUMMARY:Espoo\, Olari\, messu ja lähetystilaisuus
DESCRIPTION:
URL:https://www.evankeliset.net/tapahtuma/espoo-olari-messu-ja-lahetystilaisuus/
END:VEVENT
BEGIN:VEVENT
DTSTART;TZID=Europe/Helsinki:20191013T100000
DTEND;TZID=Europe/Helsinki:20191013T140000
DTSTAMP:20260424T021803
CREATED:20190211T120329Z
LAST-MODIFIED:20190211T120329Z
UID:2230-1570960800-1570975200@www.evankeliset.net
SUMMARY:Perho\, Elyn kirkkopyhä
DESCRIPTION:
URL:https://www.evankeliset.net/tapahtuma/perho-elyn-kirkkopyha/
END:VEVENT
BEGIN:VEVENT
DTSTART;TZID=Europe/Helsinki:20191013T150000
DTEND;TZID=Europe/Helsinki:20191013T170000
DTSTAMP:20260424T021803
CREATED:20190128T090621Z
LAST-MODIFIED:20190911T071546Z
UID:2137-1570978800-1570986000@www.evankeliset.net
SUMMARY:Seinäjoki\, Siionin kannel seurat
DESCRIPTION:
URL:https://www.evankeliset.net/tapahtuma/seinajoki-siionin-kannel-seurat/
END:VEVENT
BEGIN:VEVENT
DTSTART;TZID=Europe/Helsinki:20191015T133000
DTEND;TZID=Europe/Helsinki:20191015T153000
DTSTAMP:20260424T021803
CREATED:20190711T054427Z
LAST-MODIFIED:20190711T054427Z
UID:2737-1571146200-1571153400@www.evankeliset.net
SUMMARY:Forssa\, Siionin Kannel -seurat
DESCRIPTION:
URL:https://www.evankeliset.net/tapahtuma/forssa-siionin-kannel-seurat-9/
END:VEVENT
BEGIN:VEVENT
DTSTART;TZID=Europe/Helsinki:20191015T180000
DTEND;TZID=Europe/Helsinki:20191015T193000
DTSTAMP:20260424T021803
CREATED:20190614T060606Z
LAST-MODIFIED:20190614T060606Z
UID:2609-1571162400-1571167800@www.evankeliset.net
SUMMARY:Juva\, Raamattuluento
DESCRIPTION:
URL:https://www.evankeliset.net/tapahtuma/juva-raamattuluento-12/
END:VEVENT
BEGIN:VEVENT
DTSTART;TZID=Europe/Helsinki:20191015T180000
DTEND;TZID=Europe/Helsinki:20191015T200000
DTSTAMP:20260424T021803
CREATED:20190425T065356Z
LAST-MODIFIED:20190613T052434Z
UID:2445-1571162400-1571169600@www.evankeliset.net
SUMMARY:Salo\, Kotiseurat
DESCRIPTION:
URL:https://www.evankeliset.net/tapahtuma/salo-kotiseurat-2/
END:VEVENT
BEGIN:VEVENT
DTSTART;TZID=Europe/Helsinki:20191016T100000
DTEND;TZID=Europe/Helsinki:20191016T140000
DTSTAMP:20260424T021803
CREATED:20190905T080742Z
LAST-MODIFIED:20190905T080742Z
UID:2861-1571220000-1571234400@www.evankeliset.net
SUMMARY:Kokkola\, Lähetyssoppi
DESCRIPTION:
URL:https://www.evankeliset.net/tapahtuma/kokkola-lahetyssoppi-15/
END:VEVENT
BEGIN:VEVENT
DTSTART;TZID=Europe/Helsinki:20191017T130000
DTEND;TZID=Europe/Helsinki:20191017T150000
DTSTAMP:20260424T021803
CREATED:20190416T063022Z
LAST-MODIFIED:20190629T105546Z
UID:2415-1571317200-1571324400@www.evankeliset.net
SUMMARY:Kauhajoki\, Siionin Kannel seurat
DESCRIPTION:
URL:https://www.evankeliset.net/tapahtuma/kauhajoki-siionin-kannel-seurat-3/
END:VEVENT
BEGIN:VEVENT
DTSTART;TZID=Europe/Helsinki:20191020T140000
DTEND;TZID=Europe/Helsinki:20191020T160000
DTSTAMP:20260424T021803
CREATED:20190409T095820Z
LAST-MODIFIED:20190629T105723Z
UID:2387-1571580000-1571587200@www.evankeliset.net
SUMMARY:Jalasjärvi\, Raamattuluento
DESCRIPTION:
URL:https://www.evankeliset.net/tapahtuma/jalasjarvi-raamattuluento-2/
END:VEVENT
BEGIN:VEVENT
DTSTART;TZID=Europe/Helsinki:20191020T150000
DTEND;TZID=Europe/Helsinki:20191020T170000
DTSTAMP:20260424T021803
CREATED:20190911T085905Z
LAST-MODIFIED:20190911T085939Z
UID:2896-1571583600-1571590800@www.evankeliset.net
SUMMARY:Hyvinkää\, Messu ja SK-seurat
DESCRIPTION:
URL:https://www.evankeliset.net/tapahtuma/hyvinkaa-messu-ja-sk-seurat/
END:VEVENT
BEGIN:VEVENT
DTSTART;TZID=Europe/Helsinki:20191020T180000
DTEND;TZID=Europe/Helsinki:20191020T200000
DTSTAMP:20260424T021803
CREATED:20190629T105901Z
LAST-MODIFIED:20190702T045113Z
UID:2670-1571594400-1571601600@www.evankeliset.net
SUMMARY:Ilmajoki\, Raamattuluento
DESCRIPTION:
URL:https://www.evankeliset.net/tapahtuma/ilmajoki-raamattuluento-3/
END:VEVENT
BEGIN:VEVENT
DTSTART;TZID=Europe/Helsinki:20191022T110000
DTEND;TZID=Europe/Helsinki:20191022T200000
DTSTAMP:20260424T021803
CREATED:20190629T123840Z
LAST-MODIFIED:20190702T121415Z
UID:2698-1571742000-1571774400@www.evankeliset.net
SUMMARY:Karstula\, Koulutus- ja virkistyspäivä\, syntymäpäiväseurat
DESCRIPTION:
URL:https://www.evankeliset.net/tapahtuma/karstula-koulutus-ja-virkistyspaiva-syntymapaivaseurat/
END:VEVENT
BEGIN:VEVENT
DTSTART;TZID=Europe/Helsinki:20191025T200000
DTEND;TZID=Europe/Helsinki:20191102T060000
DTSTAMP:20260424T021803
CREATED:20190614T062211Z
LAST-MODIFIED:20190614T062211Z
UID:2629-1572033600-1572674400@www.evankeliset.net
SUMMARY:Israelin matka
DESCRIPTION:
URL:https://www.evankeliset.net/tapahtuma/israelin-matka-2/
END:VEVENT
BEGIN:VEVENT
DTSTART;TZID=Europe/Helsinki:20191027T140000
DTEND;TZID=Europe/Helsinki:20191027T160000
DTSTAMP:20260424T021803
CREATED:20190409T095959Z
LAST-MODIFIED:20190629T110036Z
UID:2389-1572184800-1572192000@www.evankeliset.net
SUMMARY:Jalasjärvi\, Raamattuluento
DESCRIPTION:
URL:https://www.evankeliset.net/tapahtuma/jalasjarvi-raamattuluento-3/
END:VEVENT
BEGIN:VEVENT
DTSTART;TZID=Europe/Helsinki:20191028T100000
DTEND;TZID=Europe/Helsinki:20191028T140000
DTSTAMP:20260424T021803
CREATED:20190820T081929Z
LAST-MODIFIED:20190820T081929Z
UID:2787-1572256800-1572271200@www.evankeliset.net
SUMMARY:Kokkola\, Lähetyssoppi
DESCRIPTION:
URL:https://www.evankeliset.net/tapahtuma/kokkola-lahetyssoppi-13/
END:VEVENT
END:VCALENDAR