BEGIN:VCALENDAR
VERSION:2.0
PRODID:-//Evankelinen lähetysyhdistys ELY ry - ECPv6.15.18//NONSGML v1.0//EN
CALSCALE:GREGORIAN
METHOD:PUBLISH
X-WR-CALNAME:Evankelinen lähetysyhdistys ELY ry
X-ORIGINAL-URL:https://www.evankeliset.net
X-WR-CALDESC:Tapahtumat Evankelinen lähetysyhdistys ELY ry
REFRESH-INTERVAL;VALUE=DURATION:PT1H
X-Robots-Tag:noindex
X-PUBLISHED-TTL:PT1H
BEGIN:VTIMEZONE
TZID:Europe/Helsinki
BEGIN:DAYLIGHT
TZOFFSETFROM:+0200
TZOFFSETTO:+0300
TZNAME:EEST
DTSTART:20200329T010000
END:DAYLIGHT
BEGIN:STANDARD
TZOFFSETFROM:+0300
TZOFFSETTO:+0200
TZNAME:EET
DTSTART:20201025T010000
END:STANDARD
BEGIN:DAYLIGHT
TZOFFSETFROM:+0200
TZOFFSETTO:+0300
TZNAME:EEST
DTSTART:20210328T010000
END:DAYLIGHT
BEGIN:STANDARD
TZOFFSETFROM:+0300
TZOFFSETTO:+0200
TZNAME:EET
DTSTART:20211031T010000
END:STANDARD
BEGIN:DAYLIGHT
TZOFFSETFROM:+0200
TZOFFSETTO:+0300
TZNAME:EEST
DTSTART:20220327T010000
END:DAYLIGHT
BEGIN:STANDARD
TZOFFSETFROM:+0300
TZOFFSETTO:+0200
TZNAME:EET
DTSTART:20221030T010000
END:STANDARD
END:VTIMEZONE
BEGIN:VEVENT
DTSTART;TZID=Europe/Helsinki:20210411T100000
DTEND;TZID=Europe/Helsinki:20210411T100000
DTSTAMP:20260425T052908
CREATED:20210406T111508Z
LAST-MODIFIED:20210406T111508Z
UID:5332-1618135200-1618135200@www.evankeliset.net
SUMMARY:Hämeenkyrö\, Elyn kirkkopyhä
DESCRIPTION:
URL:https://www.evankeliset.net/tapahtuma/hameenkyro-elyn-kirkkopyha/
END:VEVENT
BEGIN:VEVENT
DTSTART;TZID=Europe/Helsinki:20210412T130000
DTEND;TZID=Europe/Helsinki:20210412T150000
DTSTAMP:20260425T052908
CREATED:20201118T131602Z
LAST-MODIFIED:20210406T150323Z
UID:4650-1618232400-1618239600@www.evankeliset.net
SUMMARY:Kurikka\, Siionin kannel seurat
DESCRIPTION:
URL:https://www.evankeliset.net/tapahtuma/kurikka-siionin-kannel-seurat-33/
END:VEVENT
BEGIN:VEVENT
DTSTART;TZID=Europe/Helsinki:20210414T120000
DTEND;TZID=Europe/Helsinki:20210414T173000
DTSTAMP:20260425T052908
CREATED:20210317T084807Z
LAST-MODIFIED:20210317T084807Z
UID:5236-1618401600-1618421400@www.evankeliset.net
SUMMARY:Pispalan Radio\, Radio Scoop\, Miten tämä meihin liittyy?
DESCRIPTION:
URL:https://www.evankeliset.net/tapahtuma/pispalan-radio-radio-scoop-miten-tama-meihin-liittyy/
CATEGORIES:Tilaisuudet netissä
END:VEVENT
BEGIN:VEVENT
DTSTART;TZID=Europe/Helsinki:20210415T130000
DTEND;TZID=Europe/Helsinki:20210415T150000
DTSTAMP:20260425T052908
CREATED:20210317T085011Z
LAST-MODIFIED:20210412T060651Z
UID:5238-1618491600-1618498800@www.evankeliset.net
SUMMARY:Striimi\, Ylistaro\, Hyvässä seurassa
DESCRIPTION:
URL:https://www.evankeliset.net/tapahtuma/ylistaro-hyvassa-seurassa/
CATEGORIES:Tilaisuudet netissä
END:VEVENT
BEGIN:VEVENT
DTSTART;TZID=Europe/Helsinki:20210415T180000
DTEND;TZID=Europe/Helsinki:20210415T190000
DTSTAMP:20260425T052908
CREATED:20210408T065127Z
LAST-MODIFIED:20210408T065127Z
UID:5348-1618509600-1618513200@www.evankeliset.net
SUMMARY:Sulkava\, Raamattuluento
DESCRIPTION:
URL:https://www.evankeliset.net/tapahtuma/sulkava-raamattuluento-29/
END:VEVENT
BEGIN:VEVENT
DTSTART;TZID=Europe/Helsinki:20210418T100000
DTEND;TZID=Europe/Helsinki:20210418T113000
DTSTAMP:20260425T052908
CREATED:20201203T080400Z
LAST-MODIFIED:20210412T060844Z
UID:4818-1618740000-1618745400@www.evankeliset.net
SUMMARY:Vaasa\, Elyn kirkkopyhä
DESCRIPTION:
URL:https://www.evankeliset.net/tapahtuma/vaasa-elyn-kirkkopyha/
CATEGORIES:Tilaisuudet netissä
END:VEVENT
BEGIN:VEVENT
DTSTART;TZID=Europe/Helsinki:20210418T100000
DTEND;TZID=Europe/Helsinki:20210418T120000
DTSTAMP:20260425T052908
CREATED:20210114T121706Z
LAST-MODIFIED:20210409T092106Z
UID:4999-1618740000-1618747200@www.evankeliset.net
SUMMARY:Lappajärvi\, Elyn kirkkopyhä
DESCRIPTION:
URL:https://www.evankeliset.net/tapahtuma/lappajarvi-elyn-kirkkopyha/
CATEGORIES:Tilaisuudet netissä
END:VEVENT
BEGIN:VEVENT
DTSTART;TZID=Europe/Helsinki:20210419T180000
DTEND;TZID=Europe/Helsinki:20210419T200000
DTSTAMP:20260425T052908
CREATED:20200917T051732Z
LAST-MODIFIED:20210331T124628Z
UID:4331-1618855200-1618862400@www.evankeliset.net
SUMMARY:Peruttu:Salo\, Raamattuluento
DESCRIPTION:
URL:https://www.evankeliset.net/tapahtuma/salo-raamattupaiva-2/
END:VEVENT
BEGIN:VEVENT
DTSTART;TZID=Europe/Helsinki:20210420T180000
DTEND;TZID=Europe/Helsinki:20210420T190000
DTSTAMP:20260425T052908
CREATED:20210415T180559Z
LAST-MODIFIED:20210415T180559Z
UID:5366-1618941600-1618945200@www.evankeliset.net
SUMMARY:Striimi: Savonlinna\, Raamattuluento
DESCRIPTION:
URL:https://www.evankeliset.net/tapahtuma/striimi-savonlinna-raamattuluento-4/
CATEGORIES:Tilaisuudet netissä
END:VEVENT
BEGIN:VEVENT
DTSTART;TZID=Europe/Helsinki:20210421T120000
DTEND;TZID=Europe/Helsinki:20210421T173000
DTSTAMP:20260425T052908
CREATED:20210317T102848Z
LAST-MODIFIED:20210317T102926Z
UID:5240-1619006400-1619026200@www.evankeliset.net
SUMMARY:Pispalan Radio\, Radio Scoop\, Miten tämä meihin liittyy?
DESCRIPTION:
URL:https://www.evankeliset.net/tapahtuma/pispalan-radio-radio-scoop-miten-tama-meihin-liittyy-2/
CATEGORIES:Tilaisuudet netissä
END:VEVENT
BEGIN:VEVENT
DTSTART;TZID=Europe/Helsinki:20210422T190000
DTEND;TZID=Europe/Helsinki:20210422T200000
DTSTAMP:20260425T052908
CREATED:20210317T104932Z
LAST-MODIFIED:20210421T060008Z
UID:5247-1619118000-1619121600@www.evankeliset.net
SUMMARY:STRIIMI\,Lapua\, Hyvässä seurassa
DESCRIPTION:
URL:https://www.evankeliset.net/tapahtuma/striimihyvassa-seurassa/
CATEGORIES:Tilaisuudet netissä
END:VEVENT
BEGIN:VEVENT
DTSTART;TZID=Europe/Helsinki:20210425T100000
DTEND;TZID=Europe/Helsinki:20210425T110000
DTSTAMP:20260425T052908
CREATED:20210415T180942Z
LAST-MODIFIED:20210415T180942Z
UID:5368-1619344800-1619348400@www.evankeliset.net
SUMMARY:Striimi: Ruokolahti\, ELYn kirkkopyhä
DESCRIPTION:
URL:https://www.evankeliset.net/tapahtuma/striimi-ruokolahti-elyn-kirkkopyha/
CATEGORIES:Tilaisuudet netissä
END:VEVENT
BEGIN:VEVENT
DTSTART;TZID=Europe/Helsinki:20210426T130000
DTEND;TZID=Europe/Helsinki:20210426T150000
DTSTAMP:20260425T052908
CREATED:20201118T131726Z
LAST-MODIFIED:20210412T060137Z
UID:4652-1619442000-1619449200@www.evankeliset.net
SUMMARY:Kurikka\, Siionin kannel seurat
DESCRIPTION:
URL:https://www.evankeliset.net/tapahtuma/kurikka-siionin-kannel-seurat-34/
END:VEVENT
BEGIN:VEVENT
DTSTART;TZID=Europe/Helsinki:20210428T080000
DTEND;TZID=Europe/Helsinki:20210428T170000
DTSTAMP:20260425T052908
CREATED:20210428T124755Z
LAST-MODIFIED:20210428T124755Z
UID:5432-1619596800-1619629200@www.evankeliset.net
SUMMARY:Kurikka\, Myyjäiset\, hartaus
DESCRIPTION:
URL:https://www.evankeliset.net/tapahtuma/kurikka-myyjaiset-hartaus/
END:VEVENT
BEGIN:VEVENT
DTSTART;TZID=Europe/Helsinki:20210428T120000
DTEND;TZID=Europe/Helsinki:20210428T173000
DTSTAMP:20260425T052908
CREATED:20210317T105500Z
LAST-MODIFIED:20210426T054343Z
UID:5251-1619611200-1619631000@www.evankeliset.net
SUMMARY:Radio Pispala\, Radio Scoop\, Miten tämä meihin liittyy?
DESCRIPTION:
URL:https://www.evankeliset.net/tapahtuma/radio-pispala-radio-scoop-miten-tama-meihin-liittyy/
CATEGORIES:Tilaisuudet netissä
END:VEVENT
BEGIN:VEVENT
DTSTART;TZID=Europe/Helsinki:20210429T130000
DTEND;TZID=Europe/Helsinki:20210429T143000
DTSTAMP:20260425T052908
CREATED:20201121T081800Z
LAST-MODIFIED:20210426T060510Z
UID:4697-1619701200-1619706600@www.evankeliset.net
SUMMARY:Alavus\, Hyvässä seurassa
DESCRIPTION:
URL:https://www.evankeliset.net/tapahtuma/alavus-hyvassa-seurassa-14/
END:VEVENT
BEGIN:VEVENT
DTSTART;TZID=Europe/Helsinki:20210430T160000
DTEND;TZID=Europe/Helsinki:20210430T170000
DTSTAMP:20260425T052908
CREATED:20210421T064759Z
LAST-MODIFIED:20210421T064759Z
UID:5390-1619798400-1619802000@www.evankeliset.net
SUMMARY:Lapua\, Vappumyyjäiset
DESCRIPTION:
URL:https://www.evankeliset.net/tapahtuma/lapua-vappumyyjaiset-2/
END:VEVENT
BEGIN:VEVENT
DTSTART;TZID=Europe/Helsinki:20210502T100000
DTEND;TZID=Europe/Helsinki:20210502T140000
DTSTAMP:20260425T052908
CREATED:20201116T141633Z
LAST-MODIFIED:20210421T060348Z
UID:4597-1619949600-1619964000@www.evankeliset.net
SUMMARY:Jalasjärvi\, Elyn kirkkopyhä
DESCRIPTION:
URL:https://www.evankeliset.net/tapahtuma/jalasjarvi-elyn-kirkkopyha/
CATEGORIES:Tilaisuudet netissä
END:VEVENT
BEGIN:VEVENT
DTSTART;TZID=Europe/Helsinki:20210504T180000
DTEND;TZID=Europe/Helsinki:20210504T190000
DTSTAMP:20260425T052908
CREATED:20210430T064702Z
LAST-MODIFIED:20210430T064702Z
UID:5458-1620151200-1620154800@www.evankeliset.net
SUMMARY:Striimi: Savonlinna\, Raamattuluento
DESCRIPTION:
URL:https://www.evankeliset.net/tapahtuma/striimi-savonlinna-raamattuluento-5/
CATEGORIES:Tilaisuudet netissä
END:VEVENT
BEGIN:VEVENT
DTSTART;TZID=Europe/Helsinki:20210505T120000
DTEND;TZID=Europe/Helsinki:20210505T173000
DTSTAMP:20260425T052908
CREATED:20210317T114054Z
LAST-MODIFIED:20210317T114054Z
UID:5253-1620216000-1620235800@www.evankeliset.net
SUMMARY:Pispalan Radio\, Radio Scoop\, Miten tämä meihin liittyy?
DESCRIPTION:
URL:https://www.evankeliset.net/tapahtuma/pispalan-radio-radio-scoop-miten-tama-meihin-liittyy-3/
CATEGORIES:Tilaisuudet netissä
END:VEVENT
BEGIN:VEVENT
DTSTART;TZID=Europe/Helsinki:20210506T130000
DTEND;TZID=Europe/Helsinki:20210506T140000
DTSTAMP:20260425T052908
CREATED:20210317T114230Z
LAST-MODIFIED:20210412T070154Z
UID:5255-1620306000-1620309600@www.evankeliset.net
SUMMARY:STRIIMI\, Hyvässä seurassa\, Lappajärvi
DESCRIPTION:
URL:https://www.evankeliset.net/tapahtuma/striimi-hyvassa-seurassa-lappajarvi/
CATEGORIES:Tilaisuudet netissä
END:VEVENT
BEGIN:VEVENT
DTSTART;TZID=Europe/Helsinki:20210510T130000
DTEND;TZID=Europe/Helsinki:20210510T150000
DTSTAMP:20260425T052908
CREATED:20210406T150552Z
LAST-MODIFIED:20210406T150552Z
UID:5337-1620651600-1620658800@www.evankeliset.net
SUMMARY:Kurikka\, Siionin kannel seurat
DESCRIPTION:
URL:https://www.evankeliset.net/tapahtuma/kurikka-siionin-kannel-seurat-35/
END:VEVENT
BEGIN:VEVENT
DTSTART;TZID=Europe/Helsinki:20210512T120000
DTEND;TZID=Europe/Helsinki:20210512T173000
DTSTAMP:20260425T052908
CREATED:20210317T115312Z
LAST-MODIFIED:20210426T061020Z
UID:5258-1620820800-1620840600@www.evankeliset.net
SUMMARY:Pispalan Radio\, Radio Scoop\, Miten tämä meihin liittyy?
DESCRIPTION:
URL:https://www.evankeliset.net/tapahtuma/pispalan-radio-radio-scoop-miten-tama-meihin-liittyy-4/
CATEGORIES:Tilaisuudet netissä
END:VEVENT
BEGIN:VEVENT
DTSTART;TZID=Europe/Helsinki:20210513T100000
DTEND;TZID=Europe/Helsinki:20210513T110000
DTSTAMP:20260425T052908
CREATED:20210512T053532Z
LAST-MODIFIED:20210512T053532Z
UID:5512-1620900000-1620903600@www.evankeliset.net
SUMMARY:Koria\, Elyn kirkkopyhä
DESCRIPTION:
URL:https://www.evankeliset.net/tapahtuma/koria-elyn-kirkkopyha/
END:VEVENT
BEGIN:VEVENT
DTSTART;TZID=Europe/Helsinki:20210513T100000
DTEND;TZID=Europe/Helsinki:20210513T130000
DTSTAMP:20260425T052908
CREATED:20210430T064937Z
LAST-MODIFIED:20210430T064937Z
UID:5462-1620900000-1620910800@www.evankeliset.net
SUMMARY:Keitele\, ELYn kirkkopyhä
DESCRIPTION:
URL:https://www.evankeliset.net/tapahtuma/keitele-elyn-kirkkopyha/
END:VEVENT
BEGIN:VEVENT
DTSTART;TZID=Europe/Helsinki:20210513T120000
DTEND;TZID=Europe/Helsinki:20210513T160000
DTSTAMP:20260425T052908
CREATED:20201121T082319Z
LAST-MODIFIED:20210429T055649Z
UID:4701-1620907200-1620921600@www.evankeliset.net
SUMMARY:Alahärmä\, Aarrearkku-perhekirkko
DESCRIPTION:
URL:https://www.evankeliset.net/tapahtuma/alaharma-perhemessu/
END:VEVENT
BEGIN:VEVENT
DTSTART;TZID=Europe/Helsinki:20210516T100000
DTEND;TZID=Europe/Helsinki:20210516T110000
DTSTAMP:20260425T052908
CREATED:20210507T043740Z
LAST-MODIFIED:20210507T043740Z
UID:5488-1621159200-1621162800@www.evankeliset.net
SUMMARY:Striimi: Pitäjänmäen srk\, messu
DESCRIPTION:
URL:https://www.evankeliset.net/tapahtuma/striimi-pitajanmaen-srk-messu/
CATEGORIES:Tilaisuudet netissä
END:VEVENT
BEGIN:VEVENT
DTSTART;TZID=Europe/Helsinki:20210516T100000
DTEND;TZID=Europe/Helsinki:20210516T140000
DTSTAMP:20260425T052908
CREATED:20210326T121030Z
LAST-MODIFIED:20210506T063148Z
UID:5307-1621159200-1621173600@www.evankeliset.net
SUMMARY:Ylivieska\, Elyn kirkkopyhä
DESCRIPTION:
URL:https://www.evankeliset.net/tapahtuma/ylivieska-elyn-kirkkopyha/
CATEGORIES:Tilaisuudet netissä
END:VEVENT
BEGIN:VEVENT
DTSTART;TZID=Europe/Helsinki:20210516T180000
DTEND;TZID=Europe/Helsinki:20210516T200000
DTSTAMP:20260425T052908
CREATED:20201116T141813Z
LAST-MODIFIED:20210429T055433Z
UID:4599-1621188000-1621195200@www.evankeliset.net
SUMMARY:Seinäjoki\, Kevätkirkko
DESCRIPTION:
URL:https://www.evankeliset.net/tapahtuma/seinajoki-kevatkirkko-2/
END:VEVENT
BEGIN:VEVENT
DTSTART;TZID=Europe/Helsinki:20210518T180000
DTEND;TZID=Europe/Helsinki:20210518T190000
DTSTAMP:20260425T052908
CREATED:20210507T044149Z
LAST-MODIFIED:20210507T044149Z
UID:5490-1621360800-1621364400@www.evankeliset.net
SUMMARY:Striimi: Savonlinna\, Raamattuluento
DESCRIPTION:
URL:https://www.evankeliset.net/tapahtuma/striimi-savonlinna-raamattuluento-6/
CATEGORIES:Tilaisuudet netissä
END:VEVENT
END:VCALENDAR