BEGIN:VCALENDAR
VERSION:2.0
PRODID:-//Evankelinen lähetysyhdistys ELY ry - ECPv6.15.18//NONSGML v1.0//EN
CALSCALE:GREGORIAN
METHOD:PUBLISH
X-WR-CALNAME:Evankelinen lähetysyhdistys ELY ry
X-ORIGINAL-URL:https://www.evankeliset.net
X-WR-CALDESC:Tapahtumat Evankelinen lähetysyhdistys ELY ry
REFRESH-INTERVAL;VALUE=DURATION:PT1H
X-Robots-Tag:noindex
X-PUBLISHED-TTL:PT1H
BEGIN:VTIMEZONE
TZID:Europe/Helsinki
BEGIN:DAYLIGHT
TZOFFSETFROM:+0200
TZOFFSETTO:+0300
TZNAME:EEST
DTSTART:20200329T010000
END:DAYLIGHT
BEGIN:STANDARD
TZOFFSETFROM:+0300
TZOFFSETTO:+0200
TZNAME:EET
DTSTART:20201025T010000
END:STANDARD
BEGIN:DAYLIGHT
TZOFFSETFROM:+0200
TZOFFSETTO:+0300
TZNAME:EEST
DTSTART:20210328T010000
END:DAYLIGHT
BEGIN:STANDARD
TZOFFSETFROM:+0300
TZOFFSETTO:+0200
TZNAME:EET
DTSTART:20211031T010000
END:STANDARD
BEGIN:DAYLIGHT
TZOFFSETFROM:+0200
TZOFFSETTO:+0300
TZNAME:EEST
DTSTART:20220327T010000
END:DAYLIGHT
BEGIN:STANDARD
TZOFFSETFROM:+0300
TZOFFSETTO:+0200
TZNAME:EET
DTSTART:20221030T010000
END:STANDARD
END:VTIMEZONE
BEGIN:VEVENT
DTSTART;TZID=Europe/Helsinki:20211017T100000
DTEND;TZID=Europe/Helsinki:20211017T113000
DTSTAMP:20260424T203921
CREATED:20211007T132044Z
LAST-MODIFIED:20211007T132044Z
UID:6055-1634464800-1634470200@www.evankeliset.net
SUMMARY:Lappeen srk\, Lappeenranta. ELYn kirkkopyhä
DESCRIPTION:
URL:https://www.evankeliset.net/tapahtuma/lappeen-srk-lappeenranta-elyn-kirkkopyha/
END:VEVENT
BEGIN:VEVENT
DTSTART;TZID=Europe/Helsinki:20211017T100000
DTEND;TZID=Europe/Helsinki:20211017T140000
DTSTAMP:20260424T203921
CREATED:20210317T122428Z
LAST-MODIFIED:20211014T090829Z
UID:5264-1634464800-1634479200@www.evankeliset.net
SUMMARY:Ylistaro\, Elyn kirkkopyhä
DESCRIPTION:
URL:https://www.evankeliset.net/tapahtuma/ylistaro-elyn-kirkkopyha-2/
END:VEVENT
BEGIN:VEVENT
DTSTART;TZID=Europe/Helsinki:20211017T150000
DTEND;TZID=Europe/Helsinki:20211017T170000
DTSTAMP:20260424T203921
CREATED:20210810T094935Z
LAST-MODIFIED:20210810T095108Z
UID:5740-1634482800-1634490000@www.evankeliset.net
SUMMARY:Seinäjoki\, Vanhassa vara parempi -raamattuluento
DESCRIPTION:
URL:https://www.evankeliset.net/tapahtuma/seinajoki-vanhassa-vara-parempi-raamattuluento/
END:VEVENT
BEGIN:VEVENT
DTSTART;TZID=Europe/Helsinki:20211018T130000
DTEND;TZID=Europe/Helsinki:20211018T150000
DTSTAMP:20260424T203921
CREATED:20210428T125007Z
LAST-MODIFIED:20210927T045311Z
UID:5436-1634562000-1634569200@www.evankeliset.net
SUMMARY:Kurikka\, Siionin kannel seurat
DESCRIPTION:
URL:https://www.evankeliset.net/tapahtuma/kurikka-siionin-kannel-seurat-38/
END:VEVENT
BEGIN:VEVENT
DTSTART;TZID=Europe/Helsinki:20211019T100000
DTEND;TZID=Europe/Helsinki:20211019T140000
DTSTAMP:20260424T203921
CREATED:20210830T070749Z
LAST-MODIFIED:20210830T070749Z
UID:5859-1634637600-1634652000@www.evankeliset.net
SUMMARY:Kokkola\, lähetyssoppi
DESCRIPTION:
URL:https://www.evankeliset.net/tapahtuma/kokkola-lahetyssoppi-31/
END:VEVENT
BEGIN:VEVENT
DTSTART;TZID=Europe/Helsinki:20211019T133000
DTEND;TZID=Europe/Helsinki:20211019T153000
DTSTAMP:20260424T203921
CREATED:20210810T060103Z
LAST-MODIFIED:20210930T072820Z
UID:5731-1634650200-1634657400@www.evankeliset.net
SUMMARY:Forssa\, Siionin kannel -seurat
DESCRIPTION:
URL:https://www.evankeliset.net/tapahtuma/forssa-siionin-kannel-seurat-16/
END:VEVENT
BEGIN:VEVENT
DTSTART;TZID=Europe/Helsinki:20211019T180000
DTEND;TZID=Europe/Helsinki:20211019T193000
DTSTAMP:20260424T203921
CREATED:20211007T132157Z
LAST-MODIFIED:20211007T132157Z
UID:6057-1634666400-1634671800@www.evankeliset.net
SUMMARY:Savonlinna\, Raamattuluento
DESCRIPTION:
URL:https://www.evankeliset.net/tapahtuma/savonlinna-raamattuluento-18/
CATEGORIES:Tilaisuudet netissä
END:VEVENT
BEGIN:VEVENT
DTSTART;TZID=Europe/Helsinki:20211020T080000
DTEND;TZID=Europe/Helsinki:20211020T170000
DTSTAMP:20260424T203921
CREATED:20211020T190358Z
LAST-MODIFIED:20211020T190358Z
UID:6109-1634716800-1634749200@www.evankeliset.net
SUMMARY:Rautavaara\, Elyn kirkkopyhä
DESCRIPTION:
URL:https://www.evankeliset.net/tapahtuma/rautavaara-elyn-kirkkopyha/
END:VEVENT
BEGIN:VEVENT
DTSTART;TZID=Europe/Helsinki:20211020T120000
DTEND;TZID=Europe/Helsinki:20211020T140000
DTSTAMP:20260424T203921
CREATED:20210820T095056Z
LAST-MODIFIED:20210820T095056Z
UID:5769-1634731200-1634738400@www.evankeliset.net
SUMMARY:Salo\, Pastanttipuuro
DESCRIPTION:
URL:https://www.evankeliset.net/tapahtuma/salo-pastanttipuuro-3/
END:VEVENT
BEGIN:VEVENT
DTSTART;TZID=Europe/Helsinki:20211020T180000
DTEND;TZID=Europe/Helsinki:20211020T193000
DTSTAMP:20260424T203921
CREATED:20211007T132330Z
LAST-MODIFIED:20211007T132330Z
UID:6059-1634752800-1634758200@www.evankeliset.net
SUMMARY:Simpele\, Raamattuluento
DESCRIPTION:
URL:https://www.evankeliset.net/tapahtuma/simpele-raamattuluento-3/
END:VEVENT
BEGIN:VEVENT
DTSTART;TZID=Europe/Helsinki:20211024T100000
DTEND;TZID=Europe/Helsinki:20211024T150000
DTSTAMP:20260424T203921
CREATED:20210816T090824Z
LAST-MODIFIED:20211020T081644Z
UID:5748-1635069600-1635087600@www.evankeliset.net
SUMMARY:Lappajärvi\, Elyn kirkkopyhä\, messu
DESCRIPTION:
URL:https://www.evankeliset.net/tapahtuma/lappajarvi-elyn-kirkkopyha-messu/
END:VEVENT
BEGIN:VEVENT
DTSTART;TZID=Europe/Helsinki:20211025T180000
DTEND;TZID=Europe/Helsinki:20211025T200000
DTSTAMP:20260424T203921
CREATED:20210910T074635Z
LAST-MODIFIED:20210910T074635Z
UID:5932-1635184800-1635192000@www.evankeliset.net
SUMMARY:Hamina\, Hyvässä seurassa ilta
DESCRIPTION:
URL:https://www.evankeliset.net/tapahtuma/hamina-hyvassa-seurassa-ilta-10/
END:VEVENT
BEGIN:VEVENT
DTSTART;TZID=Europe/Helsinki:20211027T123000
DTEND;TZID=Europe/Helsinki:20211027T140000
DTSTAMP:20260424T203921
CREATED:20210831T091145Z
LAST-MODIFIED:20210831T091145Z
UID:5866-1635337800-1635343200@www.evankeliset.net
SUMMARY:Jalasjärvi\, Siionin kannel seurat
DESCRIPTION:
URL:https://www.evankeliset.net/tapahtuma/jalasjarvi-siionin-kannel-seurat-5/
END:VEVENT
BEGIN:VEVENT
DTSTART;TZID=Europe/Helsinki:20211028T130000
DTEND;TZID=Europe/Helsinki:20211028T150000
DTSTAMP:20260424T203921
CREATED:20210428T125735Z
LAST-MODIFIED:20211005T064428Z
UID:5448-1635426000-1635433200@www.evankeliset.net
SUMMARY:Alavus\, Hyvässä seurassa
DESCRIPTION:
URL:https://www.evankeliset.net/tapahtuma/alavus-hyvassa-seurassa-17/
END:VEVENT
BEGIN:VEVENT
DTSTART;TZID=Europe/Helsinki:20211031T100000
DTEND;TZID=Europe/Helsinki:20211031T140000
DTSTAMP:20260424T203921
CREATED:20210506T134554Z
LAST-MODIFIED:20211014T091139Z
UID:5479-1635674400-1635688800@www.evankeliset.net
SUMMARY:Soini\, Elyn kirkkopyhä\, perhekirkko\, aarrearkkutapahtuma
DESCRIPTION:
URL:https://www.evankeliset.net/tapahtuma/soini-elyn-kirkkopyha-perhekirkko-aarrearkkutapahtuma/
END:VEVENT
BEGIN:VEVENT
DTSTART;TZID=Europe/Helsinki:20211031T170000
DTEND;TZID=Europe/Helsinki:20211031T190000
DTSTAMP:20260424T203921
CREATED:20211008T041711Z
LAST-MODIFIED:20211008T041711Z
UID:6061-1635699600-1635706800@www.evankeliset.net
SUMMARY:Tampere\, Siionin kannel -lauluseurat
DESCRIPTION:
URL:https://www.evankeliset.net/tapahtuma/tampere-siionin-kannel-lauluseurat/
END:VEVENT
BEGIN:VEVENT
DTSTART;TZID=Europe/Helsinki:20211101T130000
DTEND;TZID=Europe/Helsinki:20211101T150000
DTSTAMP:20260424T203921
CREATED:20210428T125101Z
LAST-MODIFIED:20210428T125101Z
UID:5438-1635771600-1635778800@www.evankeliset.net
SUMMARY:Kurikka\, Siionin kannel seurat
DESCRIPTION:
URL:https://www.evankeliset.net/tapahtuma/kurikka-siionin-kannel-seurat-39/
END:VEVENT
BEGIN:VEVENT
DTSTART;TZID=Europe/Helsinki:20211102T130000
DTEND;TZID=Europe/Helsinki:20211102T150000
DTSTAMP:20260424T203921
CREATED:20211018T063656Z
LAST-MODIFIED:20211018T065237Z
UID:6103-1635858000-1635865200@www.evankeliset.net
SUMMARY:Perho\, Siionin kannel seurat
DESCRIPTION:
URL:https://www.evankeliset.net/tapahtuma/perho-siionin-kannel-seurat/
END:VEVENT
BEGIN:VEVENT
DTSTART;TZID=Europe/Helsinki:20211103T190000
DTEND;TZID=Europe/Helsinki:20211103T210000
DTSTAMP:20260424T203921
CREATED:20211006T094624Z
LAST-MODIFIED:20211006T110010Z
UID:6044-1635966000-1635973200@www.evankeliset.net
SUMMARY:Peräseinäjoki\, Siionin kannel seurat
DESCRIPTION:
URL:https://www.evankeliset.net/tapahtuma/peraseinajoki-siionin-kannel-seurat/
END:VEVENT
BEGIN:VEVENT
DTSTART;TZID=Europe/Helsinki:20211105T130000
DTEND;TZID=Europe/Helsinki:20211105T150000
DTSTAMP:20260424T203921
CREATED:20210804T082555Z
LAST-MODIFIED:20210930T072445Z
UID:5689-1636117200-1636124400@www.evankeliset.net
SUMMARY:Riihimäki\, Siionin kannel -seurat
DESCRIPTION:
URL:https://www.evankeliset.net/tapahtuma/riihimaki-siionin-kannel-seurat-15/
END:VEVENT
BEGIN:VEVENT
DTSTART;TZID=Europe/Helsinki:20211107T100000
DTEND;TZID=Europe/Helsinki:20211107T130000
DTSTAMP:20260424T203921
CREATED:20201121T091028Z
LAST-MODIFIED:20220210T165657Z
UID:4725-1636279200-1636290000@www.evankeliset.net
SUMMARY:Alahärmä\, Elyn kirkkopyhä
DESCRIPTION:
URL:https://www.evankeliset.net/tapahtuma/alaharma-elyn-kirkkopyha/
END:VEVENT
BEGIN:VEVENT
DTSTART;TZID=Europe/Helsinki:20211107T100000
DTEND;TZID=Europe/Helsinki:20211107T140000
DTSTAMP:20260424T203921
CREATED:20210317T122712Z
LAST-MODIFIED:20210910T075020Z
UID:5266-1636279200-1636293600@www.evankeliset.net
SUMMARY:Seinäjoki\, Elyn ja Sansan kirkkopyhä
DESCRIPTION:
URL:https://www.evankeliset.net/tapahtuma/seinajoki-elyn-ja-sansan-kirkkopyha/
END:VEVENT
BEGIN:VEVENT
DTSTART;TZID=Europe/Helsinki:20211109T180000
DTEND;TZID=Europe/Helsinki:20211109T190000
DTSTAMP:20260424T203921
CREATED:20211109T094529Z
LAST-MODIFIED:20211109T094529Z
UID:6145-1636480800-1636484400@www.evankeliset.net
SUMMARY:Juva\, Raamattuluento
DESCRIPTION:
URL:https://www.evankeliset.net/tapahtuma/juva-raamattuluento-27/
END:VEVENT
BEGIN:VEVENT
DTSTART;TZID=Europe/Helsinki:20211110T120000
DTEND;TZID=Europe/Helsinki:20211110T140000
DTSTAMP:20260424T203921
CREATED:20210915T160610Z
LAST-MODIFIED:20210915T160610Z
UID:5943-1636545600-1636552800@www.evankeliset.net
SUMMARY:Kuortane\, Hyvässä seurassa
DESCRIPTION:
URL:https://www.evankeliset.net/tapahtuma/kuortane-hyvassa-seurassa/
END:VEVENT
BEGIN:VEVENT
DTSTART;TZID=Europe/Helsinki:20211110T133000
DTEND;TZID=Europe/Helsinki:20211110T150000
DTSTAMP:20260424T203921
CREATED:20210409T074042Z
LAST-MODIFIED:20210409T074042Z
UID:5357-1636551000-1636556400@www.evankeliset.net
SUMMARY:Kokkola\, Päiväkahvitilaisuus
DESCRIPTION:
URL:https://www.evankeliset.net/tapahtuma/kokkola-paivakahvitilaisuus-7/
END:VEVENT
BEGIN:VEVENT
DTSTART;TZID=Europe/Helsinki:20211110T180000
DTEND;TZID=Europe/Helsinki:20211110T200000
DTSTAMP:20260424T203921
CREATED:20210816T094615Z
LAST-MODIFIED:20211103T071121Z
UID:5753-1636567200-1636574400@www.evankeliset.net
SUMMARY:SIIRRETÄÄN Lappajärvi\, Hyvässä seurassa
DESCRIPTION:
URL:https://www.evankeliset.net/tapahtuma/lappajarvi-hyvassa-seurassa-4/
END:VEVENT
BEGIN:VEVENT
DTSTART;TZID=Europe/Helsinki:20211111T130000
DTEND;TZID=Europe/Helsinki:20211111T150000
DTSTAMP:20260424T203921
CREATED:20210428T053330Z
LAST-MODIFIED:20211005T084044Z
UID:5428-1636635600-1636642800@www.evankeliset.net
SUMMARY:Kauhajoki\, Siionin kannel seurat
DESCRIPTION:
URL:https://www.evankeliset.net/tapahtuma/kauhajoki-siionin-kannel-seurat-9/
END:VEVENT
BEGIN:VEVENT
DTSTART;TZID=Europe/Helsinki:20211111T180000
DTEND;TZID=Europe/Helsinki:20211111T190000
DTSTAMP:20260424T203921
CREATED:20211109T094654Z
LAST-MODIFIED:20211109T094654Z
UID:6147-1636653600-1636657200@www.evankeliset.net
SUMMARY:Sulkava\, Raamattuluento
DESCRIPTION:
URL:https://www.evankeliset.net/tapahtuma/sulkava-raamattuluento-34/
END:VEVENT
BEGIN:VEVENT
DTSTART;TZID=Europe/Helsinki:20211114T100000
DTEND;TZID=Europe/Helsinki:20211114T130000
DTSTAMP:20260424T203922
CREATED:20211109T094811Z
LAST-MODIFIED:20211109T094811Z
UID:6149-1636884000-1636894800@www.evankeliset.net
SUMMARY:Joensuu\, Rantakylän seurakunta\, ELYn kirkkopyhä
DESCRIPTION:
URL:https://www.evankeliset.net/tapahtuma/joensuu-rantakylan-seurakunta-elyn-kirkkopyha/
END:VEVENT
BEGIN:VEVENT
DTSTART;TZID=Europe/Helsinki:20211115T130000
DTEND;TZID=Europe/Helsinki:20211115T150000
DTSTAMP:20260424T203922
CREATED:20210428T125159Z
LAST-MODIFIED:20211111T095842Z
UID:5440-1636981200-1636988400@www.evankeliset.net
SUMMARY:Kurikka\, Siionin kannel seurat
DESCRIPTION:
URL:https://www.evankeliset.net/tapahtuma/kurikka-siionin-kannel-seurat-40/
END:VEVENT
END:VCALENDAR