BEGIN:VCALENDAR
VERSION:2.0
PRODID:-//Evankelinen lähetysyhdistys ELY ry - ECPv6.15.18//NONSGML v1.0//EN
CALSCALE:GREGORIAN
METHOD:PUBLISH
X-WR-CALNAME:Evankelinen lähetysyhdistys ELY ry
X-ORIGINAL-URL:https://www.evankeliset.net
X-WR-CALDESC:Tapahtumat Evankelinen lähetysyhdistys ELY ry
REFRESH-INTERVAL;VALUE=DURATION:PT1H
X-Robots-Tag:noindex
X-PUBLISHED-TTL:PT1H
BEGIN:VTIMEZONE
TZID:Europe/Helsinki
BEGIN:DAYLIGHT
TZOFFSETFROM:+0200
TZOFFSETTO:+0300
TZNAME:EEST
DTSTART:20200329T010000
END:DAYLIGHT
BEGIN:STANDARD
TZOFFSETFROM:+0300
TZOFFSETTO:+0200
TZNAME:EET
DTSTART:20201025T010000
END:STANDARD
BEGIN:DAYLIGHT
TZOFFSETFROM:+0200
TZOFFSETTO:+0300
TZNAME:EEST
DTSTART:20210328T010000
END:DAYLIGHT
BEGIN:STANDARD
TZOFFSETFROM:+0300
TZOFFSETTO:+0200
TZNAME:EET
DTSTART:20211031T010000
END:STANDARD
BEGIN:DAYLIGHT
TZOFFSETFROM:+0200
TZOFFSETTO:+0300
TZNAME:EEST
DTSTART:20220327T010000
END:DAYLIGHT
BEGIN:STANDARD
TZOFFSETFROM:+0300
TZOFFSETTO:+0200
TZNAME:EET
DTSTART:20221030T010000
END:STANDARD
END:VTIMEZONE
BEGIN:VEVENT
DTSTART;TZID=Europe/Helsinki:20211114T100000
DTEND;TZID=Europe/Helsinki:20211114T130000
DTSTAMP:20260424T190551
CREATED:20211109T094811Z
LAST-MODIFIED:20211109T094811Z
UID:6149-1636884000-1636894800@www.evankeliset.net
SUMMARY:Joensuu\, Rantakylän seurakunta\, ELYn kirkkopyhä
DESCRIPTION:
URL:https://www.evankeliset.net/tapahtuma/joensuu-rantakylan-seurakunta-elyn-kirkkopyha/
END:VEVENT
BEGIN:VEVENT
DTSTART;TZID=Europe/Helsinki:20211115T130000
DTEND;TZID=Europe/Helsinki:20211115T150000
DTSTAMP:20260424T190551
CREATED:20210428T125159Z
LAST-MODIFIED:20211111T095842Z
UID:5440-1636981200-1636988400@www.evankeliset.net
SUMMARY:Kurikka\, Siionin kannel seurat
DESCRIPTION:
URL:https://www.evankeliset.net/tapahtuma/kurikka-siionin-kannel-seurat-40/
END:VEVENT
BEGIN:VEVENT
DTSTART;TZID=Europe/Helsinki:20211116T100000
DTEND;TZID=Europe/Helsinki:20211116T140000
DTSTAMP:20260424T190551
CREATED:20210830T070902Z
LAST-MODIFIED:20210830T070902Z
UID:5861-1637056800-1637071200@www.evankeliset.net
SUMMARY:Kokkola\, Lähetyssoppi
DESCRIPTION:
URL:https://www.evankeliset.net/tapahtuma/kokkola-lahetyssoppi-32/
END:VEVENT
BEGIN:VEVENT
DTSTART;TZID=Europe/Helsinki:20211116T180000
DTEND;TZID=Europe/Helsinki:20211116T190000
DTSTAMP:20260424T190551
CREATED:20211109T143832Z
LAST-MODIFIED:20211109T143832Z
UID:6152-1637085600-1637089200@www.evankeliset.net
SUMMARY:Savonlinna\, Raamattuluento
DESCRIPTION:
URL:https://www.evankeliset.net/tapahtuma/savonlinna-raamattuluento-19/
CATEGORIES:Tilaisuudet netissä
END:VEVENT
BEGIN:VEVENT
DTSTART;TZID=Europe/Helsinki:20211116T180000
DTEND;TZID=Europe/Helsinki:20211116T200000
DTSTAMP:20260424T190551
CREATED:20210908T054025Z
LAST-MODIFIED:20211110T121435Z
UID:5903-1637085600-1637092800@www.evankeliset.net
SUMMARY:SIIRRETÄÄN\, Kälviä\, Siionin kannel seurat
DESCRIPTION:
URL:https://www.evankeliset.net/tapahtuma/kalvia-siionin-kannel-seurat/
END:VEVENT
BEGIN:VEVENT
DTSTART;TZID=Europe/Helsinki:20211117T180000
DTEND;TZID=Europe/Helsinki:20211117T190000
DTSTAMP:20260424T190551
CREATED:20211109T144009Z
LAST-MODIFIED:20211109T144009Z
UID:6154-1637172000-1637175600@www.evankeliset.net
SUMMARY:Simpele\, Raamattuluento
DESCRIPTION:
URL:https://www.evankeliset.net/tapahtuma/simpele-raamattuluento-4/
END:VEVENT
BEGIN:VEVENT
DTSTART;TZID=Europe/Helsinki:20211117T180000
DTEND;TZID=Europe/Helsinki:20211117T200000
DTSTAMP:20260424T190551
CREATED:20210820T095239Z
LAST-MODIFIED:20210820T095239Z
UID:5771-1637172000-1637179200@www.evankeliset.net
SUMMARY:Salo\, Siionin kannel -seurat
DESCRIPTION:
URL:https://www.evankeliset.net/tapahtuma/salo-siionin-kannel-seurat-14/
END:VEVENT
BEGIN:VEVENT
DTSTART;TZID=Europe/Helsinki:20211121T100000
DTEND;TZID=Europe/Helsinki:20211121T120000
DTSTAMP:20260424T190551
CREATED:20210519T112326Z
LAST-MODIFIED:20211111T091304Z
UID:5538-1637488800-1637496000@www.evankeliset.net
SUMMARY:Kauhajoki\, Elyn kirkkopyhä\, messu
DESCRIPTION:
URL:https://www.evankeliset.net/tapahtuma/kauhajoki-elyn-kirkkopyha-messu/
END:VEVENT
BEGIN:VEVENT
DTSTART;TZID=Europe/Helsinki:20211121T100000
DTEND;TZID=Europe/Helsinki:20211121T130000
DTSTAMP:20260424T190551
CREATED:20210426T083209Z
LAST-MODIFIED:20211111T090815Z
UID:5409-1637488800-1637499600@www.evankeliset.net
SUMMARY:Alajärvi\, Elyn kirkkopyhä
DESCRIPTION:
URL:https://www.evankeliset.net/tapahtuma/alajarvi-elyn-kirkkopyha-2/
END:VEVENT
BEGIN:VEVENT
DTSTART;TZID=Europe/Helsinki:20211121T100000
DTEND;TZID=Europe/Helsinki:20211121T130000
DTSTAMP:20260424T190551
CREATED:20210818T112328Z
LAST-MODIFIED:20210818T112328Z
UID:5760-1637488800-1637499600@www.evankeliset.net
SUMMARY:Jämsä\, Elyn kirkkopyhä
DESCRIPTION:
URL:https://www.evankeliset.net/tapahtuma/jamsa-elyn-kirkkopyha/
END:VEVENT
BEGIN:VEVENT
DTSTART;TZID=Europe/Helsinki:20211121T100000
DTEND;TZID=Europe/Helsinki:20211121T130000
DTSTAMP:20260424T190551
CREATED:20211109T144116Z
LAST-MODIFIED:20211109T144116Z
UID:6156-1637488800-1637499600@www.evankeliset.net
SUMMARY:Hirvensalmi\, ELYn kirkkopyhä
DESCRIPTION:
URL:https://www.evankeliset.net/tapahtuma/hirvensalmi-elyn-kirkkopyha-2/
END:VEVENT
BEGIN:VEVENT
DTSTART;TZID=Europe/Helsinki:20211121T100000
DTEND;TZID=Europe/Helsinki:20211121T140000
DTSTAMP:20260424T190551
CREATED:20210810T070359Z
LAST-MODIFIED:20210930T072913Z
UID:5733-1637488800-1637503200@www.evankeliset.net
SUMMARY:Forssa\, Elyn kirkkopyhä
DESCRIPTION:
URL:https://www.evankeliset.net/tapahtuma/forssa-elyn-kirkkopyha-4/
END:VEVENT
BEGIN:VEVENT
DTSTART;TZID=Europe/Helsinki:20211121T130000
DTEND;TZID=Europe/Helsinki:20211121T140000
DTSTAMP:20260424T190551
CREATED:20210426T083352Z
LAST-MODIFIED:20211111T095536Z
UID:5411-1637499600-1637503200@www.evankeliset.net
SUMMARY:Lehtimäki\, Elyn kirkkopyhä
DESCRIPTION:
URL:https://www.evankeliset.net/tapahtuma/lehtimaki-elyn-kirkkopyha-3/
END:VEVENT
BEGIN:VEVENT
DTSTART;TZID=Europe/Helsinki:20211121T150000
DTEND;TZID=Europe/Helsinki:20211121T170000
DTSTAMP:20260424T190551
CREATED:20210810T095335Z
LAST-MODIFIED:20211015T094556Z
UID:5742-1637506800-1637514000@www.evankeliset.net
SUMMARY:Seinäjoki\, Siionin kannel seurat
DESCRIPTION:
URL:https://www.evankeliset.net/tapahtuma/seinajoki-siionin-kannel-seurat-5/
END:VEVENT
BEGIN:VEVENT
DTSTART;TZID=Europe/Helsinki:20211121T170000
DTEND;TZID=Europe/Helsinki:20211121T190000
DTSTAMP:20260424T190551
CREATED:20211008T041917Z
LAST-MODIFIED:20211008T041917Z
UID:6063-1637514000-1637521200@www.evankeliset.net
SUMMARY:Tampere\, Siionin kannel -lauluseurat
DESCRIPTION:
URL:https://www.evankeliset.net/tapahtuma/tampere-siionin-kannel-lauluseurat-2/
END:VEVENT
BEGIN:VEVENT
DTSTART;TZID=Europe/Helsinki:20211122T140000
DTEND;TZID=Europe/Helsinki:20211122T160000
DTSTAMP:20260424T190551
CREATED:20210920T101329Z
LAST-MODIFIED:20210920T101329Z
UID:5955-1637589600-1637596800@www.evankeliset.net
SUMMARY:Kouvola\, Lähetyspiiri
DESCRIPTION:
URL:https://www.evankeliset.net/tapahtuma/kouvola-lahetyspiiri-15/
END:VEVENT
BEGIN:VEVENT
DTSTART;TZID=Europe/Helsinki:20211124T123000
DTEND;TZID=Europe/Helsinki:20211124T140000
DTSTAMP:20260424T190551
CREATED:20210831T091311Z
LAST-MODIFIED:20211115T080255Z
UID:5868-1637757000-1637762400@www.evankeliset.net
SUMMARY:Jalasjärvi\, Siionin kannel seurat
DESCRIPTION:
URL:https://www.evankeliset.net/tapahtuma/jalasjarvi-siionin-kannel-seurat-6/
END:VEVENT
BEGIN:VEVENT
DTSTART;TZID=Europe/Helsinki:20211128T110000
DTEND;TZID=Europe/Helsinki:20211128T130000
DTSTAMP:20260424T190551
CREATED:20211109T144232Z
LAST-MODIFIED:20211109T144232Z
UID:6158-1638097200-1638104400@www.evankeliset.net
SUMMARY:Savonlinna\, helluntaiseurakunta
DESCRIPTION:
URL:https://www.evankeliset.net/tapahtuma/savonlinna-helluntaiseurakunta/
END:VEVENT
BEGIN:VEVENT
DTSTART;TZID=Europe/Helsinki:20211128T110000
DTEND;TZID=Europe/Helsinki:20211128T140000
DTSTAMP:20260424T190551
CREATED:20210706T075003Z
LAST-MODIFIED:20210706T081413Z
UID:5663-1638097200-1638108000@www.evankeliset.net
SUMMARY:Perho\, Perhekirkko\, aarrearkku\,
DESCRIPTION:
URL:https://www.evankeliset.net/tapahtuma/perho-perhekirkko-aarrearkku/
END:VEVENT
BEGIN:VEVENT
DTSTART;TZID=Europe/Helsinki:20211129T130000
DTEND;TZID=Europe/Helsinki:20211129T150000
DTSTAMP:20260424T190551
CREATED:20210428T125253Z
LAST-MODIFIED:20210428T125253Z
UID:5442-1638190800-1638198000@www.evankeliset.net
SUMMARY:Kurikka\, Siionin kannel seurat
DESCRIPTION:
URL:https://www.evankeliset.net/tapahtuma/kurikka-siionin-kannel-seurat-41/
END:VEVENT
BEGIN:VEVENT
DTSTART;TZID=Europe/Helsinki:20211129T180000
DTEND;TZID=Europe/Helsinki:20211129T200000
DTSTAMP:20260424T190551
CREATED:20210910T080706Z
LAST-MODIFIED:20211109T112115Z
UID:5936-1638208800-1638216000@www.evankeliset.net
SUMMARY:Hamina\, Hyvässä seurassa
DESCRIPTION:
URL:https://www.evankeliset.net/tapahtuma/hamina-hyvassa-seurassa-2/
END:VEVENT
BEGIN:VEVENT
DTSTART;TZID=Europe/Helsinki:20211130T180000
DTEND;TZID=Europe/Helsinki:20211130T193000
DTSTAMP:20260424T190551
CREATED:20211129T074836Z
LAST-MODIFIED:20211129T074836Z
UID:6313-1638295200-1638300600@www.evankeliset.net
SUMMARY:Savonlinna\, Raamattuluento
DESCRIPTION:
URL:https://www.evankeliset.net/tapahtuma/savonlinna-raamattuluento-20/
CATEGORIES:Tilaisuudet netissä
END:VEVENT
BEGIN:VEVENT
DTSTART;TZID=Europe/Helsinki:20211130T180000
DTEND;TZID=Europe/Helsinki:20211130T200000
DTSTAMP:20260424T190551
CREATED:20210910T080919Z
LAST-MODIFIED:20210910T080919Z
UID:5938-1638295200-1638302400@www.evankeliset.net
SUMMARY:Elimäki\, Koria
DESCRIPTION:
URL:https://www.evankeliset.net/tapahtuma/elimaki-koria/
END:VEVENT
BEGIN:VEVENT
DTSTART;TZID=Europe/Helsinki:20211201T140000
DTEND;TZID=Europe/Helsinki:20211201T150000
DTSTAMP:20260424T190551
CREATED:20211005T054009Z
LAST-MODIFIED:20211005T054009Z
UID:6024-1638367200-1638370800@www.evankeliset.net
SUMMARY:Evijärvi\, Siionin kannel seurat
DESCRIPTION:
URL:https://www.evankeliset.net/tapahtuma/evijarvi-siionin-kannel-seurat/
END:VEVENT
BEGIN:VEVENT
DTSTART;TZID=Europe/Helsinki:20211202T130000
DTEND;TZID=Europe/Helsinki:20211202T150000
DTSTAMP:20260424T190551
CREATED:20211115T075943Z
LAST-MODIFIED:20211115T075943Z
UID:6238-1638450000-1638457200@www.evankeliset.net
SUMMARY:Keuruu\, Joululauluseurat
DESCRIPTION:
URL:https://www.evankeliset.net/tapahtuma/keuruu-joululauluseurat-2/
END:VEVENT
BEGIN:VEVENT
DTSTART;TZID=Europe/Helsinki:20211203T130000
DTEND;TZID=Europe/Helsinki:20211203T150000
DTSTAMP:20260424T190551
CREATED:20210804T082706Z
LAST-MODIFIED:20211112T092640Z
UID:5691-1638536400-1638543600@www.evankeliset.net
SUMMARY:Riihimäki\, Siionin kannel -seurat
DESCRIPTION:
URL:https://www.evankeliset.net/tapahtuma/riihimaki-siionin-kannel-seurat-16/
END:VEVENT
BEGIN:VEVENT
DTSTART;TZID=Europe/Helsinki:20211205T100000
DTEND;TZID=Europe/Helsinki:20211205T130000
DTSTAMP:20260424T190551
CREATED:20210804T082831Z
LAST-MODIFIED:20210804T082831Z
UID:5693-1638698400-1638709200@www.evankeliset.net
SUMMARY:Riihimäki\, Elyn kirkkopyhä
DESCRIPTION:
URL:https://www.evankeliset.net/tapahtuma/riihimaki-elyn-kirkkopyha-4/
END:VEVENT
BEGIN:VEVENT
DTSTART;TZID=Europe/Helsinki:20211205T100000
DTEND;TZID=Europe/Helsinki:20211205T130000
DTSTAMP:20260424T190551
CREATED:20211129T075019Z
LAST-MODIFIED:20211129T075019Z
UID:6315-1638698400-1638709200@www.evankeliset.net
SUMMARY:Joensuu\, Pielisensuun kirkko\, ELYn kirkkopyhä
DESCRIPTION:
URL:https://www.evankeliset.net/tapahtuma/joensuu-pielisensuun-kirkko-elyn-kirkkopyha/
END:VEVENT
BEGIN:VEVENT
DTSTART;TZID=Europe/Helsinki:20211205T100000
DTEND;TZID=Europe/Helsinki:20211205T140000
DTSTAMP:20260424T190552
CREATED:20210317T122946Z
LAST-MODIFIED:20211111T100852Z
UID:5268-1638698400-1638712800@www.evankeliset.net
SUMMARY:Lapua\, Elyn kirkkopyhä
DESCRIPTION:
URL:https://www.evankeliset.net/tapahtuma/lapua-elyn-kirkkopyha/
END:VEVENT
BEGIN:VEVENT
DTSTART;TZID=Europe/Helsinki:20211205T100000
DTEND;TZID=Europe/Helsinki:20211205T140000
DTSTAMP:20260424T190552
CREATED:20211117T080245Z
LAST-MODIFIED:20211117T080245Z
UID:6274-1638698400-1638712800@www.evankeliset.net
SUMMARY:Pornainen\, Elyn kirkkopyhä
DESCRIPTION:
URL:https://www.evankeliset.net/tapahtuma/pornainen-elyn-kirkkopyha/
END:VEVENT
END:VCALENDAR