BEGIN:VCALENDAR
VERSION:2.0
PRODID:-//Evankelinen lähetysyhdistys ELY ry - ECPv6.15.18//NONSGML v1.0//EN
CALSCALE:GREGORIAN
METHOD:PUBLISH
X-WR-CALNAME:Evankelinen lähetysyhdistys ELY ry
X-ORIGINAL-URL:https://www.evankeliset.net
X-WR-CALDESC:Tapahtumat Evankelinen lähetysyhdistys ELY ry
REFRESH-INTERVAL;VALUE=DURATION:PT1H
X-Robots-Tag:noindex
X-PUBLISHED-TTL:PT1H
BEGIN:VTIMEZONE
TZID:Europe/Helsinki
BEGIN:DAYLIGHT
TZOFFSETFROM:+0200
TZOFFSETTO:+0300
TZNAME:EEST
DTSTART:20200329T010000
END:DAYLIGHT
BEGIN:STANDARD
TZOFFSETFROM:+0300
TZOFFSETTO:+0200
TZNAME:EET
DTSTART:20201025T010000
END:STANDARD
BEGIN:DAYLIGHT
TZOFFSETFROM:+0200
TZOFFSETTO:+0300
TZNAME:EEST
DTSTART:20210328T010000
END:DAYLIGHT
BEGIN:STANDARD
TZOFFSETFROM:+0300
TZOFFSETTO:+0200
TZNAME:EET
DTSTART:20211031T010000
END:STANDARD
BEGIN:DAYLIGHT
TZOFFSETFROM:+0200
TZOFFSETTO:+0300
TZNAME:EEST
DTSTART:20220327T010000
END:DAYLIGHT
BEGIN:STANDARD
TZOFFSETFROM:+0300
TZOFFSETTO:+0200
TZNAME:EET
DTSTART:20221030T010000
END:STANDARD
BEGIN:DAYLIGHT
TZOFFSETFROM:+0200
TZOFFSETTO:+0300
TZNAME:EEST
DTSTART:20230326T010000
END:DAYLIGHT
BEGIN:STANDARD
TZOFFSETFROM:+0300
TZOFFSETTO:+0200
TZNAME:EET
DTSTART:20231029T010000
END:STANDARD
END:VTIMEZONE
BEGIN:VEVENT
DTSTART;TZID=Europe/Helsinki:20211211T110000
DTEND;TZID=Europe/Helsinki:20211212T150000
DTSTAMP:20260424T190548
CREATED:20211119T085235Z
LAST-MODIFIED:20211119T085235Z
UID:6291-1639220400-1639321200@www.evankeliset.net
SUMMARY:Kitee\, KEKO joulun tekstit Raamatussa
DESCRIPTION:
URL:https://www.evankeliset.net/tapahtuma/kitee-keko-joulun-tekstit-raamatussa/
END:VEVENT
BEGIN:VEVENT
DTSTART;TZID=Europe/Helsinki:20211212T100000
DTEND;TZID=Europe/Helsinki:20211212T113000
DTSTAMP:20260424T190549
CREATED:20211129T075441Z
LAST-MODIFIED:20211129T075441Z
UID:6321-1639303200-1639308600@www.evankeliset.net
SUMMARY:Sulkava\, messu
DESCRIPTION:
URL:https://www.evankeliset.net/tapahtuma/sulkava-messu-6/
END:VEVENT
BEGIN:VEVENT
DTSTART;TZID=Europe/Helsinki:20211212T100000
DTEND;TZID=Europe/Helsinki:20211212T140000
DTSTAMP:20260424T190549
CREATED:20210507T163531Z
LAST-MODIFIED:20211115T104659Z
UID:5502-1639303200-1639317600@www.evankeliset.net
SUMMARY:Himanka\, Elyn kirkkopyhä\, puurojuhla
DESCRIPTION:
URL:https://www.evankeliset.net/tapahtuma/elyn-kirkkopyha-joulujuhla/
END:VEVENT
BEGIN:VEVENT
DTSTART;TZID=Europe/Helsinki:20211212T120000
DTEND;TZID=Europe/Helsinki:20211212T150000
DTSTAMP:20260424T190549
CREATED:20210317T123218Z
LAST-MODIFIED:20211015T094954Z
UID:5271-1639310400-1639321200@www.evankeliset.net
SUMMARY:Seinäjoki\, maakunnallinen joulujuhla
DESCRIPTION:
URL:https://www.evankeliset.net/tapahtuma/seinajoki-maakunnallinen-joulujuhla-3/
END:VEVENT
BEGIN:VEVENT
DTSTART;TZID=Europe/Helsinki:20211213T130000
DTEND;TZID=Europe/Helsinki:20211213T150000
DTSTAMP:20260424T190549
CREATED:20210428T125413Z
LAST-MODIFIED:20210428T125413Z
UID:5444-1639400400-1639407600@www.evankeliset.net
SUMMARY:Kurikka\, Joululauluseurat
DESCRIPTION:
URL:https://www.evankeliset.net/tapahtuma/kurikka-joululauluseurat/
END:VEVENT
BEGIN:VEVENT
DTSTART;TZID=Europe/Helsinki:20211214T180000
DTEND;TZID=Europe/Helsinki:20211214T193000
DTSTAMP:20260424T190549
CREATED:20211129T075714Z
LAST-MODIFIED:20211129T075714Z
UID:6323-1639504800-1639510200@www.evankeliset.net
SUMMARY:Savonlinna\, Raamattuluento
DESCRIPTION:
URL:https://www.evankeliset.net/tapahtuma/savonlinna-raamattuluento-21/
CATEGORIES:Tilaisuudet netissä
END:VEVENT
BEGIN:VEVENT
DTSTART;TZID=Europe/Helsinki:20211214T180000
DTEND;TZID=Europe/Helsinki:20211214T200000
DTSTAMP:20260424T190549
CREATED:20211005T064040Z
LAST-MODIFIED:20211203T100451Z
UID:6028-1639504800-1639512000@www.evankeliset.net
SUMMARY:Lappajärvi\, Joululauluseurat
DESCRIPTION:
URL:https://www.evankeliset.net/tapahtuma/lappajarvi-joululauluseurat-2/
END:VEVENT
BEGIN:VEVENT
DTSTART;TZID=Europe/Helsinki:20211215T123000
DTEND;TZID=Europe/Helsinki:20211215T140000
DTSTAMP:20260424T190549
CREATED:20210831T091433Z
LAST-MODIFIED:20211213T075714Z
UID:5870-1639571400-1639576800@www.evankeliset.net
SUMMARY:PERUTTU\, Jalasjärvi\, Joululauluseurat
DESCRIPTION:
URL:https://www.evankeliset.net/tapahtuma/jalasjarvi-joululauluseurat/
END:VEVENT
BEGIN:VEVENT
DTSTART;TZID=Europe/Helsinki:20211216T120000
DTEND;TZID=Europe/Helsinki:20211216T140000
DTSTAMP:20260424T190549
CREATED:20211203T094235Z
LAST-MODIFIED:20211203T094621Z
UID:6342-1639656000-1639663200@www.evankeliset.net
SUMMARY:Kokkola\, Lauluhetki Lähetyssopilla
DESCRIPTION:
URL:https://www.evankeliset.net/tapahtuma/kokkola-lauluhetki-lahetyssopilla/
END:VEVENT
BEGIN:VEVENT
DTSTART;TZID=Europe/Helsinki:20211217T180000
DTEND;TZID=Europe/Helsinki:20211217T200000
DTSTAMP:20260424T190549
CREATED:20211129T075841Z
LAST-MODIFIED:20211129T075841Z
UID:6325-1639764000-1639771200@www.evankeliset.net
SUMMARY:Pieksämäki\, Israel-ilta
DESCRIPTION:
URL:https://www.evankeliset.net/tapahtuma/pieksamaki-israel-ilta/
END:VEVENT
BEGIN:VEVENT
DTSTART;TZID=Europe/Helsinki:20211219T100000
DTEND;TZID=Europe/Helsinki:20211219T113000
DTSTAMP:20260424T190549
CREATED:20211129T080028Z
LAST-MODIFIED:20211218T094314Z
UID:6327-1639908000-1639913400@www.evankeliset.net
SUMMARY:Sulkava\, messu
DESCRIPTION:
URL:https://www.evankeliset.net/tapahtuma/sulkava-lahetyspyha/
END:VEVENT
BEGIN:VEVENT
DTSTART;TZID=Europe/Helsinki:20211228T180000
DTEND;TZID=Europe/Helsinki:20211228T200000
DTSTAMP:20260424T190549
CREATED:20210930T182840Z
LAST-MODIFIED:20210930T182840Z
UID:6017-1640714400-1640721600@www.evankeliset.net
SUMMARY:Kannusjärvi Hamina\, joululauluseurat
DESCRIPTION:
URL:https://www.evankeliset.net/tapahtuma/kannusjarvi-hamina-joululauluseurat/
END:VEVENT
BEGIN:VEVENT
DTSTART;TZID=Europe/Helsinki:20220101T120000
DTEND;TZID=Europe/Helsinki:20220101T140000
DTSTAMP:20260424T190549
CREATED:20211119T090641Z
LAST-MODIFIED:20211119T090641Z
UID:6293-1641038400-1641045600@www.evankeliset.net
SUMMARY:Iitti Kausala\, Elyn kirkkopyhä
DESCRIPTION:
URL:https://www.evankeliset.net/tapahtuma/iitti-kausala-elyn-kirkkopyha-2/
END:VEVENT
BEGIN:VEVENT
DTSTART;TZID=Europe/Helsinki:20220104T080000
DTEND;TZID=Europe/Helsinki:20220104T170000
DTSTAMP:20260424T190549
CREATED:20220104T130940Z
LAST-MODIFIED:20220104T130940Z
UID:6422-1641283200-1641315600@www.evankeliset.net
SUMMARY:Elimäki\, lähetysilta
DESCRIPTION:
URL:https://www.evankeliset.net/tapahtuma/elimaki-lahetysilta/
END:VEVENT
BEGIN:VEVENT
DTSTART;TZID=Europe/Helsinki:20220106T100000
DTEND;TZID=Europe/Helsinki:20220106T140000
DTSTAMP:20260424T190549
CREATED:20211129T083902Z
LAST-MODIFIED:20220103T093045Z
UID:6333-1641463200-1641477600@www.evankeliset.net
SUMMARY:SIIRRETÄÄN\, Rautavaara\, Elyn kirkkopyhä
DESCRIPTION:
URL:https://www.evankeliset.net/tapahtuma/rautavaara-elyn-kirkkopyha-2/
END:VEVENT
BEGIN:VEVENT
DTSTART;TZID=Europe/Helsinki:20220109T100000
DTEND;TZID=Europe/Helsinki:20220109T113000
DTSTAMP:20260424T190549
CREATED:20220105T085116Z
LAST-MODIFIED:20220105T085116Z
UID:6436-1641722400-1641727800@www.evankeliset.net
SUMMARY:Sulkava\, messu
DESCRIPTION:
URL:https://www.evankeliset.net/tapahtuma/sulkava-messu-7/
END:VEVENT
BEGIN:VEVENT
DTSTART;TZID=Europe/Helsinki:20220109T100000
DTEND;TZID=Europe/Helsinki:20220109T140000
DTSTAMP:20260424T190549
CREATED:20211008T071723Z
LAST-MODIFIED:20220105T082512Z
UID:6069-1641722400-1641736800@www.evankeliset.net
SUMMARY:Ilmajoki\, Elyn kirkkopyhä
DESCRIPTION:
URL:https://www.evankeliset.net/tapahtuma/ilmajoki-elyn-kirkkopyha-2/
CATEGORIES:Tilaisuudet netissä
END:VEVENT
BEGIN:VEVENT
DTSTART;TZID=Europe/Helsinki:20220109T100000
DTEND;TZID=Europe/Helsinki:20220109T140000
DTSTAMP:20260424T190549
CREATED:20211117T064728Z
LAST-MODIFIED:20211117T064728Z
UID:6269-1641722400-1641736800@www.evankeliset.net
SUMMARY:Kouvola\, Elyn kirkkopyhä Käpylässä
DESCRIPTION:
URL:https://www.evankeliset.net/tapahtuma/kouvola-elyn-kirkkopyha-kapylassa/
END:VEVENT
BEGIN:VEVENT
DTSTART;TZID=Europe/Helsinki:20220109T140000
DTEND;TZID=Europe/Helsinki:20220109T160000
DTSTAMP:20260424T190549
CREATED:20211129T083207Z
LAST-MODIFIED:20220104T081305Z
UID:6331-1641736800-1641744000@www.evankeliset.net
SUMMARY:PERUTTU\, Seinäjoki\, Herätysliikkeiden yhteiset seurat
DESCRIPTION:
URL:https://www.evankeliset.net/tapahtuma/seinajoki-heratysliikkeiden-yhteiset-seurat/
END:VEVENT
BEGIN:VEVENT
DTSTART;TZID=Europe/Helsinki:20220110T130000
DTEND;TZID=Europe/Helsinki:20220110T143000
DTSTAMP:20260424T190549
CREATED:20211111T114024Z
LAST-MODIFIED:20211111T114024Z
UID:6215-1641819600-1641825000@www.evankeliset.net
SUMMARY:Kurikka\, Siionin kannel seurat
DESCRIPTION:
URL:https://www.evankeliset.net/tapahtuma/kurikka-siionin-kannel-seurat-42/
END:VEVENT
BEGIN:VEVENT
DTSTART;TZID=Europe/Helsinki:20220111T100000
DTEND;TZID=Europe/Helsinki:20220111T140000
DTSTAMP:20260424T190549
CREATED:20211215T085348Z
LAST-MODIFIED:20220107T105909Z
UID:6375-1641895200-1641909600@www.evankeliset.net
SUMMARY:PERUTAAN\, Kokkola\, Lähetyssoppi
DESCRIPTION:
URL:https://www.evankeliset.net/tapahtuma/kokkola-lahetyssoppi-33/
END:VEVENT
BEGIN:VEVENT
DTSTART;TZID=Europe/Helsinki:20220112T133000
DTEND;TZID=Europe/Helsinki:20220112T150000
DTSTAMP:20260424T190549
CREATED:20211214T075013Z
LAST-MODIFIED:20211214T075013Z
UID:6349-1641994200-1641999600@www.evankeliset.net
SUMMARY:Kokkola\, Elyn päiväkahvitilaisuudet
DESCRIPTION:
URL:https://www.evankeliset.net/tapahtuma/kokkola-elyn-paivakahvitilaisuudet-2/
END:VEVENT
BEGIN:VEVENT
DTSTART;TZID=Europe/Helsinki:20220112T180000
DTEND;TZID=Europe/Helsinki:20220112T200000
DTSTAMP:20260424T190549
CREATED:20211014T092927Z
LAST-MODIFIED:20220105T082603Z
UID:6091-1642010400-1642017600@www.evankeliset.net
SUMMARY:Lapua\, Lähetysseurat
DESCRIPTION:
URL:https://www.evankeliset.net/tapahtuma/lapua-lahetysseurat/
CATEGORIES:Tilaisuudet netissä
END:VEVENT
BEGIN:VEVENT
DTSTART;TZID=Europe/Helsinki:20220113T130000
DTEND;TZID=Europe/Helsinki:20220113T143000
DTSTAMP:20260424T190549
CREATED:20211111T102842Z
LAST-MODIFIED:20211111T102842Z
UID:6173-1642078800-1642084200@www.evankeliset.net
SUMMARY:Kauhajoki\, Siionin kannel seurat
DESCRIPTION:
URL:https://www.evankeliset.net/tapahtuma/kauhajoki-siionin-kannel-seurat-10/
END:VEVENT
BEGIN:VEVENT
DTSTART;TZID=Europe/Helsinki:20220113T180000
DTEND;TZID=Europe/Helsinki:20220113T193000
DTSTAMP:20260424T190549
CREATED:20220105T085236Z
LAST-MODIFIED:20220105T085236Z
UID:6438-1642096800-1642102200@www.evankeliset.net
SUMMARY:Sulkava\, Raamattuluento
DESCRIPTION:
URL:https://www.evankeliset.net/tapahtuma/sulkava-raamattuluento-36/
END:VEVENT
BEGIN:VEVENT
DTSTART;TZID=Europe/Helsinki:20220116T100000
DTEND;TZID=Europe/Helsinki:20220116T140000
DTSTAMP:20260424T190549
CREATED:20211008T071854Z
LAST-MODIFIED:20220113T112546Z
UID:6071-1642327200-1642341600@www.evankeliset.net
SUMMARY:Peräseinäjoki\, Elyn kirkkopyhä
DESCRIPTION:
URL:https://www.evankeliset.net/tapahtuma/peraseinajoki-elyn-kirkkopyha-3/
CATEGORIES:Tilaisuudet netissä
END:VEVENT
BEGIN:VEVENT
DTSTART;TZID=Europe/Helsinki:20220116T100000
DTEND;TZID=Europe/Helsinki:20220116T140000
DTSTAMP:20260424T190549
CREATED:20211117T065133Z
LAST-MODIFIED:20220110T155238Z
UID:6271-1642327200-1642341600@www.evankeliset.net
SUMMARY:Luumäki\, Elyn kirkkopyhä
DESCRIPTION:
URL:https://www.evankeliset.net/tapahtuma/luumaki-elyn-kirkkopyha-2/
END:VEVENT
BEGIN:VEVENT
DTSTART;TZID=Europe/Helsinki:20220116T110000
DTEND;TZID=Europe/Helsinki:20220116T130000
DTSTAMP:20260424T190549
CREATED:20220113T091033Z
LAST-MODIFIED:20220113T091033Z
UID:6453-1642330800-1642338000@www.evankeliset.net
SUMMARY:Savonlinna\, vapaaseurakunta\, sunnuntaikokous
DESCRIPTION:
URL:https://www.evankeliset.net/tapahtuma/savonlinna-vapaaseurakunta-sunnuntaikokous/
END:VEVENT
BEGIN:VEVENT
DTSTART;TZID=Europe/Helsinki:20220116T170000
DTEND;TZID=Europe/Helsinki:20220116T190000
DTSTAMP:20260424T190549
CREATED:20220104T130459Z
LAST-MODIFIED:20220104T130459Z
UID:6418-1642352400-1642359600@www.evankeliset.net
SUMMARY:Viiala\, Majataloilta
DESCRIPTION:
URL:https://www.evankeliset.net/tapahtuma/viiala-majataloilta/
END:VEVENT
BEGIN:VEVENT
DTSTART;TZID=Europe/Helsinki:20220118T133000
DTEND;TZID=Europe/Helsinki:20220118T153000
DTSTAMP:20260424T190549
CREATED:20211119T100940Z
LAST-MODIFIED:20220110T154906Z
UID:6295-1642512600-1642519800@www.evankeliset.net
SUMMARY:Forssa\, Siionin kannel -seurat PERUTTU
DESCRIPTION:
URL:https://www.evankeliset.net/tapahtuma/forssa-ystavan-kammari/
END:VEVENT
END:VCALENDAR