BEGIN:VCALENDAR
VERSION:2.0
PRODID:-//Evankelinen lähetysyhdistys ELY ry - ECPv6.15.18//NONSGML v1.0//EN
CALSCALE:GREGORIAN
METHOD:PUBLISH
X-WR-CALNAME:Evankelinen lähetysyhdistys ELY ry
X-ORIGINAL-URL:https://www.evankeliset.net
X-WR-CALDESC:Tapahtumat Evankelinen lähetysyhdistys ELY ry
REFRESH-INTERVAL;VALUE=DURATION:PT1H
X-Robots-Tag:noindex
X-PUBLISHED-TTL:PT1H
BEGIN:VTIMEZONE
TZID:Europe/Helsinki
BEGIN:DAYLIGHT
TZOFFSETFROM:+0200
TZOFFSETTO:+0300
TZNAME:EEST
DTSTART:20210328T010000
END:DAYLIGHT
BEGIN:STANDARD
TZOFFSETFROM:+0300
TZOFFSETTO:+0200
TZNAME:EET
DTSTART:20211031T010000
END:STANDARD
BEGIN:DAYLIGHT
TZOFFSETFROM:+0200
TZOFFSETTO:+0300
TZNAME:EEST
DTSTART:20220327T010000
END:DAYLIGHT
BEGIN:STANDARD
TZOFFSETFROM:+0300
TZOFFSETTO:+0200
TZNAME:EET
DTSTART:20221030T010000
END:STANDARD
BEGIN:DAYLIGHT
TZOFFSETFROM:+0200
TZOFFSETTO:+0300
TZNAME:EEST
DTSTART:20230326T010000
END:DAYLIGHT
BEGIN:STANDARD
TZOFFSETFROM:+0300
TZOFFSETTO:+0200
TZNAME:EET
DTSTART:20231029T010000
END:STANDARD
END:VTIMEZONE
BEGIN:VEVENT
DTSTART;TZID=Europe/Helsinki:20220215T133000
DTEND;TZID=Europe/Helsinki:20220215T153000
DTSTAMP:20260424T204046
CREATED:20211124T063747Z
LAST-MODIFIED:20211124T063747Z
UID:6303-1644931800-1644939000@www.evankeliset.net
SUMMARY:Forssa\, Siionin kannel -seurat
DESCRIPTION:
URL:https://www.evankeliset.net/tapahtuma/forssa-siionin-kannel-seurat-17/
END:VEVENT
BEGIN:VEVENT
DTSTART;TZID=Europe/Helsinki:20220215T180000
DTEND;TZID=Europe/Helsinki:20220215T193000
DTSTAMP:20260424T204046
CREATED:20220207T161637Z
LAST-MODIFIED:20220207T161637Z
UID:6533-1644948000-1644953400@www.evankeliset.net
SUMMARY:Savonlinna\, Raamattuluento
DESCRIPTION:
URL:https://www.evankeliset.net/tapahtuma/savonlinna-raamattuluento-24/
CATEGORIES:Tilaisuudet netissä
END:VEVENT
BEGIN:VEVENT
DTSTART;TZID=Europe/Helsinki:20220216T180000
DTEND;TZID=Europe/Helsinki:20220216T200000
DTSTAMP:20260424T204046
CREATED:20210820T100542Z
LAST-MODIFIED:20210820T100542Z
UID:5777-1645034400-1645041600@www.evankeliset.net
SUMMARY:Salo\, Siionin kannel -seurat
DESCRIPTION:
URL:https://www.evankeliset.net/tapahtuma/salo-siionin-kannel-seurat-16/
END:VEVENT
BEGIN:VEVENT
DTSTART;TZID=Europe/Helsinki:20220219T113000
DTEND;TZID=Europe/Helsinki:20220220T150000
DTSTAMP:20260424T204046
CREATED:20220113T174402Z
LAST-MODIFIED:20220113T174402Z
UID:6463-1645270200-1645369200@www.evankeliset.net
SUMMARY:Kitee\, hengellinen viikonloppu
DESCRIPTION:
URL:https://www.evankeliset.net/tapahtuma/kitee-hengellinen-viikonloppu/
END:VEVENT
BEGIN:VEVENT
DTSTART;TZID=Europe/Helsinki:20220220T100000
DTEND;TZID=Europe/Helsinki:20220220T130000
DTSTAMP:20260424T204046
CREATED:20211116T123022Z
LAST-MODIFIED:20220215T112122Z
UID:6253-1645351200-1645362000@www.evankeliset.net
SUMMARY:Lohtaja\, Elyn kirkkopyhä
DESCRIPTION:
URL:https://www.evankeliset.net/tapahtuma/lohtaja-elyn-kirkkopyha/
CATEGORIES:Tilaisuudet netissä
END:VEVENT
BEGIN:VEVENT
DTSTART;TZID=Europe/Helsinki:20220220T100000
DTEND;TZID=Europe/Helsinki:20220220T143000
DTSTAMP:20260424T204046
CREATED:20211111T111725Z
LAST-MODIFIED:20220218T080544Z
UID:6201-1645351200-1645367400@www.evankeliset.net
SUMMARY:Kuortane\, Elyn kirkkopyhä
DESCRIPTION:
URL:https://www.evankeliset.net/tapahtuma/kuortane-elyn-kirkkopyha-2/
END:VEVENT
BEGIN:VEVENT
DTSTART;TZID=Europe/Helsinki:20220220T120000
DTEND;TZID=Europe/Helsinki:20220220T140000
DTSTAMP:20260424T204046
CREATED:20220207T162129Z
LAST-MODIFIED:20220207T162129Z
UID:6535-1645358400-1645365600@www.evankeliset.net
SUMMARY:Helsinki\, Puistola\, ELYn kirkkopyhä
DESCRIPTION:
URL:https://www.evankeliset.net/tapahtuma/helsinki-puistola-elyn-kirkkopyha-2/
END:VEVENT
BEGIN:VEVENT
DTSTART;TZID=Europe/Helsinki:20220220T150000
DTEND;TZID=Europe/Helsinki:20220220T170000
DTSTAMP:20260424T204046
CREATED:20211111T110628Z
LAST-MODIFIED:20220214T091725Z
UID:6193-1645369200-1645376400@www.evankeliset.net
SUMMARY:Seinäjoki\, Vanhassa vara parempi-raamattuluentosarjan 2.osa
DESCRIPTION:
URL:https://www.evankeliset.net/tapahtuma/seinajoki-vanhassa-vara-parempi-raamattuluentosarjan-2-osa/
END:VEVENT
BEGIN:VEVENT
DTSTART;TZID=Europe/Helsinki:20220221T130000
DTEND;TZID=Europe/Helsinki:20220221T143000
DTSTAMP:20260424T204046
CREATED:20211111T114321Z
LAST-MODIFIED:20220218T080448Z
UID:6219-1645448400-1645453800@www.evankeliset.net
SUMMARY:Kurikka\, Siionin kannel seurat
DESCRIPTION:
URL:https://www.evankeliset.net/tapahtuma/kurikka-siionin-kannel-seurat-44/
END:VEVENT
BEGIN:VEVENT
DTSTART;TZID=Europe/Helsinki:20220222T100000
DTEND;TZID=Europe/Helsinki:20220222T140000
DTSTAMP:20260424T204046
CREATED:20220215T074538Z
LAST-MODIFIED:20220215T074538Z
UID:6562-1645524000-1645538400@www.evankeliset.net
SUMMARY:Kokkola\, Lähetyssoppi
DESCRIPTION:
URL:https://www.evankeliset.net/tapahtuma/kokkola-lahetyssoppi-34/
END:VEVENT
BEGIN:VEVENT
DTSTART;TZID=Europe/Helsinki:20220223T120000
DTEND;TZID=Europe/Helsinki:20220223T133000
DTSTAMP:20260424T204046
CREATED:20211214T080931Z
LAST-MODIFIED:20211214T080931Z
UID:6361-1645617600-1645623000@www.evankeliset.net
SUMMARY:Kuortane\, Hyvässä seurassa
DESCRIPTION:
URL:https://www.evankeliset.net/tapahtuma/kuortane-hyvassa-seurassa-3/
END:VEVENT
BEGIN:VEVENT
DTSTART;TZID=Europe/Helsinki:20220224T130000
DTEND;TZID=Europe/Helsinki:20220224T143000
DTSTAMP:20260424T204046
CREATED:20211111T105916Z
LAST-MODIFIED:20220221T122719Z
UID:6189-1645707600-1645713000@www.evankeliset.net
SUMMARY:Alavus\, Hyvässä seurassa
DESCRIPTION:
URL:https://www.evankeliset.net/tapahtuma/alavus-hyvassa-seurassa-19/
CATEGORIES:Tilaisuudet netissä
END:VEVENT
BEGIN:VEVENT
DTSTART;TZID=Europe/Helsinki:20220227T093000
DTEND;TZID=Europe/Helsinki:20220227T120000
DTSTAMP:20260424T204046
CREATED:20220203T112445Z
LAST-MODIFIED:20220221T094156Z
UID:6518-1645954200-1645963200@www.evankeliset.net
SUMMARY:Pietari\, Pyhän Marian kirkon jumalanpalvelus
DESCRIPTION:
URL:https://www.evankeliset.net/tapahtuma/pietari-pyhan-marian-kirkon-jumalanpalvelus/
END:VEVENT
BEGIN:VEVENT
DTSTART;TZID=Europe/Helsinki:20220228T180000
DTEND;TZID=Europe/Helsinki:20220228T200000
DTSTAMP:20260424T204046
CREATED:20220104T132433Z
LAST-MODIFIED:20220104T132433Z
UID:6428-1646071200-1646078400@www.evankeliset.net
SUMMARY:Hamina\, Hyvässä seurassa ilta
DESCRIPTION:
URL:https://www.evankeliset.net/tapahtuma/hamina-hyvassa-seurassa-ilta-11/
END:VEVENT
BEGIN:VEVENT
DTSTART;TZID=Europe/Helsinki:20220301T180000
DTEND;TZID=Europe/Helsinki:20220301T190000
DTSTAMP:20260424T204046
CREATED:20220210T102630Z
LAST-MODIFIED:20220210T103350Z
UID:6538-1646157600-1646161200@www.evankeliset.net
SUMMARY:Hamina\, lähetysilta Johanneksen kirkossa
DESCRIPTION:
URL:https://www.evankeliset.net/tapahtuma/hamina-lahetysilta-johanneksen-kirkossa/
END:VEVENT
BEGIN:VEVENT
DTSTART;TZID=Europe/Helsinki:20220306T100000
DTEND;TZID=Europe/Helsinki:20220306T120000
DTSTAMP:20260424T204046
CREATED:20220303T074313Z
LAST-MODIFIED:20220303T074313Z
UID:6600-1646560800-1646568000@www.evankeliset.net
SUMMARY:Lemi\, ELYn kirkkopyhä
DESCRIPTION:
URL:https://www.evankeliset.net/tapahtuma/lemi-elyn-kirkkopyha/
END:VEVENT
BEGIN:VEVENT
DTSTART;TZID=Europe/Helsinki:20220306T100000
DTEND;TZID=Europe/Helsinki:20220306T140000
DTSTAMP:20260424T204046
CREATED:20220104T132653Z
LAST-MODIFIED:20220104T132653Z
UID:6430-1646560800-1646575200@www.evankeliset.net
SUMMARY:Pukkila\, Elyn kirkkopyhä
DESCRIPTION:
URL:https://www.evankeliset.net/tapahtuma/pukkila-elyn-kirkkopyha-2/
END:VEVENT
BEGIN:VEVENT
DTSTART;TZID=Europe/Helsinki:20220307T130000
DTEND;TZID=Europe/Helsinki:20220307T143000
DTSTAMP:20260424T204046
CREATED:20211111T114430Z
LAST-MODIFIED:20220210T165514Z
UID:6221-1646658000-1646663400@www.evankeliset.net
SUMMARY:Kurikka\, Siionin kannel seurat
DESCRIPTION:
URL:https://www.evankeliset.net/tapahtuma/kurikka-siionin-kannel-seurat-45/
END:VEVENT
BEGIN:VEVENT
DTSTART;TZID=Europe/Helsinki:20220307T180000
DTEND;TZID=Europe/Helsinki:20220307T193000
DTSTAMP:20260424T204046
CREATED:20220214T090915Z
LAST-MODIFIED:20220307T101148Z
UID:6556-1646676000-1646681400@www.evankeliset.net
SUMMARY:Lapua\, Siionin kannel seurat
DESCRIPTION:
URL:https://www.evankeliset.net/tapahtuma/lapua-siionin-kannel-seurat/
END:VEVENT
BEGIN:VEVENT
DTSTART;TZID=Europe/Helsinki:20220308T130000
DTEND;TZID=Europe/Helsinki:20220308T140000
DTSTAMP:20260424T204046
CREATED:20220303T074421Z
LAST-MODIFIED:20220303T074421Z
UID:6602-1646744400-1646748000@www.evankeliset.net
SUMMARY:Juva\, Raamattuluento
DESCRIPTION:
URL:https://www.evankeliset.net/tapahtuma/juva-raamattuluento-29/
END:VEVENT
BEGIN:VEVENT
DTSTART;TZID=Europe/Helsinki:20220309T120000
DTEND;TZID=Europe/Helsinki:20220309T140000
DTSTAMP:20260424T204046
CREATED:20220224T081607Z
LAST-MODIFIED:20220307T110500Z
UID:6593-1646827200-1646834400@www.evankeliset.net
SUMMARY:Kuortane\, Hyvässä seurassa
DESCRIPTION:
URL:https://www.evankeliset.net/tapahtuma/kuortane-hyvassa-seurassa-4/
END:VEVENT
BEGIN:VEVENT
DTSTART;TZID=Europe/Helsinki:20220309T133000
DTEND;TZID=Europe/Helsinki:20220309T150000
DTSTAMP:20260424T204046
CREATED:20211214T075210Z
LAST-MODIFIED:20211214T075210Z
UID:6353-1646832600-1646838000@www.evankeliset.net
SUMMARY:Kokkola\, Elyn päiväkahvitilaisuus
DESCRIPTION:
URL:https://www.evankeliset.net/tapahtuma/kokkola-elyn-paivakahvitilaisuus-8/
END:VEVENT
BEGIN:VEVENT
DTSTART;TZID=Europe/Helsinki:20220310T130000
DTEND;TZID=Europe/Helsinki:20220310T143000
DTSTAMP:20260424T204046
CREATED:20211111T103159Z
LAST-MODIFIED:20220221T123833Z
UID:6177-1646917200-1646922600@www.evankeliset.net
SUMMARY:Kauhajoki\, Siionin kannel seurat
DESCRIPTION:
URL:https://www.evankeliset.net/tapahtuma/kauhajoki-siionin-kannel-seurat-12/
END:VEVENT
BEGIN:VEVENT
DTSTART;TZID=Europe/Helsinki:20220310T180000
DTEND;TZID=Europe/Helsinki:20220310T193000
DTSTAMP:20260424T204046
CREATED:20220303T074628Z
LAST-MODIFIED:20220303T074628Z
UID:6604-1646935200-1646940600@www.evankeliset.net
SUMMARY:Sulkava\, Raamattuluento
DESCRIPTION:
URL:https://www.evankeliset.net/tapahtuma/sulkava-raamattuluento-38/
END:VEVENT
BEGIN:VEVENT
DTSTART;TZID=Europe/Helsinki:20220312T120000
DTEND;TZID=Europe/Helsinki:20220313T160000
DTSTAMP:20260424T204046
CREATED:20220303T074823Z
LAST-MODIFIED:20220303T074823Z
UID:6606-1647086400-1647187200@www.evankeliset.net
SUMMARY:Kiteen opisto\, Raamattupäivät
DESCRIPTION:
URL:https://www.evankeliset.net/tapahtuma/kiteen-opisto-raamattupaivat-2/
END:VEVENT
BEGIN:VEVENT
DTSTART;TZID=Europe/Helsinki:20220313T150000
DTEND;TZID=Europe/Helsinki:20220313T170000
DTSTAMP:20260424T204046
CREATED:20211111T110834Z
LAST-MODIFIED:20220214T091800Z
UID:6195-1647183600-1647190800@www.evankeliset.net
SUMMARY:Seinäjoki\, Vanhassa vara parempi-raamattuluentosarjan 3.osa
DESCRIPTION:
URL:https://www.evankeliset.net/tapahtuma/seinajoki-vanhassa-vara-parempi-raamattuluentosarjan-3-osa/
END:VEVENT
BEGIN:VEVENT
DTSTART;TZID=Europe/Helsinki:20220314T170000
DTEND;TZID=Europe/Helsinki:20220314T200000
DTSTAMP:20260424T204046
CREATED:20220210T104240Z
LAST-MODIFIED:20220210T104240Z
UID:6543-1647277200-1647288000@www.evankeliset.net
SUMMARY:Hamina\, kulttuurimatka maailmalle\, Viro
DESCRIPTION:
URL:https://www.evankeliset.net/tapahtuma/hamina-kulttuurimatka-maailmalle-viro/
END:VEVENT
BEGIN:VEVENT
DTSTART;TZID=Europe/Helsinki:20220315T133000
DTEND;TZID=Europe/Helsinki:20220315T153000
DTSTAMP:20260424T204046
CREATED:20211124T063959Z
LAST-MODIFIED:20211124T063959Z
UID:6305-1647351000-1647358200@www.evankeliset.net
SUMMARY:Forssa\, Siionin kannel -seurat
DESCRIPTION:
URL:https://www.evankeliset.net/tapahtuma/forssa-siionin-kannel-seurat-18/
END:VEVENT
BEGIN:VEVENT
DTSTART;TZID=Europe/Helsinki:20220315T180000
DTEND;TZID=Europe/Helsinki:20220315T193000
DTSTAMP:20260424T204046
CREATED:20220303T075050Z
LAST-MODIFIED:20220303T075050Z
UID:6608-1647367200-1647372600@www.evankeliset.net
SUMMARY:Savonlinna\, Raamattuluento
DESCRIPTION:
URL:https://www.evankeliset.net/tapahtuma/savonlinna-raamattuluento-25/
CATEGORIES:Tilaisuudet netissä
END:VEVENT
BEGIN:VEVENT
DTSTART;TZID=Europe/Helsinki:20220316T120000
DTEND;TZID=Europe/Helsinki:20220316T140000
DTSTAMP:20260424T204046
CREATED:20210820T100717Z
LAST-MODIFIED:20210820T100717Z
UID:5779-1647432000-1647439200@www.evankeliset.net
SUMMARY:Salo\, Pastanttipuuro
DESCRIPTION:
URL:https://www.evankeliset.net/tapahtuma/salo-pastanttipuuro-4/
END:VEVENT
END:VCALENDAR