BEGIN:VCALENDAR
VERSION:2.0
PRODID:-//Evankelinen lähetysyhdistys ELY ry - ECPv6.15.18//NONSGML v1.0//EN
CALSCALE:GREGORIAN
METHOD:PUBLISH
X-WR-CALNAME:Evankelinen lähetysyhdistys ELY ry
X-ORIGINAL-URL:https://www.evankeliset.net
X-WR-CALDESC:Tapahtumat Evankelinen lähetysyhdistys ELY ry
REFRESH-INTERVAL;VALUE=DURATION:PT1H
X-Robots-Tag:noindex
X-PUBLISHED-TTL:PT1H
BEGIN:VTIMEZONE
TZID:Europe/Helsinki
BEGIN:DAYLIGHT
TZOFFSETFROM:+0200
TZOFFSETTO:+0300
TZNAME:EEST
DTSTART:20210328T010000
END:DAYLIGHT
BEGIN:STANDARD
TZOFFSETFROM:+0300
TZOFFSETTO:+0200
TZNAME:EET
DTSTART:20211031T010000
END:STANDARD
BEGIN:DAYLIGHT
TZOFFSETFROM:+0200
TZOFFSETTO:+0300
TZNAME:EEST
DTSTART:20220327T010000
END:DAYLIGHT
BEGIN:STANDARD
TZOFFSETFROM:+0300
TZOFFSETTO:+0200
TZNAME:EET
DTSTART:20221030T010000
END:STANDARD
BEGIN:DAYLIGHT
TZOFFSETFROM:+0200
TZOFFSETTO:+0300
TZNAME:EEST
DTSTART:20230326T010000
END:DAYLIGHT
BEGIN:STANDARD
TZOFFSETFROM:+0300
TZOFFSETTO:+0200
TZNAME:EET
DTSTART:20231029T010000
END:STANDARD
END:VTIMEZONE
BEGIN:VEVENT
DTSTART;TZID=Europe/Helsinki:20220915T180000
DTEND;TZID=Europe/Helsinki:20220915T193000
DTSTAMP:20260425T040648
CREATED:20220908T042040Z
LAST-MODIFIED:20220915T111041Z
UID:7155-1663264800-1663270200@www.evankeliset.net
SUMMARY:Tampere\, Kahvia\, Kannelta ja Sanaa
DESCRIPTION:
URL:https://www.evankeliset.net/tapahtuma/tampere-kahvia-kannelta-ja-sanaa/
END:VEVENT
BEGIN:VEVENT
DTSTART;TZID=Europe/Helsinki:20220917T090000
DTEND;TZID=Europe/Helsinki:20220917T160000
DTSTAMP:20260425T040648
CREATED:20220720T064105Z
LAST-MODIFIED:20220720T064105Z
UID:7044-1663405200-1663430400@www.evankeliset.net
SUMMARY:Joutjärvi\, Lahti\, hiippakunnan lähetysseminaari
DESCRIPTION:
URL:https://www.evankeliset.net/tapahtuma/joutjarvi-lahti-hiippakunnan-lahetysseminaari/
END:VEVENT
BEGIN:VEVENT
DTSTART;TZID=Europe/Helsinki:20220918T100000
DTEND;TZID=Europe/Helsinki:20220918T120000
DTSTAMP:20260425T040648
CREATED:20220720T064818Z
LAST-MODIFIED:20220912T083536Z
UID:7046-1663495200-1663502400@www.evankeliset.net
SUMMARY:Taipalsaari\, Elyn kirkkopyhä
DESCRIPTION:
URL:https://www.evankeliset.net/tapahtuma/taipalsaari-elyn-kirkkopyha/
END:VEVENT
BEGIN:VEVENT
DTSTART;TZID=Europe/Helsinki:20220918T100000
DTEND;TZID=Europe/Helsinki:20220918T140000
DTSTAMP:20260425T040648
CREATED:20211111T113341Z
LAST-MODIFIED:20220907T063933Z
UID:6213-1663495200-1663509600@www.evankeliset.net
SUMMARY:Seinäjoki\, maakunnallinen kirkkopyhä
DESCRIPTION:
URL:https://www.evankeliset.net/tapahtuma/seinajoki-maakunnallinen-kirkkopyha/
END:VEVENT
BEGIN:VEVENT
DTSTART;TZID=Europe/Helsinki:20220919T140000
DTEND;TZID=Europe/Helsinki:20220919T160000
DTSTAMP:20260425T040648
CREATED:20220728T060138Z
LAST-MODIFIED:20220728T060138Z
UID:7063-1663596000-1663603200@www.evankeliset.net
SUMMARY:Kouvola\, Evankelinen lähetyspiiri
DESCRIPTION:
URL:https://www.evankeliset.net/tapahtuma/kouvola-evankelinen-lahetyspiiri-3/
END:VEVENT
BEGIN:VEVENT
DTSTART;TZID=Europe/Helsinki:20220919T180000
DTEND;TZID=Europe/Helsinki:20220919T200000
DTSTAMP:20260425T040648
CREATED:20220512T063900Z
LAST-MODIFIED:20220512T064021Z
UID:6897-1663610400-1663617600@www.evankeliset.net
SUMMARY:Kurikka\, lähetysilta
DESCRIPTION:
URL:https://www.evankeliset.net/tapahtuma/kurikka-lahetysilta/
END:VEVENT
BEGIN:VEVENT
DTSTART;TZID=Europe/Helsinki:20220920T133000
DTEND;TZID=Europe/Helsinki:20220920T153000
DTSTAMP:20260425T040648
CREATED:20220822T113024Z
LAST-MODIFIED:20220822T113024Z
UID:7113-1663680600-1663687800@www.evankeliset.net
SUMMARY:Forssa\, Siionin kannel -seurat
DESCRIPTION:
URL:https://www.evankeliset.net/tapahtuma/forssa-siionin-kannel-seurat-19/
END:VEVENT
BEGIN:VEVENT
DTSTART;TZID=Europe/Helsinki:20220922T180000
DTEND;TZID=Europe/Helsinki:20220922T200000
DTSTAMP:20260425T040648
CREATED:20220317T080000Z
LAST-MODIFIED:20220317T080000Z
UID:6641-1663869600-1663876800@www.evankeliset.net
SUMMARY:Ylihärmä\, Raamattuluento-Vanhassa vara parempi
DESCRIPTION:
URL:https://www.evankeliset.net/tapahtuma/yliharma-raamattuluento-vanhassa-vara-parempi-3/
END:VEVENT
BEGIN:VEVENT
DTSTART;TZID=Europe/Helsinki:20220922T190000
DTEND;TZID=Europe/Helsinki:20220922T203000
DTSTAMP:20260425T040648
CREATED:20220805T073716Z
LAST-MODIFIED:20220920T090729Z
UID:7082-1663873200-1663878600@www.evankeliset.net
SUMMARY:Alavus\, Siionin kannel seurat
DESCRIPTION:
URL:https://www.evankeliset.net/tapahtuma/alavus-siionin-kannel-seurat/
END:VEVENT
BEGIN:VEVENT
DTSTART;TZID=Europe/Helsinki:20220924T140000
DTEND;TZID=Europe/Helsinki:20220924T180000
DTSTAMP:20260425T040648
CREATED:20211116T130759Z
LAST-MODIFIED:20220920T090635Z
UID:6261-1664028000-1664042400@www.evankeliset.net
SUMMARY:Alahärmä\, Naistenpäivä
DESCRIPTION:
URL:https://www.evankeliset.net/tapahtuma/alaharma-naistenpaiva/
END:VEVENT
BEGIN:VEVENT
DTSTART;TZID=Europe/Helsinki:20220925T100000
DTEND;TZID=Europe/Helsinki:20220925T130000
DTSTAMP:20260425T040648
CREATED:20211111T103638Z
LAST-MODIFIED:20220608T062107Z
UID:6183-1664100000-1664110800@www.evankeliset.net
SUMMARY:Kauhajoki\, Kirkkopyhä
DESCRIPTION:
URL:https://www.evankeliset.net/tapahtuma/kauhajoki-kirkkopyha/
END:VEVENT
BEGIN:VEVENT
DTSTART;TZID=Europe/Helsinki:20220925T100000
DTEND;TZID=Europe/Helsinki:20220925T130000
DTSTAMP:20260425T040648
CREATED:20220511T064049Z
LAST-MODIFIED:20220920T090534Z
UID:6872-1664100000-1664110800@www.evankeliset.net
SUMMARY:Lappajärvi\, Elyn kirkkopyhä
DESCRIPTION:
URL:https://www.evankeliset.net/tapahtuma/lappajarvi-elyn-kirkkopyha-2/
END:VEVENT
BEGIN:VEVENT
DTSTART;TZID=Europe/Helsinki:20220926T140000
DTEND;TZID=Europe/Helsinki:20220926T160000
DTSTAMP:20260425T040648
CREATED:20220829T042920Z
LAST-MODIFIED:20220829T043600Z
UID:7131-1664200800-1664208000@www.evankeliset.net
SUMMARY:Salo\, Siikkari-seurat
DESCRIPTION:
URL:https://www.evankeliset.net/tapahtuma/salo-siikkari-seurat/
END:VEVENT
BEGIN:VEVENT
DTSTART;TZID=Europe/Helsinki:20220926T180000
DTEND;TZID=Europe/Helsinki:20220926T200000
DTSTAMP:20260425T040648
CREATED:20220912T085931Z
LAST-MODIFIED:20220912T085931Z
UID:7181-1664215200-1664222400@www.evankeliset.net
SUMMARY:Hamina\, Hyvässä seurassa ilta
DESCRIPTION:
URL:https://www.evankeliset.net/tapahtuma/hamina-hyvassa-seurassa-ilta-16/
END:VEVENT
BEGIN:VEVENT
DTSTART;VALUE=DATE:20220928
DTEND;VALUE=DATE:20221001
DTSTAMP:20260425T040648
CREATED:20220720T065132Z
LAST-MODIFIED:20220720T065132Z
UID:7048-1664323200-1664582399@www.evankeliset.net
SUMMARY:Viro\, Tartto ja Tallinna
DESCRIPTION:
URL:https://www.evankeliset.net/tapahtuma/viro-tartto-ja-tallinna/
END:VEVENT
BEGIN:VEVENT
DTSTART;TZID=Europe/Helsinki:20220928T180000
DTEND;TZID=Europe/Helsinki:20220928T193000
DTSTAMP:20260425T040648
CREATED:20220908T042307Z
LAST-MODIFIED:20220908T042307Z
UID:7157-1664388000-1664393400@www.evankeliset.net
SUMMARY:Jokioinen\, Lyhtyilta
DESCRIPTION:
URL:https://www.evankeliset.net/tapahtuma/jokioinen-lyhtyilta/
END:VEVENT
BEGIN:VEVENT
DTSTART;TZID=Europe/Helsinki:20220928T180000
DTEND;TZID=Europe/Helsinki:20220928T200000
DTSTAMP:20260425T040648
CREATED:20220822T081551Z
LAST-MODIFIED:20220822T081551Z
UID:7105-1664388000-1664395200@www.evankeliset.net
SUMMARY:Peräseinäjoki\, Siionin kannel seurat
DESCRIPTION:
URL:https://www.evankeliset.net/tapahtuma/peraseinajoki-siionin-kannel-seurat-3/
END:VEVENT
BEGIN:VEVENT
DTSTART;TZID=Europe/Helsinki:20220929T183000
DTEND;TZID=Europe/Helsinki:20220929T200000
DTSTAMP:20260425T040648
CREATED:20220805T083032Z
LAST-MODIFIED:20220805T083032Z
UID:7086-1664476200-1664481600@www.evankeliset.net
SUMMARY:Alahärmä\, ELYn ja HYn yhteiset seurat
DESCRIPTION:
URL:https://www.evankeliset.net/tapahtuma/alaharma-elyn-ja-hyn-yhteiset-seurat/
END:VEVENT
BEGIN:VEVENT
DTSTART;TZID=Europe/Helsinki:20221002T100000
DTEND;TZID=Europe/Helsinki:20221002T130000
DTSTAMP:20260425T040648
CREATED:20211111T112711Z
LAST-MODIFIED:20220929T090734Z
UID:6209-1664704800-1664715600@www.evankeliset.net
SUMMARY:Jalasjärvi\, Perhekirkko\, aarrearkkutapahtuma
DESCRIPTION:
URL:https://www.evankeliset.net/tapahtuma/jalasjarvi-perhekirkko-aarrearkkutapahtuma-2/
END:VEVENT
BEGIN:VEVENT
DTSTART;TZID=Europe/Helsinki:20221003T140000
DTEND;TZID=Europe/Helsinki:20221003T160000
DTSTAMP:20260425T040648
CREATED:20220728T060248Z
LAST-MODIFIED:20220728T060248Z
UID:7065-1664805600-1664812800@www.evankeliset.net
SUMMARY:Kouvola\, Evankelinen lähetyspiiri
DESCRIPTION:
URL:https://www.evankeliset.net/tapahtuma/kouvola-evankelinen-lahetyspiiri-4/
END:VEVENT
BEGIN:VEVENT
DTSTART;TZID=Europe/Helsinki:20221003T143000
DTEND;TZID=Europe/Helsinki:20221003T180000
DTSTAMP:20260425T040648
CREATED:20220512T064458Z
LAST-MODIFIED:20220531T105029Z
UID:6899-1664807400-1664820000@www.evankeliset.net
SUMMARY:Kurikka\, syysmyyjäiset
DESCRIPTION:
URL:https://www.evankeliset.net/tapahtuma/kurikka-syysmyyjaiset-2/
END:VEVENT
BEGIN:VEVENT
DTSTART;TZID=Europe/Helsinki:20221005T080000
DTEND;TZID=Europe/Helsinki:20221005T170000
DTSTAMP:20260425T040648
CREATED:20220720T065517Z
LAST-MODIFIED:20220720T065517Z
UID:7050-1664956800-1664989200@www.evankeliset.net
SUMMARY:Hamina\, Inkeri-ilta
DESCRIPTION:
URL:https://www.evankeliset.net/tapahtuma/hamina-inkeri-ilta-2/
END:VEVENT
BEGIN:VEVENT
DTSTART;TZID=Europe/Helsinki:20221005T090000
DTEND;TZID=Europe/Helsinki:20221005T210000
DTSTAMP:20260425T040648
CREATED:20220916T080408Z
LAST-MODIFIED:20220916T080408Z
UID:7212-1664960400-1665003600@www.evankeliset.net
SUMMARY:Retki Vaasan seudulle
DESCRIPTION:
URL:https://www.evankeliset.net/tapahtuma/retki-vaasan-seudulle/
END:VEVENT
BEGIN:VEVENT
DTSTART;TZID=Europe/Helsinki:20221005T100000
DTEND;TZID=Europe/Helsinki:20221005T140000
DTSTAMP:20260425T040648
CREATED:20220831T051508Z
LAST-MODIFIED:20220831T051508Z
UID:7146-1664964000-1664978400@www.evankeliset.net
SUMMARY:Kokkola\, Lähetyssoppi
DESCRIPTION:
URL:https://www.evankeliset.net/tapahtuma/kokkola-lahetyssoppi-39/
END:VEVENT
BEGIN:VEVENT
DTSTART;TZID=Europe/Helsinki:20221005T180000
DTEND;TZID=Europe/Helsinki:20221005T200000
DTSTAMP:20260425T040648
CREATED:20220916T080716Z
LAST-MODIFIED:20220916T080716Z
UID:7214-1664992800-1665000000@www.evankeliset.net
SUMMARY:Laihia\, Siionin kanteleen lauluseurat
DESCRIPTION:
URL:https://www.evankeliset.net/tapahtuma/laihia-siionin-kanteleen-lauluseurat/
END:VEVENT
BEGIN:VEVENT
DTSTART;TZID=Europe/Helsinki:20221006T180000
DTEND;TZID=Europe/Helsinki:20221006T200000
DTSTAMP:20260425T040648
CREATED:20220523T101122Z
LAST-MODIFIED:20220523T101122Z
UID:6964-1665079200-1665086400@www.evankeliset.net
SUMMARY:Kauhava\, Jumala on -seurakuntailta
DESCRIPTION:
URL:https://www.evankeliset.net/tapahtuma/kauhava-jumala-on-seurakuntailta/
END:VEVENT
BEGIN:VEVENT
DTSTART;TZID=Europe/Helsinki:20221007T180000
DTEND;TZID=Europe/Helsinki:20221007T200000
DTSTAMP:20260425T040648
CREATED:20220531T105530Z
LAST-MODIFIED:20220916T080115Z
UID:6993-1665165600-1665172800@www.evankeliset.net
SUMMARY:Kortesjärvi\, Siionin kanteleen lauluilta
DESCRIPTION:
URL:https://www.evankeliset.net/tapahtuma/kortesjarvi-siionin-kanteleen-lauluilta/
END:VEVENT
BEGIN:VEVENT
DTSTART;TZID=Europe/Helsinki:20221009T100000
DTEND;TZID=Europe/Helsinki:20221009T120000
DTSTAMP:20260425T040648
CREATED:20220317T083451Z
LAST-MODIFIED:20220317T083451Z
UID:6650-1665309600-1665316800@www.evankeliset.net
SUMMARY:Ähtäri\, Elyn kirkkopyhä
DESCRIPTION:
URL:https://www.evankeliset.net/tapahtuma/ahtari-elyn-kirkkopyha-6/
END:VEVENT
BEGIN:VEVENT
DTSTART;TZID=Europe/Helsinki:20221009T100000
DTEND;TZID=Europe/Helsinki:20221009T130000
DTSTAMP:20260425T040648
CREATED:20211116T130938Z
LAST-MODIFIED:20220512T081025Z
UID:6263-1665309600-1665320400@www.evankeliset.net
SUMMARY:Alahärmä\, Elyn kirkkopyhä
DESCRIPTION:
URL:https://www.evankeliset.net/tapahtuma/alaharma-elyn-kirkkopyha-2/
END:VEVENT
BEGIN:VEVENT
DTSTART;TZID=Europe/Helsinki:20221009T130000
DTEND;TZID=Europe/Helsinki:20221009T150000
DTSTAMP:20260425T040648
CREATED:20220607T073814Z
LAST-MODIFIED:20220607T073814Z
UID:7006-1665320400-1665327600@www.evankeliset.net
SUMMARY:Kannus\, Jumala on -tilaisuus
DESCRIPTION:
URL:https://www.evankeliset.net/tapahtuma/kannus-jumala-on-tilaisuus/
END:VEVENT
END:VCALENDAR