BEGIN:VCALENDAR
VERSION:2.0
PRODID:-//Evankelinen lähetysyhdistys ELY ry - ECPv6.15.18//NONSGML v1.0//EN
CALSCALE:GREGORIAN
METHOD:PUBLISH
X-WR-CALNAME:Evankelinen lähetysyhdistys ELY ry
X-ORIGINAL-URL:https://www.evankeliset.net
X-WR-CALDESC:Tapahtumat Evankelinen lähetysyhdistys ELY ry
REFRESH-INTERVAL;VALUE=DURATION:PT1H
X-Robots-Tag:noindex
X-PUBLISHED-TTL:PT1H
BEGIN:VTIMEZONE
TZID:Europe/Helsinki
BEGIN:DAYLIGHT
TZOFFSETFROM:+0200
TZOFFSETTO:+0300
TZNAME:EEST
DTSTART:20210328T010000
END:DAYLIGHT
BEGIN:STANDARD
TZOFFSETFROM:+0300
TZOFFSETTO:+0200
TZNAME:EET
DTSTART:20211031T010000
END:STANDARD
BEGIN:DAYLIGHT
TZOFFSETFROM:+0200
TZOFFSETTO:+0300
TZNAME:EEST
DTSTART:20220327T010000
END:DAYLIGHT
BEGIN:STANDARD
TZOFFSETFROM:+0300
TZOFFSETTO:+0200
TZNAME:EET
DTSTART:20221030T010000
END:STANDARD
BEGIN:DAYLIGHT
TZOFFSETFROM:+0200
TZOFFSETTO:+0300
TZNAME:EEST
DTSTART:20230326T010000
END:DAYLIGHT
BEGIN:STANDARD
TZOFFSETFROM:+0300
TZOFFSETTO:+0200
TZNAME:EET
DTSTART:20231029T010000
END:STANDARD
BEGIN:DAYLIGHT
TZOFFSETFROM:+0200
TZOFFSETTO:+0300
TZNAME:EEST
DTSTART:20240331T010000
END:DAYLIGHT
BEGIN:STANDARD
TZOFFSETFROM:+0300
TZOFFSETTO:+0200
TZNAME:EET
DTSTART:20241027T010000
END:STANDARD
END:VTIMEZONE
BEGIN:VEVENT
DTSTART;TZID=Europe/Helsinki:20221110T110000
DTEND;TZID=Europe/Helsinki:20221110T140000
DTSTAMP:20260425T004212
CREATED:20220929T092553Z
LAST-MODIFIED:20220929T092553Z
UID:7239-1668078000-1668088800@www.evankeliset.net
SUMMARY:Keuruu\, Lähimmäisentupa
DESCRIPTION:
URL:https://www.evankeliset.net/tapahtuma/keuruu-lahimmaisentupa/
END:VEVENT
BEGIN:VEVENT
DTSTART;TZID=Europe/Helsinki:20221110T140000
DTEND;TZID=Europe/Helsinki:20221110T160000
DTSTAMP:20260425T004212
CREATED:20220509T092228Z
LAST-MODIFIED:20220509T092228Z
UID:6862-1668088800-1668096000@www.evankeliset.net
SUMMARY:Kauhajoki\, Siionin kannel seurat
DESCRIPTION:
URL:https://www.evankeliset.net/tapahtuma/kauhajoki-siionin-kannel-seurat-17/
END:VEVENT
BEGIN:VEVENT
DTSTART;TZID=Europe/Helsinki:20221113T100000
DTEND;TZID=Europe/Helsinki:20221113T130000
DTSTAMP:20260425T004212
CREATED:20220822T112528Z
LAST-MODIFIED:20221107T062030Z
UID:7111-1668333600-1668344400@www.evankeliset.net
SUMMARY:Riihimäki\, Elyn kirkkopyhä
DESCRIPTION:
URL:https://www.evankeliset.net/tapahtuma/riihimaki-elyn-kirkkopyha-5/
END:VEVENT
BEGIN:VEVENT
DTSTART;TZID=Europe/Helsinki:20221114T130000
DTEND;TZID=Europe/Helsinki:20221114T150000
DTSTAMP:20260425T004212
CREATED:20220512T065015Z
LAST-MODIFIED:20220512T065015Z
UID:6905-1668430800-1668438000@www.evankeliset.net
SUMMARY:Kurikka\, Siionin kannel seurat
DESCRIPTION:
URL:https://www.evankeliset.net/tapahtuma/kurikka-siionin-kannel-seurat-53/
END:VEVENT
BEGIN:VEVENT
DTSTART;TZID=Europe/Helsinki:20221115T133000
DTEND;TZID=Europe/Helsinki:20221115T150000
DTSTAMP:20260425T004212
CREATED:20220822T113738Z
LAST-MODIFIED:20220908T043205Z
UID:7117-1668519000-1668524400@www.evankeliset.net
SUMMARY:Forssa\, Siionin kannel -seurat
DESCRIPTION:
URL:https://www.evankeliset.net/tapahtuma/forssa-siionin-kannel-seurat-21/
END:VEVENT
BEGIN:VEVENT
DTSTART;TZID=Europe/Helsinki:20221117T071500
DTEND;TZID=Europe/Helsinki:20221117T180000
DTSTAMP:20260425T004212
CREATED:20221115T093009Z
LAST-MODIFIED:20221115T093009Z
UID:7339-1668669300-1668708000@www.evankeliset.net
SUMMARY:Retki Kokkolaan
DESCRIPTION:
URL:https://www.evankeliset.net/tapahtuma/retki-kokkolaan/
END:VEVENT
BEGIN:VEVENT
DTSTART;TZID=Europe/Helsinki:20221117T100000
DTEND;TZID=Europe/Helsinki:20221117T140000
DTSTAMP:20260425T004212
CREATED:20221010T123403Z
LAST-MODIFIED:20221010T123403Z
UID:7254-1668679200-1668693600@www.evankeliset.net
SUMMARY:Kokkola\, lähetyssoppi
DESCRIPTION:
URL:https://www.evankeliset.net/tapahtuma/kokkola-lahetyssoppi-41/
END:VEVENT
BEGIN:VEVENT
DTSTART;TZID=Europe/Helsinki:20221117T173000
DTEND;TZID=Europe/Helsinki:20221117T193000
DTSTAMP:20260425T004212
CREATED:20220908T043624Z
LAST-MODIFIED:20221024T072313Z
UID:7166-1668706200-1668713400@www.evankeliset.net
SUMMARY:Tampere\, Kahvia\, Sanaa ja Siionin Kannelta
DESCRIPTION:
URL:https://www.evankeliset.net/tapahtuma/tampere-kahvia-sanaa-ja-siionin-kannelta/
END:VEVENT
BEGIN:VEVENT
DTSTART;TZID=Europe/Helsinki:20221119T113000
DTEND;TZID=Europe/Helsinki:20221120T143000
DTSTAMP:20260425T004212
CREATED:20221118T165103Z
LAST-MODIFIED:20221118T165103Z
UID:7358-1668857400-1668954600@www.evankeliset.net
SUMMARY:Kitee\, hengellinen viikonloppu
DESCRIPTION:
URL:https://www.evankeliset.net/tapahtuma/kitee-hengellinen-viikonloppu-2/
END:VEVENT
BEGIN:VEVENT
DTSTART;TZID=Europe/Helsinki:20221120T140000
DTEND;TZID=Europe/Helsinki:20221120T170000
DTSTAMP:20260425T004212
CREATED:20220331T145550Z
LAST-MODIFIED:20221115T093742Z
UID:6726-1668952800-1668963600@www.evankeliset.net
SUMMARY:Seinäjoki\, Jumala on
DESCRIPTION:
URL:https://www.evankeliset.net/tapahtuma/seinajoki-seurat/
END:VEVENT
BEGIN:VEVENT
DTSTART;TZID=Europe/Helsinki:20221121T140000
DTEND;TZID=Europe/Helsinki:20221121T160000
DTSTAMP:20260425T004212
CREATED:20220829T043403Z
LAST-MODIFIED:20220829T043444Z
UID:7138-1669039200-1669046400@www.evankeliset.net
SUMMARY:Salo\, Siikkari-seurat
DESCRIPTION:
URL:https://www.evankeliset.net/tapahtuma/salo-siikkari-seurat-3/
END:VEVENT
BEGIN:VEVENT
DTSTART;TZID=Europe/Helsinki:20221123T180000
DTEND;TZID=Europe/Helsinki:20221123T200000
DTSTAMP:20260425T004212
CREATED:20220517T173523Z
LAST-MODIFIED:20220517T173523Z
UID:6941-1669226400-1669233600@www.evankeliset.net
SUMMARY:Ilmajoki\, Raamattuluento
DESCRIPTION:
URL:https://www.evankeliset.net/tapahtuma/ilmajoki-raamattuluento-6/
END:VEVENT
BEGIN:VEVENT
DTSTART;TZID=Europe/Helsinki:20221124T130000
DTEND;TZID=Europe/Helsinki:20221124T150000
DTSTAMP:20260425T004212
CREATED:20220530T081953Z
LAST-MODIFIED:20220929T093649Z
UID:6978-1669294800-1669302000@www.evankeliset.net
SUMMARY:Alavus\, Hyvässä seurassa
DESCRIPTION:
URL:https://www.evankeliset.net/tapahtuma/alavus-hyvassa-seurassa-21/
END:VEVENT
BEGIN:VEVENT
DTSTART;TZID=Europe/Helsinki:20221127T113000
DTEND;TZID=Europe/Helsinki:20221127T123000
DTSTAMP:20260425T004212
CREATED:20221110T083003Z
LAST-MODIFIED:20221110T083003Z
UID:7332-1669548600-1669552200@www.evankeliset.net
SUMMARY:Tampere\, Joulumyyjäiset
DESCRIPTION:
URL:https://www.evankeliset.net/tapahtuma/tampere-joulumyyjaiset/
END:VEVENT
BEGIN:VEVENT
DTSTART;TZID=Europe/Helsinki:20221128T130000
DTEND;TZID=Europe/Helsinki:20221128T150000
DTSTAMP:20260425T004212
CREATED:20220512T065204Z
LAST-MODIFIED:20220512T065204Z
UID:6907-1669640400-1669647600@www.evankeliset.net
SUMMARY:Kurikka\, Siionin kannel seurat
DESCRIPTION:
URL:https://www.evankeliset.net/tapahtuma/kurikka-siionin-kannel-seurat-54/
END:VEVENT
BEGIN:VEVENT
DTSTART;TZID=Europe/Helsinki:20221128T180000
DTEND;TZID=Europe/Helsinki:20221128T200000
DTSTAMP:20260425T004212
CREATED:20220912T063913Z
LAST-MODIFIED:20220912T063913Z
UID:7178-1669658400-1669665600@www.evankeliset.net
SUMMARY:Hamina\, Hyvässä seurassa ilta
DESCRIPTION:
URL:https://www.evankeliset.net/tapahtuma/hamina-hyvassa-seurassa-ilta-15/
END:VEVENT
BEGIN:VEVENT
DTSTART;TZID=Europe/Helsinki:20221204T100000
DTEND;TZID=Europe/Helsinki:20221204T130000
DTSTAMP:20260425T004212
CREATED:20220822T114043Z
LAST-MODIFIED:20220822T114043Z
UID:7119-1670148000-1670158800@www.evankeliset.net
SUMMARY:Forssa\, Elyn kirkkopyhä
DESCRIPTION:
URL:https://www.evankeliset.net/tapahtuma/forssa-elyn-kirkkopyha-5/
END:VEVENT
BEGIN:VEVENT
DTSTART;TZID=Europe/Helsinki:20221204T100000
DTEND;TZID=Europe/Helsinki:20221204T140000
DTSTAMP:20260425T004212
CREATED:20220805T105047Z
LAST-MODIFIED:20220805T105047Z
UID:7091-1670148000-1670162400@www.evankeliset.net
SUMMARY:Himanka\, Elyn kirkkopyhä ja joulujuhla
DESCRIPTION:
URL:https://www.evankeliset.net/tapahtuma/himanka-elyn-kirkkopyha-ja-joulujuhla/
END:VEVENT
BEGIN:VEVENT
DTSTART;TZID=Europe/Helsinki:20221204T100000
DTEND;TZID=Europe/Helsinki:20221204T150000
DTSTAMP:20260425T004212
CREATED:20220608T063428Z
LAST-MODIFIED:20221123T083339Z
UID:7012-1670148000-1670166000@www.evankeliset.net
SUMMARY:Lapua\, kirkkopyhä ja Kanteleen laulut
DESCRIPTION:
URL:https://www.evankeliset.net/tapahtuma/lapua-kirkkopyha-ja-kanteleen-laulut/
END:VEVENT
BEGIN:VEVENT
DTSTART;TZID=Europe/Helsinki:20221207T173000
DTEND;TZID=Europe/Helsinki:20221207T193000
DTSTAMP:20260425T004212
CREATED:20220909T094059Z
LAST-MODIFIED:20221129T084232Z
UID:7173-1670434200-1670441400@www.evankeliset.net
SUMMARY:Tampere\, Joulujuhla
DESCRIPTION:
URL:https://www.evankeliset.net/tapahtuma/tampere-joulujuhla/
END:VEVENT
BEGIN:VEVENT
DTSTART;TZID=Europe/Helsinki:20221211T113000
DTEND;TZID=Europe/Helsinki:20221211T170000
DTSTAMP:20260425T004212
CREATED:20220512T121918Z
LAST-MODIFIED:20221128T102331Z
UID:6890-1670758200-1670778000@www.evankeliset.net
SUMMARY:Nurmo\, Elyn syyskokous ja Kanteleen joululauluseurat
DESCRIPTION:
URL:https://www.evankeliset.net/tapahtuma/seinajoki-elyn-vuosikokous-ja-kanteleen-joululauluseurat/
END:VEVENT
BEGIN:VEVENT
DTSTART;TZID=Europe/Helsinki:20221212T130000
DTEND;TZID=Europe/Helsinki:20221212T150000
DTSTAMP:20260425T004212
CREATED:20220512T065342Z
LAST-MODIFIED:20220512T065342Z
UID:6909-1670850000-1670857200@www.evankeliset.net
SUMMARY:Kurikka\, Joululauluseurat
DESCRIPTION:
URL:https://www.evankeliset.net/tapahtuma/kurikka-joululauluseurat-2/
END:VEVENT
BEGIN:VEVENT
DTSTART;TZID=Europe/Helsinki:20221212T140000
DTEND;TZID=Europe/Helsinki:20221212T163000
DTSTAMP:20260425T004212
CREATED:20221118T171017Z
LAST-MODIFIED:20221118T171017Z
UID:7362-1670853600-1670862600@www.evankeliset.net
SUMMARY:Kouvola\, evankelinen lähetyspiiri\, Toini Laasasen muistoseurat
DESCRIPTION:
URL:https://www.evankeliset.net/tapahtuma/kouvola-evankelinen-lahetyspiiri-toini-laasasen-muistoseurat/
END:VEVENT
BEGIN:VEVENT
DTSTART;TZID=Europe/Helsinki:20221214T180000
DTEND;TZID=Europe/Helsinki:20221214T193000
DTSTAMP:20260425T004212
CREATED:20221005T053643Z
LAST-MODIFIED:20221005T053643Z
UID:7247-1671040800-1671046200@www.evankeliset.net
SUMMARY:Jokioinen\, Pappilan joululauluseurat
DESCRIPTION:
URL:https://www.evankeliset.net/tapahtuma/jokioinen-pappilan-joululauluseurat/
END:VEVENT
BEGIN:VEVENT
DTSTART;TZID=Europe/Helsinki:20221215T183000
DTEND;TZID=Europe/Helsinki:20221215T200000
DTSTAMP:20260425T004212
CREATED:20221118T165725Z
LAST-MODIFIED:20221118T170353Z
UID:7360-1671129000-1671134400@www.evankeliset.net
SUMMARY:Espoon\, Auroran kappeli\, teologinen opintopiiri\, KV Tamminen saarnaajana
DESCRIPTION:
URL:https://www.evankeliset.net/tapahtuma/espoon-auroran-kappeli-teologinen-opintopiiri-kv-tamminen-saarnaajana/
END:VEVENT
BEGIN:VEVENT
DTSTART;TZID=Europe/Helsinki:20230101T100000
DTEND;TZID=Europe/Helsinki:20230101T130000
DTSTAMP:20260425T004212
CREATED:20221118T171502Z
LAST-MODIFIED:20221118T171502Z
UID:7364-1672567200-1672578000@www.evankeliset.net
SUMMARY:Iitti\, Kausala\, Elyn kirkkopyhä
DESCRIPTION:
URL:https://www.evankeliset.net/tapahtuma/iitti-kausala-elyn-kirkkopyha-3/
END:VEVENT
BEGIN:VEVENT
DTSTART;TZID=Europe/Helsinki:20230104T180000
DTEND;TZID=Europe/Helsinki:20230104T193000
DTSTAMP:20260425T004212
CREATED:20221005T053839Z
LAST-MODIFIED:20221109T123303Z
UID:7249-1672855200-1672860600@www.evankeliset.net
SUMMARY:Helsinki\, Puistola\, Yhteinen laulutilaisuus
DESCRIPTION:
URL:https://www.evankeliset.net/tapahtuma/helsinki-puistola-yhteinen-laulutilaisuus/
END:VEVENT
BEGIN:VEVENT
DTSTART;TZID=Europe/Helsinki:20230106T100000
DTEND;TZID=Europe/Helsinki:20230106T130000
DTSTAMP:20260425T004212
CREATED:20230102T070723Z
LAST-MODIFIED:20230102T070723Z
UID:7515-1672999200-1673010000@www.evankeliset.net
SUMMARY:Elimäki\, Elyn kirkkopyhä
DESCRIPTION:
URL:https://www.evankeliset.net/tapahtuma/elimaki-elyn-kirkkopyha-2/
END:VEVENT
BEGIN:VEVENT
DTSTART;TZID=Europe/Helsinki:20230106T110000
DTEND;TZID=Europe/Helsinki:20230106T130000
DTSTAMP:20260425T004212
CREATED:20221122T085927Z
LAST-MODIFIED:20221216T102551Z
UID:7367-1673002800-1673010000@www.evankeliset.net
SUMMARY:Laihia\, Lähetysjuhla
DESCRIPTION:
URL:https://www.evankeliset.net/tapahtuma/laihia-lahetysjuhla/
END:VEVENT
BEGIN:VEVENT
DTSTART;TZID=Europe/Helsinki:20230108T130000
DTEND;TZID=Europe/Helsinki:20230108T150000
DTSTAMP:20260425T004212
CREATED:20221228T115110Z
LAST-MODIFIED:20221228T115110Z
UID:7512-1673182800-1673190000@www.evankeliset.net
SUMMARY:Lapua\, lähetysseurat
DESCRIPTION:
URL:https://www.evankeliset.net/tapahtuma/lapua-lahetysseurat-3/
END:VEVENT
END:VCALENDAR