BEGIN:VCALENDAR
VERSION:2.0
PRODID:-//Evankelinen lähetysyhdistys ELY ry - ECPv6.15.18//NONSGML v1.0//EN
CALSCALE:GREGORIAN
METHOD:PUBLISH
X-WR-CALNAME:Evankelinen lähetysyhdistys ELY ry
X-ORIGINAL-URL:https://www.evankeliset.net
X-WR-CALDESC:Tapahtumat Evankelinen lähetysyhdistys ELY ry
REFRESH-INTERVAL;VALUE=DURATION:PT1H
X-Robots-Tag:noindex
X-PUBLISHED-TTL:PT1H
BEGIN:VTIMEZONE
TZID:Europe/Helsinki
BEGIN:DAYLIGHT
TZOFFSETFROM:+0200
TZOFFSETTO:+0300
TZNAME:EEST
DTSTART:20220327T010000
END:DAYLIGHT
BEGIN:STANDARD
TZOFFSETFROM:+0300
TZOFFSETTO:+0200
TZNAME:EET
DTSTART:20221030T010000
END:STANDARD
BEGIN:DAYLIGHT
TZOFFSETFROM:+0200
TZOFFSETTO:+0300
TZNAME:EEST
DTSTART:20230326T010000
END:DAYLIGHT
BEGIN:STANDARD
TZOFFSETFROM:+0300
TZOFFSETTO:+0200
TZNAME:EET
DTSTART:20231029T010000
END:STANDARD
BEGIN:DAYLIGHT
TZOFFSETFROM:+0200
TZOFFSETTO:+0300
TZNAME:EEST
DTSTART:20240331T010000
END:DAYLIGHT
BEGIN:STANDARD
TZOFFSETFROM:+0300
TZOFFSETTO:+0200
TZNAME:EET
DTSTART:20241027T010000
END:STANDARD
END:VTIMEZONE
BEGIN:VEVENT
DTSTART;TZID=Europe/Helsinki:20230319T100000
DTEND;TZID=Europe/Helsinki:20230319T120000
DTSTAMP:20260424T185504
CREATED:20230113T082048Z
LAST-MODIFIED:20230113T082048Z
UID:7622-1679220000-1679227200@www.evankeliset.net
SUMMARY:Kuortane\, kirkkopyhä
DESCRIPTION:
URL:https://www.evankeliset.net/tapahtuma/kuortane-kirkkopyha/
END:VEVENT
BEGIN:VEVENT
DTSTART;TZID=Europe/Helsinki:20230319T100000
DTEND;TZID=Europe/Helsinki:20230319T140000
DTSTAMP:20260424T185504
CREATED:20221116T110145Z
LAST-MODIFIED:20230206T095858Z
UID:7342-1679220000-1679234400@www.evankeliset.net
SUMMARY:Hämeenlinna\, Elyn kirkkopyhä
DESCRIPTION:
URL:https://www.evankeliset.net/tapahtuma/hameenlinna-elyn-kirkkopyha-6/
END:VEVENT
BEGIN:VEVENT
DTSTART;TZID=Europe/Helsinki:20230319T120000
DTEND;TZID=Europe/Helsinki:20230319T143000
DTSTAMP:20260424T185504
CREATED:20230217T125435Z
LAST-MODIFIED:20230217T125435Z
UID:7761-1679227200-1679236200@www.evankeliset.net
SUMMARY:Vihti\, Elyn kirkkopyhä
DESCRIPTION:
URL:https://www.evankeliset.net/tapahtuma/vihti-elyn-kirkkopyha/
END:VEVENT
BEGIN:VEVENT
DTSTART;TZID=Europe/Helsinki:20230319T130000
DTEND;TZID=Europe/Helsinki:20230319T150000
DTSTAMP:20260424T185504
CREATED:20230114T091040Z
LAST-MODIFIED:20230309T080033Z
UID:7628-1679230800-1679238000@www.evankeliset.net
SUMMARY:Alahärmä\, Messu ja seurat
DESCRIPTION:
URL:https://www.evankeliset.net/tapahtuma/alaharma-messu-ja-seurat/
END:VEVENT
BEGIN:VEVENT
DTSTART;TZID=Europe/Helsinki:20230319T140000
DTEND;TZID=Europe/Helsinki:20230319T160000
DTSTAMP:20260424T185504
CREATED:20230114T111856Z
LAST-MODIFIED:20230309T081059Z
UID:7644-1679234400-1679241600@www.evankeliset.net
SUMMARY:Seinäjoki\, SK-seurat
DESCRIPTION:
URL:https://www.evankeliset.net/tapahtuma/seinajoki-sk-seurat/
END:VEVENT
BEGIN:VEVENT
DTSTART;TZID=Europe/Helsinki:20230319T160000
DTEND;TZID=Europe/Helsinki:20230319T180000
DTSTAMP:20260424T185504
CREATED:20230126T064741Z
LAST-MODIFIED:20230209T064905Z
UID:7716-1679241600-1679248800@www.evankeliset.net
SUMMARY:Kokkola\, Siionin kannel seurat
DESCRIPTION:
URL:https://www.evankeliset.net/tapahtuma/kokkola-siionin-kannel-seurat-2/
END:VEVENT
BEGIN:VEVENT
DTSTART;TZID=Europe/Helsinki:20230320T130000
DTEND;TZID=Europe/Helsinki:20230320T143000
DTSTAMP:20260424T185504
CREATED:20221122T094340Z
LAST-MODIFIED:20230312T150427Z
UID:7396-1679317200-1679322600@www.evankeliset.net
SUMMARY:Kurikka\, Siionin kannel -seurat
DESCRIPTION:
URL:https://www.evankeliset.net/tapahtuma/kurikka-siionin-kannel-seurat-59/
END:VEVENT
BEGIN:VEVENT
DTSTART;TZID=Europe/Helsinki:20230320T140000
DTEND;TZID=Europe/Helsinki:20230320T153000
DTSTAMP:20260424T185504
CREATED:20230103T125934Z
LAST-MODIFIED:20230103T125934Z
UID:7536-1679320800-1679326200@www.evankeliset.net
SUMMARY:Kouvola\, Lauluseurat
DESCRIPTION:
URL:https://www.evankeliset.net/tapahtuma/kouvola-lauluseurat/
END:VEVENT
BEGIN:VEVENT
DTSTART;TZID=Europe/Helsinki:20230321T133000
DTEND;TZID=Europe/Helsinki:20230321T150000
DTSTAMP:20260424T185504
CREATED:20221216T162812Z
LAST-MODIFIED:20221216T162812Z
UID:7501-1679405400-1679410800@www.evankeliset.net
SUMMARY:Forssa\, Siionin kannel -seurat
DESCRIPTION:
URL:https://www.evankeliset.net/tapahtuma/forssa-siionin-kannel-seurat-23/
END:VEVENT
BEGIN:VEVENT
DTSTART;TZID=Europe/Helsinki:20230323T150000
DTEND;TZID=Europe/Helsinki:20230323T163000
DTSTAMP:20260424T185504
CREATED:20230127T064311Z
LAST-MODIFIED:20230306T141937Z
UID:7725-1679583600-1679589000@www.evankeliset.net
SUMMARY:Hyvinkää\, Ikkunoita lähetyksen maailmaan
DESCRIPTION:
URL:https://www.evankeliset.net/tapahtuma/hyvinkaa-ikkunoita-lahetyksen-maailmaan/
END:VEVENT
BEGIN:VEVENT
DTSTART;VALUE=DATE:20230325
DTEND;VALUE=DATE:20230327
DTSTAMP:20260424T185504
CREATED:20230131T075832Z
LAST-MODIFIED:20230131T080718Z
UID:7737-1679702400-1679875199@www.evankeliset.net
SUMMARY:Tampere\, Elyn 15v-juhla\, kevätkokous ja seminaari
DESCRIPTION:
URL:https://www.evankeliset.net/tapahtuma/tampere-elyn-15v-juhla-kevatkokous-ja-seminaari/
END:VEVENT
BEGIN:VEVENT
DTSTART;TZID=Europe/Helsinki:20230325T070000
DTEND;TZID=Europe/Helsinki:20230325T230000
DTSTAMP:20260424T185504
CREATED:20230126T074239Z
LAST-MODIFIED:20230126T074239Z
UID:7723-1679727600-1679785200@www.evankeliset.net
SUMMARY:Tampere\, retki kevätkokoukseen
DESCRIPTION:
URL:https://www.evankeliset.net/tapahtuma/tampere-retki-kevatkokoukseen/
END:VEVENT
BEGIN:VEVENT
DTSTART;TZID=Europe/Helsinki:20230327T130000
DTEND;TZID=Europe/Helsinki:20230327T153000
DTSTAMP:20260424T185504
CREATED:20230102T134353Z
LAST-MODIFIED:20230102T134353Z
UID:7525-1679922000-1679931000@www.evankeliset.net
SUMMARY:Salo\, Siionin kannel -seurat
DESCRIPTION:
URL:https://www.evankeliset.net/tapahtuma/salo-siionin-kannel-seurat-20/
END:VEVENT
BEGIN:VEVENT
DTSTART;TZID=Europe/Helsinki:20230327T180000
DTEND;TZID=Europe/Helsinki:20230327T200000
DTSTAMP:20260424T185504
CREATED:20230125T072608Z
LAST-MODIFIED:20230125T072608Z
UID:7705-1679940000-1679947200@www.evankeliset.net
SUMMARY:Hamina\, Hyvässä seurassa -ilta
DESCRIPTION:
URL:https://www.evankeliset.net/tapahtuma/hamina-hyvassa-seurassa-ilta-19/
END:VEVENT
BEGIN:VEVENT
DTSTART;TZID=Europe/Helsinki:20230327T180000
DTEND;TZID=Europe/Helsinki:20230327T200000
DTSTAMP:20260424T185504
CREATED:20230306T105921Z
LAST-MODIFIED:20230306T105921Z
UID:7786-1679940000-1679947200@www.evankeliset.net
SUMMARY:Kokkola\, Ilta lähetykselle
DESCRIPTION:
URL:https://www.evankeliset.net/tapahtuma/kokkola-ilta-lahetykselle/
END:VEVENT
BEGIN:VEVENT
DTSTART;TZID=Europe/Helsinki:20230329T080000
DTEND;TZID=Europe/Helsinki:20230329T170000
DTSTAMP:20260424T185504
CREATED:20230113T081748Z
LAST-MODIFIED:20230113T081748Z
UID:7620-1680076800-1680109200@www.evankeliset.net
SUMMARY:Kokkola\, Lähetyssoppi
DESCRIPTION:
URL:https://www.evankeliset.net/tapahtuma/kokkola-lahetyssoppi-45/
END:VEVENT
BEGIN:VEVENT
DTSTART;TZID=Europe/Helsinki:20230330T130000
DTEND;TZID=Europe/Helsinki:20230330T143000
DTSTAMP:20260424T185504
CREATED:20221125T105610Z
LAST-MODIFIED:20221125T105637Z
UID:7439-1680181200-1680186600@www.evankeliset.net
SUMMARY:Alavus\, hyvässä seurassa
DESCRIPTION:
URL:https://www.evankeliset.net/tapahtuma/alavus-hyvassa-seurassa-24/
END:VEVENT
BEGIN:VEVENT
DTSTART;TZID=Europe/Helsinki:20230403T130000
DTEND;TZID=Europe/Helsinki:20230403T143000
DTSTAMP:20260424T185504
CREATED:20221122T094522Z
LAST-MODIFIED:20221122T094522Z
UID:7398-1680526800-1680532200@www.evankeliset.net
SUMMARY:Kurikka\, Siionin kannel -seurat
DESCRIPTION:
URL:https://www.evankeliset.net/tapahtuma/kurikka-siionin-kannel-seurat-60/
END:VEVENT
BEGIN:VEVENT
DTSTART;TZID=Europe/Helsinki:20230403T140000
DTEND;TZID=Europe/Helsinki:20230403T153000
DTSTAMP:20260424T185504
CREATED:20230103T130055Z
LAST-MODIFIED:20230310T125831Z
UID:7538-1680530400-1680535800@www.evankeliset.net
SUMMARY:Kouvola\, Evankelinen lähetyspiiri
DESCRIPTION:
URL:https://www.evankeliset.net/tapahtuma/kouvola-evankelinen-lahetyspiiri-5/
END:VEVENT
BEGIN:VEVENT
DTSTART;TZID=Europe/Helsinki:20230404T190000
DTEND;TZID=Europe/Helsinki:20230404T210000
DTSTAMP:20260424T185504
CREATED:20230114T091711Z
LAST-MODIFIED:20230309T091048Z
UID:7630-1680634800-1680642000@www.evankeliset.net
SUMMARY:Alahärmä\, Runon ja laulun ilta
DESCRIPTION:
URL:https://www.evankeliset.net/tapahtuma/alaharma-runon-ja-laulun-ilta/
END:VEVENT
BEGIN:VEVENT
DTSTART;TZID=Europe/Helsinki:20230405T120000
DTEND;TZID=Europe/Helsinki:20230405T130000
DTSTAMP:20260424T185504
CREATED:20230309T084924Z
LAST-MODIFIED:20230309T084924Z
UID:7797-1680696000-1680699600@www.evankeliset.net
SUMMARY:Alahärmä\, Laula kanssain
DESCRIPTION:
URL:https://www.evankeliset.net/tapahtuma/alaharma-laula-kanssain-9/
END:VEVENT
BEGIN:VEVENT
DTSTART;TZID=Europe/Helsinki:20230405T140000
DTEND;TZID=Europe/Helsinki:20230405T153000
DTSTAMP:20260424T185504
CREATED:20230102T134737Z
LAST-MODIFIED:20230102T134737Z
UID:7527-1680703200-1680708600@www.evankeliset.net
SUMMARY:Riihimäki\, Siionin kannel -seurat
DESCRIPTION:
URL:https://www.evankeliset.net/tapahtuma/riihimaki-siionin-kannel-seurat-20/
END:VEVENT
BEGIN:VEVENT
DTSTART;TZID=Europe/Helsinki:20230406T091500
DTEND;TZID=Europe/Helsinki:20230406T103000
DTSTAMP:20260424T185504
CREATED:20230309T085103Z
LAST-MODIFIED:20230312T150839Z
UID:7799-1680772500-1680777000@www.evankeliset.net
SUMMARY:Kortesjärvi\, Laula kanssain
DESCRIPTION:
URL:https://www.evankeliset.net/tapahtuma/kortesjarvi-laula-kanssain/
END:VEVENT
BEGIN:VEVENT
DTSTART;TZID=Europe/Helsinki:20230406T100000
DTEND;TZID=Europe/Helsinki:20230406T110000
DTSTAMP:20260424T185504
CREATED:20230309T085820Z
LAST-MODIFIED:20230312T150912Z
UID:7801-1680775200-1680778800@www.evankeliset.net
SUMMARY:Lapua\, Tiistenjoki
DESCRIPTION:
URL:https://www.evankeliset.net/tapahtuma/lapua-tiistenjoki/
END:VEVENT
BEGIN:VEVENT
DTSTART;TZID=Europe/Helsinki:20230406T113000
DTEND;TZID=Europe/Helsinki:20230406T130000
DTSTAMP:20260424T185504
CREATED:20230309T090625Z
LAST-MODIFIED:20230309T090625Z
UID:7803-1680780600-1680786000@www.evankeliset.net
SUMMARY:Alahärmä\, Laula kanssain
DESCRIPTION:
URL:https://www.evankeliset.net/tapahtuma/alaharma-laula-kanssain-10/
END:VEVENT
BEGIN:VEVENT
DTSTART;TZID=Europe/Helsinki:20230407T100000
DTEND;TZID=Europe/Helsinki:20230407T110000
DTSTAMP:20260424T185504
CREATED:20230310T074644Z
LAST-MODIFIED:20230310T074644Z
UID:7809-1680861600-1680865200@www.evankeliset.net
SUMMARY:Hamina\, Johanneksen kirkko
DESCRIPTION:
URL:https://www.evankeliset.net/tapahtuma/hamina-johanneksen-kirkko/
END:VEVENT
BEGIN:VEVENT
DTSTART;TZID=Europe/Helsinki:20230407T140000
DTEND;TZID=Europe/Helsinki:20230407T170000
DTSTAMP:20260424T185504
CREATED:20230114T112241Z
LAST-MODIFIED:20230309T103047Z
UID:7646-1680876000-1680886800@www.evankeliset.net
SUMMARY:Seinäjoki\, Ristinjuhla
DESCRIPTION:
URL:https://www.evankeliset.net/tapahtuma/seinajoki-ristinjuhla-2/
END:VEVENT
BEGIN:VEVENT
DTSTART;TZID=Europe/Helsinki:20230410T100000
DTEND;TZID=Europe/Helsinki:20230410T130000
DTSTAMP:20260424T185504
CREATED:20230117T122719Z
LAST-MODIFIED:20230310T075057Z
UID:7660-1681120800-1681131600@www.evankeliset.net
SUMMARY:Imatra\, Elyn kirkkopyhä
DESCRIPTION:
URL:https://www.evankeliset.net/tapahtuma/imatra-elyn-kirkkopyha-2/
END:VEVENT
BEGIN:VEVENT
DTSTART;TZID=Europe/Helsinki:20230410T100000
DTEND;TZID=Europe/Helsinki:20230410T130000
DTSTAMP:20260424T185504
CREATED:20230310T075512Z
LAST-MODIFIED:20230310T075512Z
UID:7812-1681120800-1681131600@www.evankeliset.net
SUMMARY:Anjala\, Elyn kirkkopyhä
DESCRIPTION:
URL:https://www.evankeliset.net/tapahtuma/anjala-elyn-kirkkopyha/
END:VEVENT
BEGIN:VEVENT
DTSTART;TZID=Europe/Helsinki:20230412T133000
DTEND;TZID=Europe/Helsinki:20230412T150000
DTSTAMP:20260424T185504
CREATED:20221125T104607Z
LAST-MODIFIED:20221125T104607Z
UID:7433-1681306200-1681311600@www.evankeliset.net
SUMMARY:Kokkola\, Päiväkahvitilaisuus
DESCRIPTION:
URL:https://www.evankeliset.net/tapahtuma/kokkola-paivakahvitilaisuus-14/
END:VEVENT
END:VCALENDAR