BEGIN:VCALENDAR
VERSION:2.0
PRODID:-//Evankelinen lähetysyhdistys ELY ry - ECPv6.15.18//NONSGML v1.0//EN
CALSCALE:GREGORIAN
METHOD:PUBLISH
X-WR-CALNAME:Evankelinen lähetysyhdistys ELY ry
X-ORIGINAL-URL:https://www.evankeliset.net
X-WR-CALDESC:Tapahtumat Evankelinen lähetysyhdistys ELY ry
REFRESH-INTERVAL;VALUE=DURATION:PT1H
X-Robots-Tag:noindex
X-PUBLISHED-TTL:PT1H
BEGIN:VTIMEZONE
TZID:Europe/Helsinki
BEGIN:DAYLIGHT
TZOFFSETFROM:+0200
TZOFFSETTO:+0300
TZNAME:EEST
DTSTART:20220327T010000
END:DAYLIGHT
BEGIN:STANDARD
TZOFFSETFROM:+0300
TZOFFSETTO:+0200
TZNAME:EET
DTSTART:20221030T010000
END:STANDARD
BEGIN:DAYLIGHT
TZOFFSETFROM:+0200
TZOFFSETTO:+0300
TZNAME:EEST
DTSTART:20230326T010000
END:DAYLIGHT
BEGIN:STANDARD
TZOFFSETFROM:+0300
TZOFFSETTO:+0200
TZNAME:EET
DTSTART:20231029T010000
END:STANDARD
BEGIN:DAYLIGHT
TZOFFSETFROM:+0200
TZOFFSETTO:+0300
TZNAME:EEST
DTSTART:20240331T010000
END:DAYLIGHT
BEGIN:STANDARD
TZOFFSETFROM:+0300
TZOFFSETTO:+0200
TZNAME:EET
DTSTART:20241027T010000
END:STANDARD
END:VTIMEZONE
BEGIN:VEVENT
DTSTART;TZID=Europe/Helsinki:20230507T100000
DTEND;TZID=Europe/Helsinki:20230507T140000
DTSTAMP:20260424T184941
CREATED:20230310T081211Z
LAST-MODIFIED:20230310T081211Z
UID:7818-1683453600-1683468000@www.evankeliset.net
SUMMARY:Tuusula\, kotikirkko\, Elyn kirkkopyhä
DESCRIPTION:
URL:https://www.evankeliset.net/tapahtuma/tuusula-kotikirkko-elyn-kirkkopyha/
END:VEVENT
BEGIN:VEVENT
DTSTART;TZID=Europe/Helsinki:20230508T130000
DTEND;TZID=Europe/Helsinki:20230508T143000
DTSTAMP:20260424T184941
CREATED:20221122T095145Z
LAST-MODIFIED:20221122T095145Z
UID:7402-1683550800-1683556200@www.evankeliset.net
SUMMARY:Kurikka\, Siionin kannel -seurat
DESCRIPTION:
URL:https://www.evankeliset.net/tapahtuma/kurikka-siionin-kannel-seurat-62/
END:VEVENT
BEGIN:VEVENT
DTSTART;TZID=Europe/Helsinki:20230510T133000
DTEND;TZID=Europe/Helsinki:20230510T150000
DTSTAMP:20260424T184941
CREATED:20221125T104733Z
LAST-MODIFIED:20230312T152234Z
UID:7435-1683725400-1683730800@www.evankeliset.net
SUMMARY:Kokkola\, Päiväkahvitilaisuus
DESCRIPTION:
URL:https://www.evankeliset.net/tapahtuma/kokkola-paivakahvitilaisuus-15/
END:VEVENT
BEGIN:VEVENT
DTSTART;TZID=Europe/Helsinki:20230511T140000
DTEND;TZID=Europe/Helsinki:20230511T153000
DTSTAMP:20260424T184941
CREATED:20221122T095823Z
LAST-MODIFIED:20230312T152344Z
UID:7408-1683813600-1683819000@www.evankeliset.net
SUMMARY:Kauhajoki\, Siionin kannel -seurat
DESCRIPTION:
URL:https://www.evankeliset.net/tapahtuma/kauhajoki-siionin-kannel-seurat-22/
END:VEVENT
BEGIN:VEVENT
DTSTART;TZID=Europe/Helsinki:20230511T190000
DTEND;TZID=Europe/Helsinki:20230511T210000
DTSTAMP:20260424T184941
CREATED:20230421T082002Z
LAST-MODIFIED:20230421T082002Z
UID:7984-1683831600-1683838800@www.evankeliset.net
SUMMARY:Kuortane\, Onnelliset Vaeltajat
DESCRIPTION:
URL:https://www.evankeliset.net/tapahtuma/kuortane-onnelliset-vaeltajat/
END:VEVENT
BEGIN:VEVENT
DTSTART;TZID=Europe/Helsinki:20230512T180000
DTEND;TZID=Europe/Helsinki:20230512T200000
DTSTAMP:20260424T184941
CREATED:20230313T115842Z
LAST-MODIFIED:20230313T115842Z
UID:7861-1683914400-1683921600@www.evankeliset.net
SUMMARY:Riihimäki\, Koko perheen kevätlaulajaiset
DESCRIPTION:
URL:https://www.evankeliset.net/tapahtuma/riihimaki-koko-perheen-kevatlaulajaiset/
END:VEVENT
BEGIN:VEVENT
DTSTART;TZID=Europe/Helsinki:20230516T100000
DTEND;TZID=Europe/Helsinki:20230516T140000
DTSTAMP:20260424T184941
CREATED:20230312T152555Z
LAST-MODIFIED:20230312T152555Z
UID:7834-1684231200-1684245600@www.evankeliset.net
SUMMARY:Kokkola\, Lähetyssoppi
DESCRIPTION:
URL:https://www.evankeliset.net/tapahtuma/kokkola-lahetyssoppi-46/
END:VEVENT
BEGIN:VEVENT
DTSTART;TZID=Europe/Helsinki:20230516T133000
DTEND;TZID=Europe/Helsinki:20230516T150000
DTSTAMP:20260424T184941
CREATED:20230313T065017Z
LAST-MODIFIED:20230313T065017Z
UID:7856-1684243800-1684249200@www.evankeliset.net
SUMMARY:Forssa\, Siionin kannel -seurat
DESCRIPTION:
URL:https://www.evankeliset.net/tapahtuma/forssa-siionin-kannel-seurat-25/
END:VEVENT
BEGIN:VEVENT
DTSTART;TZID=Europe/Helsinki:20230518T140000
DTEND;TZID=Europe/Helsinki:20230518T160000
DTSTAMP:20260424T184941
CREATED:20221110T083720Z
LAST-MODIFIED:20230110T064408Z
UID:7334-1684418400-1684425600@www.evankeliset.net
SUMMARY:Hattulan Vuohiniemi\, Konsertti
DESCRIPTION:
URL:https://www.evankeliset.net/tapahtuma/hattulan-vuohiniemi-konsertti/
END:VEVENT
BEGIN:VEVENT
DTSTART;TZID=Europe/Helsinki:20230518T140000
DTEND;TZID=Europe/Helsinki:20230518T160000
DTSTAMP:20260424T184941
CREATED:20230314T073420Z
LAST-MODIFIED:20230314T073420Z
UID:7865-1684418400-1684425600@www.evankeliset.net
SUMMARY:Lapua\, mökkiseurat
DESCRIPTION:
URL:https://www.evankeliset.net/tapahtuma/lapua-mokkiseurat-4/
END:VEVENT
BEGIN:VEVENT
DTSTART;TZID=Europe/Helsinki:20230521T180000
DTEND;TZID=Europe/Helsinki:20230521T200000
DTSTAMP:20260424T184941
CREATED:20230114T113817Z
LAST-MODIFIED:20230119T075111Z
UID:7656-1684692000-1684699200@www.evankeliset.net
SUMMARY:Seinäjoki\, kevätkirkko
DESCRIPTION:
URL:https://www.evankeliset.net/tapahtuma/seinajoki-kevatkirkko-3/
END:VEVENT
BEGIN:VEVENT
DTSTART;TZID=Europe/Helsinki:20230528T100000
DTEND;TZID=Europe/Helsinki:20230528T130000
DTSTAMP:20260424T184941
CREATED:20230505T063245Z
LAST-MODIFIED:20230505T063245Z
UID:8003-1685268000-1685278800@www.evankeliset.net
SUMMARY:Hanko\, Lähetyksen kirkkopyhä
DESCRIPTION:
URL:https://www.evankeliset.net/tapahtuma/hanko-lahetyksen-kirkkopyha/
END:VEVENT
BEGIN:VEVENT
DTSTART;TZID=Europe/Helsinki:20230604T100000
DTEND;TZID=Europe/Helsinki:20230604T130000
DTSTAMP:20260424T184941
CREATED:20230310T081731Z
LAST-MODIFIED:20230310T081731Z
UID:7820-1685872800-1685883600@www.evankeliset.net
SUMMARY:Hamina\, Siionin kannel messu
DESCRIPTION:
URL:https://www.evankeliset.net/tapahtuma/hamina-siionin-kannel-messu-2/
END:VEVENT
BEGIN:VEVENT
DTSTART;TZID=Europe/Helsinki:20230604T130000
DTEND;TZID=Europe/Helsinki:20230604T160000
DTSTAMP:20260424T184941
CREATED:20230417T044850Z
LAST-MODIFIED:20230417T044850Z
UID:7969-1685883600-1685894400@www.evankeliset.net
SUMMARY:Salo\, Elyn kirkkopyhä
DESCRIPTION:
URL:https://www.evankeliset.net/tapahtuma/salo-elyn-kirkkopyha-2/
END:VEVENT
BEGIN:VEVENT
DTSTART;TZID=Europe/Helsinki:20230607T093000
DTEND;TZID=Europe/Helsinki:20230607T193000
DTSTAMP:20260424T184941
CREATED:20230321T133436Z
LAST-MODIFIED:20230321T133436Z
UID:7898-1686130200-1686166200@www.evankeliset.net
SUMMARY:Päiväretki Tallinnaan
DESCRIPTION:
URL:https://www.evankeliset.net/tapahtuma/paivaretki-tallinnaan/
END:VEVENT
BEGIN:VEVENT
DTSTART;TZID=Europe/Helsinki:20230611T160000
DTEND;TZID=Europe/Helsinki:20230611T200000
DTSTAMP:20260424T184941
CREATED:20230413T103837Z
LAST-MODIFIED:20230413T104001Z
UID:7967-1686499200-1686513600@www.evankeliset.net
SUMMARY:Kurikka\, Lähetyspyhä
DESCRIPTION:
URL:https://www.evankeliset.net/tapahtuma/kurikka-lahetyspyha/
END:VEVENT
BEGIN:VEVENT
DTSTART;TZID=Europe/Helsinki:20230612T180000
DTEND;TZID=Europe/Helsinki:20230612T200000
DTSTAMP:20260424T184941
CREATED:20230403T075437Z
LAST-MODIFIED:20230403T075437Z
UID:7942-1686592800-1686600000@www.evankeliset.net
SUMMARY:Laihia\, Siionin kannel seurat
DESCRIPTION:
URL:https://www.evankeliset.net/tapahtuma/laihia-siionin-kannel-seurat-2/
END:VEVENT
BEGIN:VEVENT
DTSTART;TZID=Europe/Helsinki:20230613T180000
DTEND;TZID=Europe/Helsinki:20230613T200000
DTSTAMP:20260424T184941
CREATED:20230610T123131Z
LAST-MODIFIED:20230610T124946Z
UID:8143-1686679200-1686686400@www.evankeliset.net
SUMMARY:Himanka\, Siionin kannel seurat
DESCRIPTION:
URL:https://www.evankeliset.net/tapahtuma/himanka-siionin-kannel-seurat-2/
END:VEVENT
BEGIN:VEVENT
DTSTART;TZID=Europe/Helsinki:20230614T180000
DTEND;TZID=Europe/Helsinki:20230614T200000
DTSTAMP:20260424T184941
CREATED:20230312T153036Z
LAST-MODIFIED:20230606T093352Z
UID:7836-1686765600-1686772800@www.evankeliset.net
SUMMARY:Lapua\, Kesäkirkko
DESCRIPTION:
URL:https://www.evankeliset.net/tapahtuma/lapua-kesakirkko-3/
END:VEVENT
BEGIN:VEVENT
DTSTART;TZID=Europe/Helsinki:20230615T120000
DTEND;TZID=Europe/Helsinki:20230615T123000
DTSTAMP:20260424T184941
CREATED:20230606T094316Z
LAST-MODIFIED:20230606T094316Z
UID:8102-1686830400-1686832200@www.evankeliset.net
SUMMARY:Forssa\, Urkuvartti Jumala ompi linnamme
DESCRIPTION:
URL:https://www.evankeliset.net/tapahtuma/forssa-urkuvartti-jumala-ompi-linnamme/
END:VEVENT
BEGIN:VEVENT
DTSTART;TZID=Europe/Helsinki:20230616T100000
DTEND;TZID=Europe/Helsinki:20230616T150000
DTSTAMP:20260424T184941
CREATED:20230312T153352Z
LAST-MODIFIED:20230312T153352Z
UID:7840-1686909600-1686927600@www.evankeliset.net
SUMMARY:Alahärmä\, Isovanhempi lapsenlapsipäivä
DESCRIPTION:
URL:https://www.evankeliset.net/tapahtuma/alaharma-isovanhempi-lapsenlapsipaiva-3/
END:VEVENT
BEGIN:VEVENT
DTSTART;TZID=Europe/Helsinki:20230618T180000
DTEND;TZID=Europe/Helsinki:20230618T200000
DTSTAMP:20260424T184941
CREATED:20230312T153212Z
LAST-MODIFIED:20230412T085129Z
UID:7838-1687111200-1687118400@www.evankeliset.net
SUMMARY:Lapua\, Kesäkirkko
DESCRIPTION:
URL:https://www.evankeliset.net/tapahtuma/lapua-kesakirkko-4/
END:VEVENT
BEGIN:VEVENT
DTSTART;TZID=Europe/Helsinki:20230620T100000
DTEND;TZID=Europe/Helsinki:20230620T140000
DTSTAMP:20260424T184941
CREATED:20230606T101657Z
LAST-MODIFIED:20230606T101657Z
UID:8116-1687255200-1687269600@www.evankeliset.net
SUMMARY:Kurikka\, Kesätori
DESCRIPTION:
URL:https://www.evankeliset.net/tapahtuma/kurikka-kesatori-2/
END:VEVENT
BEGIN:VEVENT
DTSTART;TZID=Europe/Helsinki:20230628T110000
DTEND;TZID=Europe/Helsinki:20230628T130000
DTSTAMP:20260424T184941
CREATED:20230606T094020Z
LAST-MODIFIED:20230606T094020Z
UID:8100-1687950000-1687957200@www.evankeliset.net
SUMMARY:Lieto\, Tarvasjoki\, Ev. kesäseurat
DESCRIPTION:
URL:https://www.evankeliset.net/tapahtuma/lieto-tarvasjoki-ev-kesaseurat/
END:VEVENT
BEGIN:VEVENT
DTSTART;TZID=Europe/Helsinki:20230723T110000
DTEND;TZID=Europe/Helsinki:20230723T150000
DTSTAMP:20260424T184941
CREATED:20230312T154254Z
LAST-MODIFIED:20230530T070112Z
UID:7844-1690110000-1690124400@www.evankeliset.net
SUMMARY:Kannus\, Kansanlaulukirkko
DESCRIPTION:
URL:https://www.evankeliset.net/tapahtuma/kannus-kansanlaulukirkko-5/
END:VEVENT
BEGIN:VEVENT
DTSTART;TZID=Europe/Helsinki:20230726T130000
DTEND;TZID=Europe/Helsinki:20230726T143000
DTSTAMP:20260424T184941
CREATED:20230509T084108Z
LAST-MODIFIED:20230509T085603Z
UID:8007-1690376400-1690381800@www.evankeliset.net
SUMMARY:Espoo\, Olari\, Kesäkahvit kirkonmäellä
DESCRIPTION:
URL:https://www.evankeliset.net/tapahtuma/espoo-olari-kesakahvit-kirkonmaella/
END:VEVENT
BEGIN:VEVENT
DTSTART;TZID=Europe/Helsinki:20230727T180000
DTEND;TZID=Europe/Helsinki:20230727T200000
DTSTAMP:20260424T184941
CREATED:20230424T163751Z
LAST-MODIFIED:20230620T082810Z
UID:7991-1690480800-1690488000@www.evankeliset.net
SUMMARY:Alavus\, Tapuliseurat
DESCRIPTION:
URL:https://www.evankeliset.net/tapahtuma/alavus-tapuliseurat-4/
END:VEVENT
BEGIN:VEVENT
DTSTART;TZID=Europe/Helsinki:20230802T130000
DTEND;TZID=Europe/Helsinki:20230802T143000
DTSTAMP:20260424T184941
CREATED:20230509T084346Z
LAST-MODIFIED:20230509T085445Z
UID:8010-1690981200-1690986600@www.evankeliset.net
SUMMARY:Espoo\, Olari\, Kesäkahvit kirkonmäellä
DESCRIPTION:
URL:https://www.evankeliset.net/tapahtuma/espoo-olari-kesakahvit-kirkonmaella-2/
END:VEVENT
BEGIN:VEVENT
DTSTART;TZID=Europe/Helsinki:20230804T180000
DTEND;TZID=Europe/Helsinki:20230804T210000
DTSTAMP:20260424T184941
CREATED:20230601T084721Z
LAST-MODIFIED:20230607T051055Z
UID:8080-1691172000-1691182800@www.evankeliset.net
SUMMARY:Ilmajoki\, Talkooväen info-tilaisuus ja iltakirkko
DESCRIPTION:
URL:https://www.evankeliset.net/tapahtuma/ilmajoki-talkoovaen-info-tilaisuus-ja-iltakirkko/
END:VEVENT
BEGIN:VEVENT
DTSTART;VALUE=DATE:20230805
DTEND;VALUE=DATE:20230807
DTSTAMP:20260424T184941
CREATED:20221122T100310Z
LAST-MODIFIED:20230120T115300Z
UID:7410-1691193600-1691366399@www.evankeliset.net
SUMMARY:Ilmajoki\, Evankeliset kesäjuhlat
DESCRIPTION:
URL:https://www.evankeliset.net/tapahtuma/ilmajoki-elyn-kesajuhlat/
END:VEVENT
END:VCALENDAR