BEGIN:VCALENDAR
VERSION:2.0
PRODID:-//Evankelinen lähetysyhdistys ELY ry - ECPv6.15.18//NONSGML v1.0//EN
CALSCALE:GREGORIAN
METHOD:PUBLISH
X-WR-CALNAME:Evankelinen lähetysyhdistys ELY ry
X-ORIGINAL-URL:https://www.evankeliset.net
X-WR-CALDESC:Tapahtumat Evankelinen lähetysyhdistys ELY ry
REFRESH-INTERVAL;VALUE=DURATION:PT1H
X-Robots-Tag:noindex
X-PUBLISHED-TTL:PT1H
BEGIN:VTIMEZONE
TZID:Europe/Helsinki
BEGIN:DAYLIGHT
TZOFFSETFROM:+0200
TZOFFSETTO:+0300
TZNAME:EEST
DTSTART:20230326T010000
END:DAYLIGHT
BEGIN:STANDARD
TZOFFSETFROM:+0300
TZOFFSETTO:+0200
TZNAME:EET
DTSTART:20231029T010000
END:STANDARD
BEGIN:DAYLIGHT
TZOFFSETFROM:+0200
TZOFFSETTO:+0300
TZNAME:EEST
DTSTART:20240331T010000
END:DAYLIGHT
BEGIN:STANDARD
TZOFFSETFROM:+0300
TZOFFSETTO:+0200
TZNAME:EET
DTSTART:20241027T010000
END:STANDARD
BEGIN:DAYLIGHT
TZOFFSETFROM:+0200
TZOFFSETTO:+0300
TZNAME:EEST
DTSTART:20250330T010000
END:DAYLIGHT
BEGIN:STANDARD
TZOFFSETFROM:+0300
TZOFFSETTO:+0200
TZNAME:EET
DTSTART:20251026T010000
END:STANDARD
END:VTIMEZONE
BEGIN:VEVENT
DTSTART;TZID=Europe/Helsinki:20240108T130000
DTEND;TZID=Europe/Helsinki:20240108T150000
DTSTAMP:20260424T030857
CREATED:20231115T135650Z
LAST-MODIFIED:20231115T135650Z
UID:8529-1704718800-1704726000@www.evankeliset.net
SUMMARY:Kurikka\, Siionin kannel -seurat
DESCRIPTION:
URL:https://www.evankeliset.net/tapahtuma/kurikka-siionin-kannel-seurat-69/
END:VEVENT
BEGIN:VEVENT
DTSTART;TZID=Europe/Helsinki:20240108T150000
DTEND;TZID=Europe/Helsinki:20240108T170000
DTSTAMP:20260424T030857
CREATED:20240108T081745Z
LAST-MODIFIED:20240108T081745Z
UID:8691-1704726000-1704733200@www.evankeliset.net
SUMMARY:Tampere\, Siionin kannel -seurat
DESCRIPTION:
URL:https://www.evankeliset.net/tapahtuma/tampere-siionin-kannel-seurat-2/
END:VEVENT
BEGIN:VEVENT
DTSTART;TZID=Europe/Helsinki:20240111T140000
DTEND;TZID=Europe/Helsinki:20240111T160000
DTSTAMP:20260424T030857
CREATED:20231115T135920Z
LAST-MODIFIED:20240108T113839Z
UID:8531-1704981600-1704988800@www.evankeliset.net
SUMMARY:Kauhajoki\, Siionin kannel -seurat
DESCRIPTION:
URL:https://www.evankeliset.net/tapahtuma/kauhajoki-siionin-kannel-seurat-26/
END:VEVENT
BEGIN:VEVENT
DTSTART;TZID=Europe/Helsinki:20240117T133000
DTEND;TZID=Europe/Helsinki:20240117T153000
DTSTAMP:20260424T030857
CREATED:20231115T121625Z
LAST-MODIFIED:20231115T121625Z
UID:8517-1705498200-1705505400@www.evankeliset.net
SUMMARY:Kokkola\, Lauluhetki päiväkahvin aikaan
DESCRIPTION:
URL:https://www.evankeliset.net/tapahtuma/kokkola-lauluhetki-paivakahvin-aikaan/
END:VEVENT
BEGIN:VEVENT
DTSTART;TZID=Europe/Helsinki:20240118T123000
DTEND;TZID=Europe/Helsinki:20240118T143000
DTSTAMP:20260424T030857
CREATED:20231102T112937Z
LAST-MODIFIED:20240108T114707Z
UID:8454-1705581000-1705588200@www.evankeliset.net
SUMMARY:Alavus\, Hyvässä seurassa
DESCRIPTION:
URL:https://www.evankeliset.net/tapahtuma/alavus-hyvassa-seurassa-29/
END:VEVENT
BEGIN:VEVENT
DTSTART;TZID=Europe/Helsinki:20240121T100000
DTEND;TZID=Europe/Helsinki:20240121T120000
DTSTAMP:20260424T030857
CREATED:20231122T104409Z
LAST-MODIFIED:20240119T121451Z
UID:8597-1705831200-1705838400@www.evankeliset.net
SUMMARY:Espoo\, Olari\, Messu ja työhön siunaaminen
DESCRIPTION:
URL:https://www.evankeliset.net/tapahtuma/espoo-olari-tyohon-siunaaminen/
END:VEVENT
BEGIN:VEVENT
DTSTART;TZID=Europe/Helsinki:20240121T140000
DTEND;TZID=Europe/Helsinki:20240121T150000
DTSTAMP:20260424T030857
CREATED:20231116T144626Z
LAST-MODIFIED:20231218T091017Z
UID:8564-1705845600-1705849200@www.evankeliset.net
SUMMARY:Seinäjoki\, Siionin kannel seurat
DESCRIPTION:
URL:https://www.evankeliset.net/tapahtuma/seinajoki-siionin-kannel-seurat-14/
END:VEVENT
BEGIN:VEVENT
DTSTART;TZID=Europe/Helsinki:20240122T130000
DTEND;TZID=Europe/Helsinki:20240122T150000
DTSTAMP:20260424T030857
CREATED:20231115T140022Z
LAST-MODIFIED:20231115T140022Z
UID:8533-1705928400-1705935600@www.evankeliset.net
SUMMARY:Kurikka\, Siionin kannel -seurat
DESCRIPTION:
URL:https://www.evankeliset.net/tapahtuma/kurikka-siionin-kannel-seurat-70/
END:VEVENT
BEGIN:VEVENT
DTSTART;TZID=Europe/Helsinki:20240123T110000
DTEND;TZID=Europe/Helsinki:20240123T150000
DTSTAMP:20260424T030857
CREATED:20231115T140138Z
LAST-MODIFIED:20231115T140138Z
UID:8535-1706007600-1706022000@www.evankeliset.net
SUMMARY:Kokkola\, Lähetyssoppi
DESCRIPTION:
URL:https://www.evankeliset.net/tapahtuma/kokkola-lahetyssoppi-49/
END:VEVENT
BEGIN:VEVENT
DTSTART;TZID=Europe/Helsinki:20240125T173000
DTEND;TZID=Europe/Helsinki:20240125T193000
DTSTAMP:20260424T030857
CREATED:20240108T082018Z
LAST-MODIFIED:20240117T061742Z
UID:8693-1706203800-1706211000@www.evankeliset.net
SUMMARY:Tampere\, Kahvia\, sanaa ja Siionin kanteleen toivelauluja
DESCRIPTION:
URL:https://www.evankeliset.net/tapahtuma/tampere-kaukajarvi-siionin-kannel-seurat/
END:VEVENT
BEGIN:VEVENT
DTSTART;TZID=Europe/Helsinki:20240128T100000
DTEND;TZID=Europe/Helsinki:20240128T130000
DTSTAMP:20260424T030857
CREATED:20240117T081907Z
LAST-MODIFIED:20240117T081907Z
UID:8822-1706436000-1706446800@www.evankeliset.net
SUMMARY:Toholampi\, Elyn kirkkopyhä
DESCRIPTION:
URL:https://www.evankeliset.net/tapahtuma/toholampi-elyn-kirkkopyha-5/
END:VEVENT
BEGIN:VEVENT
DTSTART;TZID=Europe/Helsinki:20240128T120000
DTEND;TZID=Europe/Helsinki:20240128T150000
DTSTAMP:20260424T030857
CREATED:20240119T121956Z
LAST-MODIFIED:20240119T121956Z
UID:8862-1706443200-1706454000@www.evankeliset.net
SUMMARY:Espoo\, Kyläkirkko Kauklahden kappelissa
DESCRIPTION:
URL:https://www.evankeliset.net/tapahtuma/espoo-kylakirkko-kauklahden-kappelissa/
END:VEVENT
BEGIN:VEVENT
DTSTART;TZID=Europe/Helsinki:20240202T140000
DTEND;TZID=Europe/Helsinki:20240202T153000
DTSTAMP:20260424T030857
CREATED:20231117T062535Z
LAST-MODIFIED:20231117T062535Z
UID:8569-1706882400-1706887800@www.evankeliset.net
SUMMARY:Hämeenlinna\, Raamattuhetki
DESCRIPTION:
URL:https://www.evankeliset.net/tapahtuma/hameenlinna-raamattuhetki-7/
END:VEVENT
BEGIN:VEVENT
DTSTART;TZID=Europe/Helsinki:20240204T100000
DTEND;TZID=Europe/Helsinki:20240204T130000
DTSTAMP:20260424T030857
CREATED:20231103T103139Z
LAST-MODIFIED:20231113T164942Z
UID:8464-1707040800-1707051600@www.evankeliset.net
SUMMARY:Kuortane\, kirkkopyhä
DESCRIPTION:
URL:https://www.evankeliset.net/tapahtuma/kuortane-kirkkopyha-2/
END:VEVENT
BEGIN:VEVENT
DTSTART;TZID=Europe/Helsinki:20240205T130000
DTEND;TZID=Europe/Helsinki:20240205T150000
DTSTAMP:20260424T030857
CREATED:20231115T140319Z
LAST-MODIFIED:20240201T110207Z
UID:8537-1707138000-1707145200@www.evankeliset.net
SUMMARY:Kurikka\, Siionin kannel -seurat
DESCRIPTION:
URL:https://www.evankeliset.net/tapahtuma/kurikka-siionin-kannel-seurat-71/
END:VEVENT
BEGIN:VEVENT
DTSTART;TZID=Europe/Helsinki:20240205T150000
DTEND;TZID=Europe/Helsinki:20240205T170000
DTSTAMP:20260424T030857
CREATED:20240108T082201Z
LAST-MODIFIED:20240108T082201Z
UID:8695-1707145200-1707152400@www.evankeliset.net
SUMMARY:Tampere\, Siionin kannel -seurat
DESCRIPTION:
URL:https://www.evankeliset.net/tapahtuma/tampere-siionin-kannel-seurat-3/
END:VEVENT
BEGIN:VEVENT
DTSTART;TZID=Europe/Helsinki:20240206T140000
DTEND;TZID=Europe/Helsinki:20240206T160000
DTSTAMP:20260424T030857
CREATED:20240119T122523Z
LAST-MODIFIED:20240119T122523Z
UID:8864-1707228000-1707235200@www.evankeliset.net
SUMMARY:Riihimäki\, "Viron kansa kantaa haavaa"
DESCRIPTION:
URL:https://www.evankeliset.net/tapahtuma/riihimaki-viron-kansa-kantaa-haavaa/
END:VEVENT
BEGIN:VEVENT
DTSTART;TZID=Europe/Helsinki:20240207T140000
DTEND;TZID=Europe/Helsinki:20240207T153000
DTSTAMP:20260424T030857
CREATED:20240115T131800Z
LAST-MODIFIED:20240115T131800Z
UID:8805-1707314400-1707319800@www.evankeliset.net
SUMMARY:Järvenpää\, Lähetyspiiri
DESCRIPTION:
URL:https://www.evankeliset.net/tapahtuma/jarvenpaa-lahetyspiiri-4/
END:VEVENT
BEGIN:VEVENT
DTSTART;TZID=Europe/Helsinki:20240211T100000
DTEND;TZID=Europe/Helsinki:20240211T130000
DTSTAMP:20260424T030857
CREATED:20240119T123100Z
LAST-MODIFIED:20240119T123100Z
UID:8866-1707645600-1707656400@www.evankeliset.net
SUMMARY:Salo\, Kisko\, Messu
DESCRIPTION:
URL:https://www.evankeliset.net/tapahtuma/salo-kisko-messu/
END:VEVENT
BEGIN:VEVENT
DTSTART;TZID=Europe/Helsinki:20240212T130000
DTEND;TZID=Europe/Helsinki:20240212T150000
DTSTAMP:20260424T030857
CREATED:20240115T071509Z
LAST-MODIFIED:20240115T105334Z
UID:8792-1707742800-1707750000@www.evankeliset.net
SUMMARY:Salo\, Hartaus ja Viron terveisiä
DESCRIPTION:
URL:https://www.evankeliset.net/tapahtuma/salo-hartaus-ja-viron-terveisia/
END:VEVENT
BEGIN:VEVENT
DTSTART;TZID=Europe/Helsinki:20240213T180000
DTEND;TZID=Europe/Helsinki:20240213T200000
DTSTAMP:20260424T030857
CREATED:20231010T070654Z
LAST-MODIFIED:20240205T083938Z
UID:8429-1707847200-1707854400@www.evankeliset.net
SUMMARY:Lapua\, Ystävänpäivän aattoseurat
DESCRIPTION:
URL:https://www.evankeliset.net/tapahtuma/lapua-ystavanpaivan-aattoseurat/
END:VEVENT
BEGIN:VEVENT
DTSTART;TZID=Europe/Helsinki:20240214T133000
DTEND;TZID=Europe/Helsinki:20240214T153000
DTSTAMP:20260424T030857
CREATED:20231115T121746Z
LAST-MODIFIED:20231115T121746Z
UID:8519-1707917400-1707924600@www.evankeliset.net
SUMMARY:Kokkola\, Lauluhetki päiväkahvin aikaan
DESCRIPTION:
URL:https://www.evankeliset.net/tapahtuma/kokkola-lauluhetki-paivakahvin-aikaan-2/
END:VEVENT
BEGIN:VEVENT
DTSTART;TZID=Europe/Helsinki:20240215T140000
DTEND;TZID=Europe/Helsinki:20240215T160000
DTSTAMP:20260424T030857
CREATED:20231115T140433Z
LAST-MODIFIED:20240108T113926Z
UID:8539-1708005600-1708012800@www.evankeliset.net
SUMMARY:Kauhajoki\, Siionin kannel -seurat
DESCRIPTION:
URL:https://www.evankeliset.net/tapahtuma/kauhajoki-siionin-kannel-seurat-27/
END:VEVENT
BEGIN:VEVENT
DTSTART;TZID=Europe/Helsinki:20240218T100000
DTEND;TZID=Europe/Helsinki:20240218T130000
DTSTAMP:20260424T030857
CREATED:20240216T092457Z
LAST-MODIFIED:20240216T092457Z
UID:8993-1708250400-1708261200@www.evankeliset.net
SUMMARY:Kouvola\, Messu ja lähetystilaisuus
DESCRIPTION:
URL:https://www.evankeliset.net/tapahtuma/kouvola-messu-ja-lahetystilaisuus/
END:VEVENT
BEGIN:VEVENT
DTSTART;TZID=Europe/Helsinki:20240218T100000
DTEND;TZID=Europe/Helsinki:20240218T140000
DTSTAMP:20260424T030857
CREATED:20231122T101453Z
LAST-MODIFIED:20240212T071335Z
UID:8587-1708250400-1708264800@www.evankeliset.net
SUMMARY:Ylihärmä\, Elyn kirkkopyhä
DESCRIPTION:
URL:https://www.evankeliset.net/tapahtuma/yliharma-elyn-kirkkopyha-4/
END:VEVENT
BEGIN:VEVENT
DTSTART;TZID=Europe/Helsinki:20240218T140000
DTEND;TZID=Europe/Helsinki:20240218T160000
DTSTAMP:20260424T030857
CREATED:20231122T101607Z
LAST-MODIFIED:20240124T102212Z
UID:8589-1708264800-1708272000@www.evankeliset.net
SUMMARY:Seinäjoki\, Siionin kannel seurat
DESCRIPTION:
URL:https://www.evankeliset.net/tapahtuma/seinajoki-siionin-kannel-seurat-15/
END:VEVENT
BEGIN:VEVENT
DTSTART;TZID=Europe/Helsinki:20240219T130000
DTEND;TZID=Europe/Helsinki:20240219T150000
DTSTAMP:20260424T030857
CREATED:20231115T140549Z
LAST-MODIFIED:20240216T065528Z
UID:8541-1708347600-1708354800@www.evankeliset.net
SUMMARY:Kurikka\, Siionin kannel -seurat
DESCRIPTION:
URL:https://www.evankeliset.net/tapahtuma/kurikka-siionin-kannel-seurat-72/
END:VEVENT
BEGIN:VEVENT
DTSTART;TZID=Europe/Helsinki:20240220T130000
DTEND;TZID=Europe/Helsinki:20240220T150000
DTSTAMP:20260424T030857
CREATED:20240205T083007Z
LAST-MODIFIED:20240205T083007Z
UID:8924-1708434000-1708441200@www.evankeliset.net
SUMMARY:Keuruu\, Siionin kannel seurat
DESCRIPTION:
URL:https://www.evankeliset.net/tapahtuma/keuruu-siionin-kannel-seurat-4/
END:VEVENT
BEGIN:VEVENT
DTSTART;TZID=Europe/Helsinki:20240220T133000
DTEND;TZID=Europe/Helsinki:20240220T153000
DTSTAMP:20260424T030857
CREATED:20240219T192649Z
LAST-MODIFIED:20240219T192649Z
UID:8998-1708435800-1708443000@www.evankeliset.net
SUMMARY:Forssa\, Siionin kannel seurat
DESCRIPTION:
URL:https://www.evankeliset.net/tapahtuma/forssa-siionin-kannel-seurat-28/
END:VEVENT
BEGIN:VEVENT
DTSTART;TZID=Europe/Helsinki:20240221T110000
DTEND;TZID=Europe/Helsinki:20240221T150000
DTSTAMP:20260424T030857
CREATED:20231115T140647Z
LAST-MODIFIED:20231115T140647Z
UID:8543-1708513200-1708527600@www.evankeliset.net
SUMMARY:Kokkola\, Lähetyssoppi
DESCRIPTION:
URL:https://www.evankeliset.net/tapahtuma/kokkola-lahetyssoppi-50/
END:VEVENT
END:VCALENDAR