BEGIN:VCALENDAR
VERSION:2.0
PRODID:-//Evankelinen lähetysyhdistys ELY ry - ECPv6.15.18//NONSGML v1.0//EN
CALSCALE:GREGORIAN
METHOD:PUBLISH
X-WR-CALNAME:Evankelinen lähetysyhdistys ELY ry
X-ORIGINAL-URL:https://www.evankeliset.net
X-WR-CALDESC:Tapahtumat Evankelinen lähetysyhdistys ELY ry
REFRESH-INTERVAL;VALUE=DURATION:PT1H
X-Robots-Tag:noindex
X-PUBLISHED-TTL:PT1H
BEGIN:VTIMEZONE
TZID:Europe/Helsinki
BEGIN:DAYLIGHT
TZOFFSETFROM:+0200
TZOFFSETTO:+0300
TZNAME:EEST
DTSTART:20230326T010000
END:DAYLIGHT
BEGIN:STANDARD
TZOFFSETFROM:+0300
TZOFFSETTO:+0200
TZNAME:EET
DTSTART:20231029T010000
END:STANDARD
BEGIN:DAYLIGHT
TZOFFSETFROM:+0200
TZOFFSETTO:+0300
TZNAME:EEST
DTSTART:20240331T010000
END:DAYLIGHT
BEGIN:STANDARD
TZOFFSETFROM:+0300
TZOFFSETTO:+0200
TZNAME:EET
DTSTART:20241027T010000
END:STANDARD
BEGIN:DAYLIGHT
TZOFFSETFROM:+0200
TZOFFSETTO:+0300
TZNAME:EEST
DTSTART:20250330T010000
END:DAYLIGHT
BEGIN:STANDARD
TZOFFSETFROM:+0300
TZOFFSETTO:+0200
TZNAME:EET
DTSTART:20251026T010000
END:STANDARD
END:VTIMEZONE
BEGIN:VEVENT
DTSTART;TZID=Europe/Helsinki:20240830T080000
DTEND;TZID=Europe/Helsinki:20240901T170000
DTSTAMP:20260423T130428
CREATED:20231113T164357Z
LAST-MODIFIED:20231113T164357Z
UID:8513-1725004800-1725210000@www.evankeliset.net
SUMMARY:Oulun hiippakunnan lähetysjuhla
DESCRIPTION:
URL:https://www.evankeliset.net/tapahtuma/oulun-hiippakunnan-lahetysjuhla/
END:VEVENT
BEGIN:VEVENT
DTSTART;VALUE=DATE:20240831
DTEND;VALUE=DATE:20240902
DTSTAMP:20260423T130428
CREATED:20240829T070126Z
LAST-MODIFIED:20240829T074313Z
UID:9678-1725062400-1725235199@www.evankeliset.net
SUMMARY:Iisalmi\, Kuopion hiippakunnan lähetysjuhla
DESCRIPTION:
URL:https://www.evankeliset.net/tapahtuma/iisalmi-kuopion-hiippakunnan-lahetysjuhla/
END:VEVENT
BEGIN:VEVENT
DTSTART;TZID=Europe/Helsinki:20240901T180000
DTEND;TZID=Europe/Helsinki:20240901T200000
DTSTAMP:20260423T130428
CREATED:20240829T075336Z
LAST-MODIFIED:20240829T075336Z
UID:9689-1725213600-1725220800@www.evankeliset.net
SUMMARY:Kurikka\, Iltapalamessu
DESCRIPTION:
URL:https://www.evankeliset.net/tapahtuma/kurikka-iltapalamessu/
END:VEVENT
BEGIN:VEVENT
DTSTART;TZID=Europe/Helsinki:20240903T140000
DTEND;TZID=Europe/Helsinki:20240903T160000
DTSTAMP:20260423T130428
CREATED:20240808T105349Z
LAST-MODIFIED:20240816T091808Z
UID:9485-1725372000-1725379200@www.evankeliset.net
SUMMARY:Riihimäki\, Lähetystilaisuus
DESCRIPTION:
URL:https://www.evankeliset.net/tapahtuma/riihimaki-siionin-kanteleen-lauluseurat/
END:VEVENT
BEGIN:VEVENT
DTSTART;TZID=Europe/Helsinki:20240903T180000
DTEND;TZID=Europe/Helsinki:20240903T200000
DTSTAMP:20260423T130428
CREATED:20240816T044555Z
LAST-MODIFIED:20240816T044555Z
UID:9566-1725386400-1725393600@www.evankeliset.net
SUMMARY:Kuortane\, Kotaseurat
DESCRIPTION:
URL:https://www.evankeliset.net/tapahtuma/kuortane-kotaseurat/
END:VEVENT
BEGIN:VEVENT
DTSTART;TZID=Europe/Helsinki:20240904T140000
DTEND;TZID=Europe/Helsinki:20240904T160000
DTSTAMP:20260423T130428
CREATED:20240808T105524Z
LAST-MODIFIED:20240808T105524Z
UID:9487-1725458400-1725465600@www.evankeliset.net
SUMMARY:Järvenpää\, Lähetyspiiri
DESCRIPTION:
URL:https://www.evankeliset.net/tapahtuma/jarvenpaa-lahetyspiiri-8/
END:VEVENT
BEGIN:VEVENT
DTSTART;TZID=Europe/Helsinki:20240904T180000
DTEND;TZID=Europe/Helsinki:20240904T200000
DTSTAMP:20260423T130428
CREATED:20240424T103836Z
LAST-MODIFIED:20240530T113119Z
UID:9157-1725472800-1725480000@www.evankeliset.net
SUMMARY:Nurmo\, Siionin kannel seurat
DESCRIPTION:
URL:https://www.evankeliset.net/tapahtuma/nurmo-siionin-kannel-seurat-2/
END:VEVENT
BEGIN:VEVENT
DTSTART;TZID=Europe/Helsinki:20240906T140000
DTEND;TZID=Europe/Helsinki:20240906T160000
DTSTAMP:20260423T130428
CREATED:20240809T103938Z
LAST-MODIFIED:20240819T061224Z
UID:9509-1725631200-1725638400@www.evankeliset.net
SUMMARY:Hämeenlinna\, Raamattuhetki
DESCRIPTION:
URL:https://www.evankeliset.net/tapahtuma/hameenlinna-raamattuhetki-11/
END:VEVENT
BEGIN:VEVENT
DTSTART;TZID=Europe/Helsinki:20240906T170000
DTEND;TZID=Europe/Helsinki:20240906T200000
DTSTAMP:20260423T130428
CREATED:20240503T061834Z
LAST-MODIFIED:20240617T121237Z
UID:9245-1725642000-1725652800@www.evankeliset.net
SUMMARY:Lohtaja\, Laavulta laavulle
DESCRIPTION:
URL:https://www.evankeliset.net/tapahtuma/lohtaja-laavulta-laavulle-2/
END:VEVENT
BEGIN:VEVENT
DTSTART;TZID=Europe/Helsinki:20240908T100000
DTEND;TZID=Europe/Helsinki:20240908T120000
DTSTAMP:20260423T130428
CREATED:20240411T060448Z
LAST-MODIFIED:20240829T080058Z
UID:9145-1725789600-1725796800@www.evankeliset.net
SUMMARY:Soini\, Elyn kirkkopyhä
DESCRIPTION:
URL:https://www.evankeliset.net/tapahtuma/soini-elyn-kirkkopyha-4/
END:VEVENT
BEGIN:VEVENT
DTSTART;TZID=Europe/Helsinki:20240909T150000
DTEND;TZID=Europe/Helsinki:20240909T170000
DTSTAMP:20260423T130428
CREATED:20240820T083006Z
LAST-MODIFIED:20240905T084349Z
UID:9610-1725894000-1725901200@www.evankeliset.net
SUMMARY:Tampere\, Siionin kannel -seurat
DESCRIPTION:
URL:https://www.evankeliset.net/tapahtuma/tampere-siionin-kannel-seurat-5/
END:VEVENT
BEGIN:VEVENT
DTSTART;TZID=Europe/Helsinki:20240910T140000
DTEND;TZID=Europe/Helsinki:20240910T160000
DTSTAMP:20260423T130428
CREATED:20240808T065413Z
LAST-MODIFIED:20240808T065413Z
UID:9472-1725976800-1725984000@www.evankeliset.net
SUMMARY:Hyvinkää\, Armon ja ilon iltapäivä
DESCRIPTION:
URL:https://www.evankeliset.net/tapahtuma/hyvinkaa-armon-ja-ilon-iltapaiva/
END:VEVENT
BEGIN:VEVENT
DTSTART;TZID=Europe/Helsinki:20240911T110000
DTEND;TZID=Europe/Helsinki:20240911T150000
DTSTAMP:20260423T130428
CREATED:20240826T052807Z
LAST-MODIFIED:20240826T052807Z
UID:9664-1726052400-1726066800@www.evankeliset.net
SUMMARY:Kokkola\, Lähetyssoppi
DESCRIPTION:
URL:https://www.evankeliset.net/tapahtuma/kokkola-lahetyssoppi-53/
END:VEVENT
BEGIN:VEVENT
DTSTART;TZID=Europe/Helsinki:20240911T180000
DTEND;TZID=Europe/Helsinki:20240911T200000
DTSTAMP:20260423T130428
CREATED:20240808T073618Z
LAST-MODIFIED:20240808T073618Z
UID:9481-1726077600-1726084800@www.evankeliset.net
SUMMARY:Alajärvi\, Siionin kannel seurat
DESCRIPTION:
URL:https://www.evankeliset.net/tapahtuma/alajarvi-siionin-kannel-seurat-2/
END:VEVENT
BEGIN:VEVENT
DTSTART;TZID=Europe/Helsinki:20240912T140000
DTEND;TZID=Europe/Helsinki:20240912T153000
DTSTAMP:20260423T130428
CREATED:20240108T115208Z
LAST-MODIFIED:20240814T052102Z
UID:8738-1726149600-1726155000@www.evankeliset.net
SUMMARY:Kauhajoki\, Siionin kannel -seurat
DESCRIPTION:
URL:https://www.evankeliset.net/tapahtuma/kauhajoki-siionin-kannel-seurat-31/
END:VEVENT
BEGIN:VEVENT
DTSTART;TZID=Europe/Helsinki:20240914T140000
DTEND;TZID=Europe/Helsinki:20240914T170000
DTSTAMP:20260423T130428
CREATED:20240617T071048Z
LAST-MODIFIED:20240617T073046Z
UID:9379-1726322400-1726333200@www.evankeliset.net
SUMMARY:Kauhava\, Ruotsaloiden ja koko kansan lähtöjuhla
DESCRIPTION:
URL:https://www.evankeliset.net/tapahtuma/kauhava-ruotsaloiden-ja-koko-kansan-lahtojuhla/
END:VEVENT
BEGIN:VEVENT
DTSTART;TZID=Europe/Helsinki:20240915T100000
DTEND;TZID=Europe/Helsinki:20240915T160000
DTSTAMP:20260423T130428
CREATED:20231218T094120Z
LAST-MODIFIED:20240613T060908Z
UID:8679-1726394400-1726416000@www.evankeliset.net
SUMMARY:Seinäjoki\, Maakunnallinen kirkkopyhä
DESCRIPTION:
URL:https://www.evankeliset.net/tapahtuma/seinajoki-maakunnallinen-kirkkopyha-2/
END:VEVENT
BEGIN:VEVENT
DTSTART;TZID=Europe/Helsinki:20240915T180000
DTEND;TZID=Europe/Helsinki:20240915T200000
DTSTAMP:20260423T130428
CREATED:20240808T105713Z
LAST-MODIFIED:20240808T105713Z
UID:9489-1726423200-1726430400@www.evankeliset.net
SUMMARY:Helsinki\, Pihlajamäki\, Yhteislaulutilaisuus
DESCRIPTION:
URL:https://www.evankeliset.net/tapahtuma/helsinki-pihlajamaki-yhteislaulutilaisuus/
END:VEVENT
BEGIN:VEVENT
DTSTART;TZID=Europe/Helsinki:20240916T130000
DTEND;TZID=Europe/Helsinki:20240916T143000
DTSTAMP:20260423T130428
CREATED:20240108T112032Z
LAST-MODIFIED:20240108T112032Z
UID:8715-1726491600-1726497000@www.evankeliset.net
SUMMARY:Kurikka\, Siionin kannel -seurat
DESCRIPTION:
URL:https://www.evankeliset.net/tapahtuma/kurikka-siionin-kannel-seurat-78/
END:VEVENT
BEGIN:VEVENT
DTSTART;TZID=Europe/Helsinki:20240916T130000
DTEND;TZID=Europe/Helsinki:20240916T150000
DTSTAMP:20260423T130428
CREATED:20240620T072534Z
LAST-MODIFIED:20240620T072534Z
UID:9392-1726491600-1726498800@www.evankeliset.net
SUMMARY:Espoo\, Tapiola\, Lähetyksen kahvitilaisuus
DESCRIPTION:
URL:https://www.evankeliset.net/tapahtuma/espoo-tapiola-lahetyksen-kahvitilaisuus/
END:VEVENT
BEGIN:VEVENT
DTSTART;TZID=Europe/Helsinki:20240918T133000
DTEND;TZID=Europe/Helsinki:20240918T153000
DTSTAMP:20260423T130428
CREATED:20240505T133912Z
LAST-MODIFIED:20240505T133912Z
UID:9249-1726666200-1726673400@www.evankeliset.net
SUMMARY:Kokkola\, Lauluhetki
DESCRIPTION:
URL:https://www.evankeliset.net/tapahtuma/kokkola-lauluhetki-5/
END:VEVENT
BEGIN:VEVENT
DTSTART;TZID=Europe/Helsinki:20240921T100000
DTEND;TZID=Europe/Helsinki:20240922T160000
DTSTAMP:20260423T130428
CREATED:20240808T110313Z
LAST-MODIFIED:20240808T110313Z
UID:9491-1726912800-1727020800@www.evankeliset.net
SUMMARY:Espoo\, Syysmatin markkinat
DESCRIPTION:
URL:https://www.evankeliset.net/tapahtuma/espoo-syysmatin-markkinat-3/
END:VEVENT
BEGIN:VEVENT
DTSTART;TZID=Europe/Helsinki:20240921T140000
DTEND;TZID=Europe/Helsinki:20240921T160000
DTSTAMP:20260423T130428
CREATED:20240624T054259Z
LAST-MODIFIED:20240808T073825Z
UID:9394-1726927200-1726934400@www.evankeliset.net
SUMMARY:Alahärmä\, Naistenpäivä
DESCRIPTION:
URL:https://www.evankeliset.net/tapahtuma/alaharma-naistenpaiva-3/
END:VEVENT
BEGIN:VEVENT
DTSTART;TZID=Europe/Helsinki:20240923T140000
DTEND;TZID=Europe/Helsinki:20240923T160000
DTSTAMP:20260423T130428
CREATED:20240808T110441Z
LAST-MODIFIED:20240808T110441Z
UID:9493-1727100000-1727107200@www.evankeliset.net
SUMMARY:Espoo\, Lähetyspiiri
DESCRIPTION:
URL:https://www.evankeliset.net/tapahtuma/espoo-lahetyspiiri-2/
END:VEVENT
BEGIN:VEVENT
DTSTART;TZID=Europe/Helsinki:20240923T140000
DTEND;TZID=Europe/Helsinki:20240923T160000
DTSTAMP:20260423T130428
CREATED:20240903T044943Z
LAST-MODIFIED:20240903T044943Z
UID:9722-1727100000-1727107200@www.evankeliset.net
SUMMARY:Kouvola\, Ev. lähetyspiiri
DESCRIPTION:
URL:https://www.evankeliset.net/tapahtuma/kouvola-ev-lahetyspiiri/
END:VEVENT
BEGIN:VEVENT
DTSTART;TZID=Europe/Helsinki:20240924T130000
DTEND;TZID=Europe/Helsinki:20240924T150000
DTSTAMP:20260423T130428
CREATED:20240808T053059Z
LAST-MODIFIED:20240808T053059Z
UID:9460-1727182800-1727190000@www.evankeliset.net
SUMMARY:Salo\, Päiväkahviseurat
DESCRIPTION:
URL:https://www.evankeliset.net/tapahtuma/salo-paivakahviseurat-3/
END:VEVENT
BEGIN:VEVENT
DTSTART;TZID=Europe/Helsinki:20240924T130000
DTEND;TZID=Europe/Helsinki:20240924T150000
DTSTAMP:20260423T130428
CREATED:20240922T121720Z
LAST-MODIFIED:20250123T115659Z
UID:9800-1727182800-1727190000@www.evankeliset.net
SUMMARY:Salo\, Päiväkahviseurat
DESCRIPTION:
URL:https://www.evankeliset.net/tapahtuma/salo-paivakahviseurat-keskustan-seurakuntatalolla-kirkkokatu-6-lauletaan-siionin-kannelta/
END:VEVENT
BEGIN:VEVENT
DTSTART;TZID=Europe/Helsinki:20240925T180000
DTEND;TZID=Europe/Helsinki:20240925T200000
DTSTAMP:20260423T130428
CREATED:20240520T052209Z
LAST-MODIFIED:20240813T081736Z
UID:9289-1727287200-1727294400@www.evankeliset.net
SUMMARY:Lapua\, Lyhtyilta
DESCRIPTION:
URL:https://www.evankeliset.net/tapahtuma/lapua-lyhtyilta-5/
END:VEVENT
BEGIN:VEVENT
DTSTART;TZID=Europe/Helsinki:20240925T180000
DTEND;TZID=Europe/Helsinki:20240925T200000
DTSTAMP:20260423T130428
CREATED:20240808T110632Z
LAST-MODIFIED:20240808T110632Z
UID:9495-1727287200-1727294400@www.evankeliset.net
SUMMARY:Espoo\, Olari\, Iloisten laulujen ilta
DESCRIPTION:
URL:https://www.evankeliset.net/tapahtuma/espoo-olari-iloisten-laulujen-ilta-2/
END:VEVENT
BEGIN:VEVENT
DTSTART;TZID=Europe/Helsinki:20240926T173000
DTEND;TZID=Europe/Helsinki:20240926T193000
DTSTAMP:20260423T130428
CREATED:20240820T083200Z
LAST-MODIFIED:20240905T084927Z
UID:9612-1727371800-1727379000@www.evankeliset.net
SUMMARY:Tampere\, Siionin kannel -seurat
DESCRIPTION:
URL:https://www.evankeliset.net/tapahtuma/tampere-siionin-kannel-seurat-6/
END:VEVENT
END:VCALENDAR