BEGIN:VCALENDAR
VERSION:2.0
PRODID:-//Evankelinen lähetysyhdistys ELY ry - ECPv6.15.18//NONSGML v1.0//EN
CALSCALE:GREGORIAN
METHOD:PUBLISH
X-WR-CALNAME:Evankelinen lähetysyhdistys ELY ry
X-ORIGINAL-URL:https://www.evankeliset.net
X-WR-CALDESC:Tapahtumat Evankelinen lähetysyhdistys ELY ry
REFRESH-INTERVAL;VALUE=DURATION:PT1H
X-Robots-Tag:noindex
X-PUBLISHED-TTL:PT1H
BEGIN:VTIMEZONE
TZID:Europe/Helsinki
BEGIN:DAYLIGHT
TZOFFSETFROM:+0200
TZOFFSETTO:+0300
TZNAME:EEST
DTSTART:20250330T010000
END:DAYLIGHT
BEGIN:STANDARD
TZOFFSETFROM:+0300
TZOFFSETTO:+0200
TZNAME:EET
DTSTART:20251026T010000
END:STANDARD
BEGIN:DAYLIGHT
TZOFFSETFROM:+0200
TZOFFSETTO:+0300
TZNAME:EEST
DTSTART:20260329T010000
END:DAYLIGHT
BEGIN:STANDARD
TZOFFSETFROM:+0300
TZOFFSETTO:+0200
TZNAME:EET
DTSTART:20261025T010000
END:STANDARD
BEGIN:DAYLIGHT
TZOFFSETFROM:+0200
TZOFFSETTO:+0300
TZNAME:EEST
DTSTART:20270328T010000
END:DAYLIGHT
BEGIN:STANDARD
TZOFFSETFROM:+0300
TZOFFSETTO:+0200
TZNAME:EET
DTSTART:20271031T010000
END:STANDARD
END:VTIMEZONE
BEGIN:VTIMEZONE
TZID:Europe/Helsinki
BEGIN:DAYLIGHT
TZOFFSETFROM:+0200
TZOFFSETTO:+0300
TZNAME:EEST
DTSTART:20250330T010000
END:DAYLIGHT
BEGIN:STANDARD
TZOFFSETFROM:+0300
TZOFFSETTO:+0200
TZNAME:EET
DTSTART:20251026T010000
END:STANDARD
BEGIN:DAYLIGHT
TZOFFSETFROM:+0200
TZOFFSETTO:+0300
TZNAME:EEST
DTSTART:20260329T010000
END:DAYLIGHT
BEGIN:STANDARD
TZOFFSETFROM:+0300
TZOFFSETTO:+0200
TZNAME:EET
DTSTART:20261025T010000
END:STANDARD
BEGIN:DAYLIGHT
TZOFFSETFROM:+0200
TZOFFSETTO:+0300
TZNAME:EEST
DTSTART:20270328T010000
END:DAYLIGHT
BEGIN:STANDARD
TZOFFSETFROM:+0300
TZOFFSETTO:+0200
TZNAME:EET
DTSTART:20271031T010000
END:STANDARD
END:VTIMEZONE
BEGIN:VEVENT
DTSTART;TZID=Europe/Helsinki:20260412T100000
DTEND;TZID=Europe/Helsinki:20260412T120000
DTSTAMP:20260423T144031
CREATED:20250730T074533Z
LAST-MODIFIED:20250811T062641Z
UID:11102-1775988000-1775995200@www.evankeliset.net
SUMMARY:Pirkkala\, Elyn kirkkopyhä
DESCRIPTION:
URL:https://www.evankeliset.net/tapahtuma/pirkkala/
END:VEVENT
BEGIN:VEVENT
DTSTART;TZID=Europe/Helsinki:20260412T100000
DTEND;TZID=Europe/Helsinki:20260412T130000
DTSTAMP:20260423T144031
CREATED:20260311T103653Z
LAST-MODIFIED:20260311T103653Z
UID:12122-1775988000-1775998800@www.evankeliset.net
SUMMARY:Iisalmi\, Elyn kirkkopyhä
DESCRIPTION:
URL:https://www.evankeliset.net/tapahtuma/iisalmi-elyn-kirkkopyha/
END:VEVENT
BEGIN:VEVENT
DTSTART;TZID=Europe/Helsinki:20260412T100000
DTEND;TZID=Europe/Helsinki:20260412T130000
DTSTAMP:20260423T144031
CREATED:20260313T073044Z
LAST-MODIFIED:20260313T073044Z
UID:12131-1775988000-1775998800@www.evankeliset.net
SUMMARY:Tampere\, Viinikka\, Elyn kirkkopyhä
DESCRIPTION:
URL:https://www.evankeliset.net/tapahtuma/tampere-viinikka-elyn-kirkkopyha/
END:VEVENT
BEGIN:VEVENT
DTSTART;TZID=Europe/Helsinki:20260412T100000
DTEND;TZID=Europe/Helsinki:20260412T130000
DTSTAMP:20260423T144031
CREATED:20260313T073207Z
LAST-MODIFIED:20260313T073207Z
UID:12133-1775988000-1775998800@www.evankeliset.net
SUMMARY:Tampere\, Messukylä\, Elyn kirkkopyhä
DESCRIPTION:
URL:https://www.evankeliset.net/tapahtuma/tampere-messukyla-elyn-kirkkopyha/
END:VEVENT
BEGIN:VEVENT
DTSTART;TZID=Europe/Helsinki:20260412T100000
DTEND;TZID=Europe/Helsinki:20260412T140000
DTSTAMP:20260423T144031
CREATED:20260313T063808Z
LAST-MODIFIED:20260313T073352Z
UID:12127-1775988000-1776002400@www.evankeliset.net
SUMMARY:Tampere\, Tuomiokirkkko
DESCRIPTION:
URL:https://www.evankeliset.net/tapahtuma/tampere-tuomiokirkkko/
END:VEVENT
BEGIN:VEVENT
DTSTART;TZID=Europe/Helsinki:20260413T130000
DTEND;TZID=Europe/Helsinki:20260413T143000
DTSTAMP:20260423T144031
CREATED:20251007T105144Z
LAST-MODIFIED:20260115T073140Z
UID:11453-1776085200-1776090600@www.evankeliset.net
SUMMARY:Kurikka\, Siionin kannel seurat
DESCRIPTION:
URL:https://www.evankeliset.net/tapahtuma/kurikka-siionin-kannel-seurat-106/
END:VEVENT
BEGIN:VEVENT
DTSTART;TZID=Europe/Helsinki:20260413T180000
DTEND;TZID=Europe/Helsinki:20260413T200000
DTSTAMP:20260423T144031
CREATED:20260127T111331Z
LAST-MODIFIED:20260127T111331Z
UID:11891-1776103200-1776110400@www.evankeliset.net
SUMMARY:Kerava\, Lähetysilta
DESCRIPTION:
URL:https://www.evankeliset.net/tapahtuma/kerava-lahetysilta/
END:VEVENT
BEGIN:VEVENT
DTSTART;TZID=Europe/Helsinki:20260414T130000
DTEND;TZID=Europe/Helsinki:20260414T150000
DTSTAMP:20260423T144031
CREATED:20260127T111638Z
LAST-MODIFIED:20260127T112732Z
UID:11895-1776171600-1776178800@www.evankeliset.net
SUMMARY:Salo\, Päiväkahviseurat
DESCRIPTION:
URL:https://www.evankeliset.net/tapahtuma/salo-paivakahviseurat-14/
END:VEVENT
BEGIN:VEVENT
DTSTART;TZID=Europe/Helsinki:20260414T140000
DTEND;TZID=Europe/Helsinki:20260414T160000
DTSTAMP:20260423T144031
CREATED:20260108T140107Z
LAST-MODIFIED:20260108T140107Z
UID:11803-1776175200-1776182400@www.evankeliset.net
SUMMARY:Hyvinkää\, Armon ja ilon iltapäivä
DESCRIPTION:
URL:https://www.evankeliset.net/tapahtuma/hyvinkaa-armon-ja-ilon-iltapaiva-15/
END:VEVENT
BEGIN:VEVENT
DTSTART;TZID=Europe/Helsinki:20260414T140000
DTEND;TZID=Europe/Helsinki:20260414T160000
DTSTAMP:20260423T144031
CREATED:20260127T111519Z
LAST-MODIFIED:20260127T111519Z
UID:11893-1776175200-1776182400@www.evankeliset.net
SUMMARY:Hamina\, Lähetyspiiri
DESCRIPTION:
URL:https://www.evankeliset.net/tapahtuma/hamina-lahetyspiiri-2/
END:VEVENT
BEGIN:VEVENT
DTSTART;TZID=Europe/Helsinki:20260414T180000
DTEND;TZID=Europe/Helsinki:20260414T200000
DTSTAMP:20260423T144031
CREATED:20260112T073418Z
LAST-MODIFIED:20260309T092014Z
UID:11809-1776189600-1776196800@www.evankeliset.net
SUMMARY:Kortesjärvi\, Siionin kannel seurat
DESCRIPTION:
URL:https://www.evankeliset.net/tapahtuma/kortesjarvi-siionin-kannel-seurat/
END:VEVENT
BEGIN:VEVENT
DTSTART;TZID=Europe/Helsinki:20260415T133000
DTEND;TZID=Europe/Helsinki:20260415T153000
DTSTAMP:20260423T144031
CREATED:20251112T084648Z
LAST-MODIFIED:20251112T084648Z
UID:11618-1776259800-1776267000@www.evankeliset.net
SUMMARY:Kokkola\, Lauluhetki päiväkahvin aikaan
DESCRIPTION:
URL:https://www.evankeliset.net/tapahtuma/kokkola-lauluhetki-paivakahvin-aikaan-12/
END:VEVENT
BEGIN:VEVENT
DTSTART;TZID=Europe/Helsinki:20260415T180000
DTEND;TZID=Europe/Helsinki:20260415T200000
DTSTAMP:20260423T144031
CREATED:20251021T113749Z
LAST-MODIFIED:20260311T081304Z
UID:11506-1776276000-1776283200@www.evankeliset.net
SUMMARY:Lapua\, Lyhtyilta
DESCRIPTION:
URL:https://www.evankeliset.net/tapahtuma/lapua-lyhtyilta-14/
END:VEVENT
BEGIN:VEVENT
DTSTART;TZID=Europe/Helsinki:20260415T180000
DTEND;TZID=Europe/Helsinki:20260415T200000
DTSTAMP:20260423T144031
CREATED:20260302T092441Z
LAST-MODIFIED:20260324T094849Z
UID:12051-1776276000-1776283200@www.evankeliset.net
SUMMARY:Järvenpää\, Lähetystapahtuma
DESCRIPTION:
URL:https://www.evankeliset.net/tapahtuma/jarvenpaa-lahetystapahtuma/
END:VEVENT
BEGIN:VEVENT
DTSTART;VALUE=DATE:20260417
DTEND;VALUE=DATE:20260420
DTSTAMP:20260423T144031
CREATED:20250730T074412Z
LAST-MODIFIED:20260306T103355Z
UID:11100-1776384000-1776643199@www.evankeliset.net
SUMMARY:Kuusamo\, lähettivierailuja\, Ruotsalat
DESCRIPTION:
URL:https://www.evankeliset.net/tapahtuma/kuusamo-lahettivierailuja-ruotsalat/
END:VEVENT
BEGIN:VEVENT
DTSTART;TZID=Europe/Helsinki:20260418T093000
DTEND;TZID=Europe/Helsinki:20260418T143000
DTSTAMP:20260423T144031
CREATED:20260309T091154Z
LAST-MODIFIED:20260309T091154Z
UID:12093-1776504600-1776522600@www.evankeliset.net
SUMMARY:Sonkajärvi\, Rovastikunnallinen lähetyspäivä
DESCRIPTION:
URL:https://www.evankeliset.net/tapahtuma/sonkajarvi-rovastikunnallinen-lahetyspaiva/
END:VEVENT
BEGIN:VEVENT
DTSTART;TZID=Europe/Helsinki:20260419T100000
DTEND;TZID=Europe/Helsinki:20260419T140000
DTSTAMP:20260423T144031
CREATED:20251022T141557Z
LAST-MODIFIED:20260210T072900Z
UID:11513-1776592800-1776607200@www.evankeliset.net
SUMMARY:Jalasjärvi\, Elyn kirkkopyhä
DESCRIPTION:
URL:https://www.evankeliset.net/tapahtuma/jalasjarvi-elyn-kirkkopyha-3/
END:VEVENT
BEGIN:VEVENT
DTSTART;TZID=Europe/Helsinki:20260419T100000
DTEND;TZID=Europe/Helsinki:20260419T140000
DTSTAMP:20260423T144031
CREATED:20251203T072803Z
LAST-MODIFIED:20251203T072803Z
UID:11709-1776592800-1776607200@www.evankeliset.net
SUMMARY:Alajärvi\, Lähetyspyhä
DESCRIPTION:
URL:https://www.evankeliset.net/tapahtuma/alajarvi-lahetyspyha/
END:VEVENT
BEGIN:VEVENT
DTSTART;TZID=Europe/Helsinki:20260419T100000
DTEND;TZID=Europe/Helsinki:20260419T140000
DTSTAMP:20260423T144031
CREATED:20260309T091405Z
LAST-MODIFIED:20260309T091405Z
UID:12095-1776592800-1776607200@www.evankeliset.net
SUMMARY:Rantasalmi\, Messu ja lähetyksen vapaaehtoisten kiitos- ja virkistyspäivä
DESCRIPTION:
URL:https://www.evankeliset.net/tapahtuma/rantasalmi-messu-ja-lahetyksen-vapaaehtoisten-kiitos-ja-virkistyspaiva/
END:VEVENT
BEGIN:VEVENT
DTSTART;TZID=Europe/Helsinki:20260419T113000
DTEND;TZID=Europe/Helsinki:20260419T133000
DTSTAMP:20260423T144031
CREATED:20260302T121711Z
LAST-MODIFIED:20260302T121711Z
UID:12054-1776598200-1776605400@www.evankeliset.net
SUMMARY:Espoo\, Siionin kanteleen laulu- ja lähetyshetki
DESCRIPTION:
URL:https://www.evankeliset.net/tapahtuma/espoo-siionin-kanteleen-laulu-ja-lahetyshetki/
END:VEVENT
BEGIN:VEVENT
DTSTART;TZID=Europe/Helsinki:20260419T140000
DTEND;TZID=Europe/Helsinki:20260419T160000
DTSTAMP:20260423T144031
CREATED:20251021T045706Z
LAST-MODIFIED:20251110T123610Z
UID:11497-1776607200-1776614400@www.evankeliset.net
SUMMARY:Peräseinäjoki\, Siionin kannel seurat
DESCRIPTION:
URL:https://www.evankeliset.net/tapahtuma/peraseinajoki-siionin-kannel-seurat-7/
END:VEVENT
BEGIN:VEVENT
DTSTART;TZID=Europe/Helsinki:20260419T150000
DTEND;TZID=Europe/Helsinki:20260419T170000
DTSTAMP:20260423T144031
CREATED:20260114T100230Z
LAST-MODIFIED:20260204T070855Z
UID:11833-1776610800-1776618000@www.evankeliset.net
SUMMARY:Kokkola\, Virsi- ja lauluseurat
DESCRIPTION:
URL:https://www.evankeliset.net/tapahtuma/kokkola-toivon-tuulia-seurat/
END:VEVENT
BEGIN:VEVENT
DTSTART;TZID=Europe/Helsinki:20260419T180000
DTEND;TZID=Europe/Helsinki:20260419T200000
DTSTAMP:20260423T144031
CREATED:20260302T081549Z
LAST-MODIFIED:20260302T081549Z
UID:12044-1776621600-1776628800@www.evankeliset.net
SUMMARY:Espoo\, Nuorten lähetyspiiri
DESCRIPTION:
URL:https://www.evankeliset.net/tapahtuma/espoo-nuorten-lahetyspiiri-11/
END:VEVENT
BEGIN:VEVENT
DTSTART;TZID=Europe/Helsinki:20260422T180000
DTEND;TZID=Europe/Helsinki:20260422T200000
DTSTAMP:20260423T144031
CREATED:20251021T045832Z
LAST-MODIFIED:20260420T065028Z
UID:11499-1776880800-1776888000@www.evankeliset.net
SUMMARY:Ylistaro\, Siionin kannel seurat
DESCRIPTION:
URL:https://www.evankeliset.net/tapahtuma/ylistaro-siionin-kannel-seurat-3/
END:VEVENT
BEGIN:VEVENT
DTSTART;TZID=Europe/Helsinki:20260423T130000
DTEND;TZID=Europe/Helsinki:20260423T150000
DTSTAMP:20260423T144031
CREATED:20251027T143202Z
LAST-MODIFIED:20251107T094843Z
UID:11533-1776949200-1776956400@www.evankeliset.net
SUMMARY:Alavus\, Hyvässä seurassa
DESCRIPTION:
URL:https://www.evankeliset.net/tapahtuma/alavus-hyvassa-seurassa-42/
END:VEVENT
BEGIN:VEVENT
DTSTART;TZID=Europe/Helsinki:20260423T133000
DTEND;TZID=Europe/Helsinki:20260423T153000
DTSTAMP:20260423T144031
CREATED:20260127T111849Z
LAST-MODIFIED:20260127T111849Z
UID:11897-1776951000-1776958200@www.evankeliset.net
SUMMARY:Seinäjoki\, Siionin kannel -lauluhartaus
DESCRIPTION:
URL:https://www.evankeliset.net/tapahtuma/seinajoki-siionin-kannel-lauluhartaus-2/
END:VEVENT
BEGIN:VEVENT
DTSTART;TZID=Europe/Helsinki:20260423T173000
DTEND;TZID=Europe/Helsinki:20260423T200000
DTSTAMP:20260423T144031
CREATED:20251117T121528Z
LAST-MODIFIED:20260416T103916Z
UID:11647-1776965400-1776974400@www.evankeliset.net
SUMMARY:Tampere\, Toivelauluja Siionin kanteleesta ja virsikirjasta
DESCRIPTION:
URL:https://www.evankeliset.net/tapahtuma/tampere-siionin-kannel-seurat-19/
END:VEVENT
BEGIN:VEVENT
DTSTART;TZID=Europe/Helsinki:20260426T100000
DTEND;TZID=Europe/Helsinki:20260426T130000
DTSTAMP:20260423T144031
CREATED:20251003T062847Z
LAST-MODIFIED:20260408T081545Z
UID:11413-1777197600-1777208400@www.evankeliset.net
SUMMARY:Nurmes\, Elyn kirkkopyhä
DESCRIPTION:
URL:https://www.evankeliset.net/tapahtuma/nurmes-elyn-kirkkopyha-7/
END:VEVENT
BEGIN:VEVENT
DTSTART;TZID=Europe/Helsinki:20260426T100000
DTEND;TZID=Europe/Helsinki:20260426T130000
DTSTAMP:20260423T144031
CREATED:20260306T134349Z
LAST-MODIFIED:20260306T134349Z
UID:12085-1777197600-1777208400@www.evankeliset.net
SUMMARY:Hamina\, Messu Marian kirkossa
DESCRIPTION:
URL:https://www.evankeliset.net/tapahtuma/hamina-messu-marian-kirkossa/
END:VEVENT
BEGIN:VEVENT
DTSTART;TZID=Europe/Helsinki:20260426T100000
DTEND;TZID=Europe/Helsinki:20260426T130000
DTSTAMP:20260423T144031
CREATED:20260408T101652Z
LAST-MODIFIED:20260408T101652Z
UID:12175-1777197600-1777208400@www.evankeliset.net
SUMMARY:Tikkurila\, Elyn kirkkopyhä
DESCRIPTION:
URL:https://www.evankeliset.net/tapahtuma/tikkurila-elyn-kirkkopyha/
END:VEVENT
END:VCALENDAR