BEGIN:VCALENDAR
VERSION:2.0
PRODID:-//Evankelinen lähetysyhdistys ELY ry - ECPv6.15.18//NONSGML v1.0//EN
CALSCALE:GREGORIAN
METHOD:PUBLISH
X-ORIGINAL-URL:https://www.evankeliset.net
X-WR-CALDESC:Tapahtumat Evankelinen lähetysyhdistys ELY ry
REFRESH-INTERVAL;VALUE=DURATION:PT1H
X-Robots-Tag:noindex
X-PUBLISHED-TTL:PT1H
BEGIN:VTIMEZONE
TZID:Europe/Helsinki
BEGIN:DAYLIGHT
TZOFFSETFROM:+0200
TZOFFSETTO:+0300
TZNAME:EEST
DTSTART:20170326T010000
END:DAYLIGHT
BEGIN:STANDARD
TZOFFSETFROM:+0300
TZOFFSETTO:+0200
TZNAME:EET
DTSTART:20171029T010000
END:STANDARD
BEGIN:DAYLIGHT
TZOFFSETFROM:+0200
TZOFFSETTO:+0300
TZNAME:EEST
DTSTART:20180325T010000
END:DAYLIGHT
BEGIN:STANDARD
TZOFFSETFROM:+0300
TZOFFSETTO:+0200
TZNAME:EET
DTSTART:20181028T010000
END:STANDARD
BEGIN:DAYLIGHT
TZOFFSETFROM:+0200
TZOFFSETTO:+0300
TZNAME:EEST
DTSTART:20190331T010000
END:DAYLIGHT
BEGIN:STANDARD
TZOFFSETFROM:+0300
TZOFFSETTO:+0200
TZNAME:EET
DTSTART:20191027T010000
END:STANDARD
END:VTIMEZONE
BEGIN:VEVENT
DTSTART;TZID=Europe/Helsinki:20180327T093000
DTEND;TZID=Europe/Helsinki:20180327T110000
DTSTAMP:20260424T003058
CREATED:20180308T062338Z
LAST-MODIFIED:20180308T062338Z
UID:397-1522143000-1522148400@www.evankeliset.net
SUMMARY:Alahärmä\, Laula kanssain
DESCRIPTION:
URL:https://www.evankeliset.net/tapahtuma/kal-397/
END:VEVENT
BEGIN:VEVENT
DTSTART;TZID=Europe/Helsinki:20180327T180000
DTEND;TZID=Europe/Helsinki:20180327T193000
DTSTAMP:20260424T003058
CREATED:20180308T062338Z
LAST-MODIFIED:20180308T062338Z
UID:399-1522173600-1522179000@www.evankeliset.net
SUMMARY:Juva\, Raamattuluento
DESCRIPTION:
URL:https://www.evankeliset.net/tapahtuma/kal-399/
END:VEVENT
BEGIN:VEVENT
DTSTART;TZID=Europe/Helsinki:20180327T180000
DTEND;TZID=Europe/Helsinki:20180327T200000
DTSTAMP:20260424T003058
CREATED:20180308T062338Z
LAST-MODIFIED:20180308T062338Z
UID:398-1522173600-1522180800@www.evankeliset.net
SUMMARY:Alahärmä\, Laula kanssain - Runon ja laulun ilta
DESCRIPTION:
URL:https://www.evankeliset.net/tapahtuma/kal-398/
END:VEVENT
BEGIN:VEVENT
DTSTART;TZID=Europe/Helsinki:20180328T100000
DTEND;TZID=Europe/Helsinki:20180328T130000
DTSTAMP:20260424T003058
CREATED:20180308T062338Z
LAST-MODIFIED:20180308T062338Z
UID:400-1522231200-1522242000@www.evankeliset.net
SUMMARY:Alahärmä\, Laula kanssain
DESCRIPTION:
URL:https://www.evankeliset.net/tapahtuma/kal-400/
END:VEVENT
BEGIN:VEVENT
DTSTART;TZID=Europe/Helsinki:20180328T180000
DTEND;TZID=Europe/Helsinki:20180328T193000
DTSTAMP:20260424T003058
CREATED:20180308T062338Z
LAST-MODIFIED:20180308T062338Z
UID:401-1522260000-1522265400@www.evankeliset.net
SUMMARY:Sulkava\, rukousilta
DESCRIPTION:
URL:https://www.evankeliset.net/tapahtuma/kal-401/
END:VEVENT
BEGIN:VEVENT
DTSTART;TZID=Europe/Helsinki:20180329T100000
DTEND;TZID=Europe/Helsinki:20180329T113000
DTSTAMP:20260424T003058
CREATED:20180308T062338Z
LAST-MODIFIED:20180308T062338Z
UID:402-1522317600-1522323000@www.evankeliset.net
SUMMARY:Tiistenjoki\, Laulaen pääsiäiseen
DESCRIPTION:
URL:https://www.evankeliset.net/tapahtuma/kal-402/
END:VEVENT
BEGIN:VEVENT
DTSTART;TZID=Europe/Helsinki:20180329T113000
DTEND;TZID=Europe/Helsinki:20180329T130000
DTSTAMP:20260424T003058
CREATED:20180308T062338Z
LAST-MODIFIED:20180308T062338Z
UID:403-1522323000-1522328400@www.evankeliset.net
SUMMARY:Alahärmä\, Laula kanssain
DESCRIPTION:
URL:https://www.evankeliset.net/tapahtuma/kal-403/
END:VEVENT
BEGIN:VEVENT
DTSTART;TZID=Europe/Helsinki:20180330T100000
DTEND;TZID=Europe/Helsinki:20180330T140000
DTSTAMP:20260424T003058
CREATED:20180308T062338Z
LAST-MODIFIED:20180308T062338Z
UID:404-1522404000-1522418400@www.evankeliset.net
SUMMARY:Hamina\, Kannusjärvi\, maakirkko ja ristinjuhla
DESCRIPTION:
URL:https://www.evankeliset.net/tapahtuma/kal-404/
END:VEVENT
BEGIN:VEVENT
DTSTART;TZID=Europe/Helsinki:20180330T140000
DTEND;TZID=Europe/Helsinki:20180330T160000
DTSTAMP:20260424T003058
CREATED:20180308T062338Z
LAST-MODIFIED:20180308T062338Z
UID:405-1522418400-1522425600@www.evankeliset.net
SUMMARY:Seinäjoki\, ristinjuhla
DESCRIPTION:
URL:https://www.evankeliset.net/tapahtuma/kal-405/
END:VEVENT
BEGIN:VEVENT
DTSTART;TZID=Europe/Helsinki:20180403T130000
DTEND;TZID=Europe/Helsinki:20180403T150000
DTSTAMP:20260424T003058
CREATED:20180308T062338Z
LAST-MODIFIED:20180308T062338Z
UID:406-1522760400-1522767600@www.evankeliset.net
SUMMARY:Keuruu\, Siionin Kannel -seurat
DESCRIPTION:
URL:https://www.evankeliset.net/tapahtuma/kal-406/
END:VEVENT
BEGIN:VEVENT
DTSTART;TZID=Europe/Helsinki:20180403T180000
DTEND;TZID=Europe/Helsinki:20180403T200000
DTSTAMP:20260424T003058
CREATED:20180308T062338Z
LAST-MODIFIED:20180308T062338Z
UID:407-1522778400-1522785600@www.evankeliset.net
SUMMARY:Riihimäki\, Siionin Kanteleen laulutilaisuus
DESCRIPTION:
URL:https://www.evankeliset.net/tapahtuma/kal-407/
END:VEVENT
BEGIN:VEVENT
DTSTART;TZID=Europe/Helsinki:20180404T180000
DTEND;TZID=Europe/Helsinki:20180404T200000
DTSTAMP:20260424T003058
CREATED:20180308T062338Z
LAST-MODIFIED:20180308T062338Z
UID:408-1522864800-1522872000@www.evankeliset.net
SUMMARY:Orivesi\, Lähetys- ja Siionin Kannel -lauluilta
DESCRIPTION:
URL:https://www.evankeliset.net/tapahtuma/kal-408/
END:VEVENT
BEGIN:VEVENT
DTSTART;TZID=Europe/Helsinki:20180406T180000
DTEND;TZID=Europe/Helsinki:20180406T200000
DTSTAMP:20260424T003058
CREATED:20180308T062338Z
LAST-MODIFIED:20180308T062338Z
UID:409-1523037600-1523044800@www.evankeliset.net
SUMMARY:Vesilahti\, Israel-ilta
DESCRIPTION:
URL:https://www.evankeliset.net/tapahtuma/kal-409/
END:VEVENT
BEGIN:VEVENT
DTSTART;TZID=Europe/Helsinki:20180407T080000
DTEND;TZID=Europe/Helsinki:20180407T210000
DTSTAMP:20260424T003058
CREATED:20180308T062338Z
LAST-MODIFIED:20180403T111927Z
UID:410-1523088000-1523134800@www.evankeliset.net
SUMMARY:Retki\, ELYn vuosijuhla\, Tampere
DESCRIPTION:
URL:https://www.evankeliset.net/tapahtuma/kal-410/
END:VEVENT
BEGIN:VEVENT
DTSTART;TZID=Europe/Helsinki:20180407T100000
DTEND;TZID=Europe/Helsinki:20180408T140000
DTSTAMP:20260424T003058
CREATED:20180308T062338Z
LAST-MODIFIED:20180403T112149Z
UID:411-1523095200-1523196000@www.evankeliset.net
SUMMARY:Tampere\, Ely10v\, vuosijuhla\, seminaari ja vuosikokous
DESCRIPTION:
URL:https://www.evankeliset.net/tapahtuma/kal-411/
END:VEVENT
BEGIN:VEVENT
DTSTART;TZID=Europe/Helsinki:20180409T130000
DTEND;TZID=Europe/Helsinki:20180409T150000
DTSTAMP:20260424T003058
CREATED:20180308T062338Z
LAST-MODIFIED:20180308T062338Z
UID:412-1523278800-1523286000@www.evankeliset.net
SUMMARY:Kurikka\, Siionin Kannel-seurat
DESCRIPTION:
URL:https://www.evankeliset.net/tapahtuma/kal-412/
END:VEVENT
BEGIN:VEVENT
DTSTART;TZID=Europe/Helsinki:20180409T180000
DTEND;TZID=Europe/Helsinki:20180409T200000
DTSTAMP:20260424T003058
CREATED:20180308T062338Z
LAST-MODIFIED:20180308T062338Z
UID:413-1523296800-1523304000@www.evankeliset.net
SUMMARY:Salo\, Siionin Kannel -seurat
DESCRIPTION:
URL:https://www.evankeliset.net/tapahtuma/kal-413/
END:VEVENT
BEGIN:VEVENT
DTSTART;TZID=Europe/Helsinki:20180412T130000
DTEND;TZID=Europe/Helsinki:20180412T150000
DTSTAMP:20260424T003058
CREATED:20180308T062338Z
LAST-MODIFIED:20180308T062338Z
UID:415-1523538000-1523545200@www.evankeliset.net
SUMMARY:Kauhajoki\, Siionin Kannel seurat
DESCRIPTION:
URL:https://www.evankeliset.net/tapahtuma/kal-415/
END:VEVENT
BEGIN:VEVENT
DTSTART;TZID=Europe/Helsinki:20180412T180000
DTEND;TZID=Europe/Helsinki:20180412T200000
DTSTAMP:20260424T003058
CREATED:20180308T062338Z
LAST-MODIFIED:20180409T060249Z
UID:416-1523556000-1523563200@www.evankeliset.net
SUMMARY:Karstula\, Hyvässä seurassa -ilta
DESCRIPTION:
URL:https://www.evankeliset.net/tapahtuma/kal-416/
END:VEVENT
BEGIN:VEVENT
DTSTART;TZID=Europe/Helsinki:20180415T100000
DTEND;TZID=Europe/Helsinki:20180415T130000
DTSTAMP:20260424T003058
CREATED:20180308T062338Z
LAST-MODIFIED:20180308T062338Z
UID:418-1523786400-1523797200@www.evankeliset.net
SUMMARY:Imatra\, krikkopyhä
DESCRIPTION:
URL:https://www.evankeliset.net/tapahtuma/kal-418/
END:VEVENT
BEGIN:VEVENT
DTSTART;TZID=Europe/Helsinki:20180415T100000
DTEND;TZID=Europe/Helsinki:20180415T150000
DTSTAMP:20260424T003058
CREATED:20180308T062338Z
LAST-MODIFIED:20180308T062338Z
UID:417-1523786400-1523804400@www.evankeliset.net
SUMMARY:Karstula\, ELYN kirkkopyhä
DESCRIPTION:
URL:https://www.evankeliset.net/tapahtuma/kal-417/
END:VEVENT
BEGIN:VEVENT
DTSTART;TZID=Europe/Helsinki:20180415T150000
DTEND;TZID=Europe/Helsinki:20180415T170000
DTSTAMP:20260424T003058
CREATED:20180308T062338Z
LAST-MODIFIED:20180409T060917Z
UID:419-1523804400-1523811600@www.evankeliset.net
SUMMARY:Seinäjoki\, juhlaseurat
DESCRIPTION:
URL:https://www.evankeliset.net/tapahtuma/kal-419/
END:VEVENT
BEGIN:VEVENT
DTSTART;TZID=Europe/Helsinki:20180417T133000
DTEND;TZID=Europe/Helsinki:20180417T153000
DTSTAMP:20260424T003058
CREATED:20180308T062338Z
LAST-MODIFIED:20180308T062338Z
UID:420-1523971800-1523979000@www.evankeliset.net
SUMMARY:Forssa\, Siionin Kannel -seurat
DESCRIPTION:
URL:https://www.evankeliset.net/tapahtuma/kal-420/
END:VEVENT
BEGIN:VEVENT
DTSTART;TZID=Europe/Helsinki:20180417T180000
DTEND;TZID=Europe/Helsinki:20180417T193000
DTSTAMP:20260424T003058
CREATED:20180308T062338Z
LAST-MODIFIED:20180308T062338Z
UID:421-1523988000-1523993400@www.evankeliset.net
SUMMARY:Juva\, Raamattuluento
DESCRIPTION:
URL:https://www.evankeliset.net/tapahtuma/kal-421/
END:VEVENT
BEGIN:VEVENT
DTSTART;TZID=Europe/Helsinki:20180417T180000
DTEND;TZID=Europe/Helsinki:20180417T200000
DTSTAMP:20260424T003058
CREATED:20180409T072124Z
LAST-MODIFIED:20180409T080838Z
UID:676-1523988000-1523995200@www.evankeliset.net
SUMMARY:Kauhajärvi\, lauluseurat
DESCRIPTION:
URL:https://www.evankeliset.net/tapahtuma/kauhajarvi-lauluseurat/
END:VEVENT
BEGIN:VEVENT
DTSTART;TZID=Europe/Helsinki:20180419T180000
DTEND;TZID=Europe/Helsinki:20180419T193000
DTSTAMP:20260424T003058
CREATED:20180208T094006Z
LAST-MODIFIED:20180208T094006Z
UID:91-1524160800-1524166200@www.evankeliset.net
SUMMARY:Sulkava\, Raamattuluento
DESCRIPTION:
URL:https://www.evankeliset.net/tapahtuma/sulkava-raamattuluento-2/
END:VEVENT
BEGIN:VEVENT
DTSTART;TZID=Europe/Helsinki:20180419T180000
DTEND;TZID=Europe/Helsinki:20180419T193000
DTSTAMP:20260424T003058
CREATED:20180308T062338Z
LAST-MODIFIED:20180308T062338Z
UID:422-1524160800-1524166200@www.evankeliset.net
SUMMARY:Sulkava\, Raamattuluento
DESCRIPTION:
URL:https://www.evankeliset.net/tapahtuma/kal-422/
END:VEVENT
BEGIN:VEVENT
DTSTART;TZID=Europe/Helsinki:20180421T110000
DTEND;TZID=Europe/Helsinki:20180422T140000
DTSTAMP:20260424T003058
CREATED:20180420T075050Z
LAST-MODIFIED:20180420T075050Z
UID:835-1524308400-1524405600@www.evankeliset.net
SUMMARY:Kiteen opisto\, Raamattukurssi
DESCRIPTION:
URL:https://www.evankeliset.net/tapahtuma/kiteen-opisto-raamattukurssi/
END:VEVENT
BEGIN:VEVENT
DTSTART;TZID=Europe/Helsinki:20180422T100000
DTEND;TZID=Europe/Helsinki:20180422T130000
DTSTAMP:20260424T003058
CREATED:20180308T062338Z
LAST-MODIFIED:20180308T062338Z
UID:424-1524391200-1524402000@www.evankeliset.net
SUMMARY:Sammonlahti\, Lappeenranta\, kirkkopyhä
DESCRIPTION:
URL:https://www.evankeliset.net/tapahtuma/kal-424/
END:VEVENT
BEGIN:VEVENT
DTSTART;TZID=Europe/Helsinki:20180422T100000
DTEND;TZID=Europe/Helsinki:20180422T150000
DTSTAMP:20260424T003058
CREATED:20180308T062338Z
LAST-MODIFIED:20180409T065320Z
UID:423-1524391200-1524409200@www.evankeliset.net
SUMMARY:Nurmo\, Elyn kirkkopyhä
DESCRIPTION:
URL:https://www.evankeliset.net/tapahtuma/kal-423/
END:VEVENT
END:VCALENDAR