BEGIN:VCALENDAR
VERSION:2.0
PRODID:-//Evankelinen lähetysyhdistys ELY ry - ECPv6.15.18//NONSGML v1.0//EN
CALSCALE:GREGORIAN
METHOD:PUBLISH
X-ORIGINAL-URL:https://www.evankeliset.net
X-WR-CALDESC:Tapahtumat Evankelinen lähetysyhdistys ELY ry
REFRESH-INTERVAL;VALUE=DURATION:PT1H
X-Robots-Tag:noindex
X-PUBLISHED-TTL:PT1H
BEGIN:VTIMEZONE
TZID:Europe/Helsinki
BEGIN:DAYLIGHT
TZOFFSETFROM:+0200
TZOFFSETTO:+0300
TZNAME:EEST
DTSTART:20180325T010000
END:DAYLIGHT
BEGIN:STANDARD
TZOFFSETFROM:+0300
TZOFFSETTO:+0200
TZNAME:EET
DTSTART:20181028T010000
END:STANDARD
BEGIN:DAYLIGHT
TZOFFSETFROM:+0200
TZOFFSETTO:+0300
TZNAME:EEST
DTSTART:20190331T010000
END:DAYLIGHT
BEGIN:STANDARD
TZOFFSETFROM:+0300
TZOFFSETTO:+0200
TZNAME:EET
DTSTART:20191027T010000
END:STANDARD
BEGIN:DAYLIGHT
TZOFFSETFROM:+0200
TZOFFSETTO:+0300
TZNAME:EEST
DTSTART:20200329T010000
END:DAYLIGHT
BEGIN:STANDARD
TZOFFSETFROM:+0300
TZOFFSETTO:+0200
TZNAME:EET
DTSTART:20201025T010000
END:STANDARD
END:VTIMEZONE
BEGIN:VEVENT
DTSTART;TZID=Europe/Helsinki:20190425T080000
DTEND;TZID=Europe/Helsinki:20190425T170000
DTSTAMP:20260423T212341
CREATED:20190110T124851Z
LAST-MODIFIED:20190110T124851Z
UID:1997-1556179200-1556211600@www.evankeliset.net
SUMMARY:Sulkava\,Raamattuluento
DESCRIPTION:
URL:https://www.evankeliset.net/tapahtuma/sulkavaraamattuluento-3/
END:VEVENT
BEGIN:VEVENT
DTSTART;TZID=Europe/Helsinki:20190425T180000
DTEND;TZID=Europe/Helsinki:20190425T200000
DTSTAMP:20260423T212341
CREATED:20190311T100142Z
LAST-MODIFIED:20190318T071952Z
UID:2283-1556215200-1556222400@www.evankeliset.net
SUMMARY:Lappajärvi\, Minä uskon? raamattuluento
DESCRIPTION:
URL:https://www.evankeliset.net/tapahtuma/lappajarvi-mina-uskon-raamattuluento/
END:VEVENT
BEGIN:VEVENT
DTSTART;TZID=Europe/Helsinki:20190428T100000
DTEND;TZID=Europe/Helsinki:20190428T130000
DTSTAMP:20260423T212341
CREATED:20190110T125017Z
LAST-MODIFIED:20190110T125017Z
UID:1999-1556445600-1556456400@www.evankeliset.net
SUMMARY:Joensuu\,Pielisensuun srk\, kirkkopyhä
DESCRIPTION:
URL:https://www.evankeliset.net/tapahtuma/joensuupielisensuun-srk-kirkkopyha/
END:VEVENT
BEGIN:VEVENT
DTSTART;TZID=Europe/Helsinki:20190428T120000
DTEND;TZID=Europe/Helsinki:20190428T130000
DTSTAMP:20260423T212341
CREATED:20190205T204506Z
LAST-MODIFIED:20190205T204506Z
UID:2175-1556452800-1556456400@www.evankeliset.net
SUMMARY:Yhdessä Raamatun äärellä
DESCRIPTION:
URL:https://www.evankeliset.net/tapahtuma/yhdessa-raamatun-aarella-2/
END:VEVENT
BEGIN:VEVENT
DTSTART;TZID=Europe/Helsinki:20190429T130000
DTEND;TZID=Europe/Helsinki:20190429T150000
DTSTAMP:20260423T212341
CREATED:20181010T083412Z
LAST-MODIFIED:20181010T083412Z
UID:1612-1556542800-1556550000@www.evankeliset.net
SUMMARY:Kurikka\, Siionin kannel seurat
DESCRIPTION:
URL:https://www.evankeliset.net/tapahtuma/kurikka-siionin-kannel-seurat-16/
END:VEVENT
BEGIN:VEVENT
DTSTART;TZID=Europe/Helsinki:20190429T180000
DTEND;TZID=Europe/Helsinki:20190429T200000
DTSTAMP:20260423T212341
CREATED:20190416T080945Z
LAST-MODIFIED:20190416T080945Z
UID:2419-1556560800-1556568000@www.evankeliset.net
SUMMARY:Nurmes\, Israel-ilta
DESCRIPTION:
URL:https://www.evankeliset.net/tapahtuma/nurmes-israel-ilta/
END:VEVENT
BEGIN:VEVENT
DTSTART;TZID=Europe/Helsinki:20190430T080000
DTEND;TZID=Europe/Helsinki:20190430T170000
DTSTAMP:20260423T212341
CREATED:20190121T181803Z
LAST-MODIFIED:20190315T093715Z
UID:2069-1556611200-1556643600@www.evankeliset.net
SUMMARY:Lapua\, Vappumyyjäiset
DESCRIPTION:
URL:https://www.evankeliset.net/tapahtuma/lapua-vappumyyjaiset/
END:VEVENT
BEGIN:VEVENT
DTSTART;TZID=Europe/Helsinki:20190501T110000
DTEND;TZID=Europe/Helsinki:20190501T140000
DTSTAMP:20260423T212341
CREATED:20190416T081222Z
LAST-MODIFIED:20190416T081320Z
UID:2421-1556708400-1556719200@www.evankeliset.net
SUMMARY:Juuka\, Jeesus-marssi
DESCRIPTION:
URL:https://www.evankeliset.net/tapahtuma/juuka-jeesus-marssi/
END:VEVENT
BEGIN:VEVENT
DTSTART;TZID=Europe/Helsinki:20190505T100000
DTEND;TZID=Europe/Helsinki:20190505T130000
DTSTAMP:20260423T212341
CREATED:20190110T125113Z
LAST-MODIFIED:20190110T125113Z
UID:2001-1557050400-1557061200@www.evankeliset.net
SUMMARY:Pieksämäki\, kirkkopyhä
DESCRIPTION:
URL:https://www.evankeliset.net/tapahtuma/pieksamaki-kirkkopyha/
END:VEVENT
BEGIN:VEVENT
DTSTART;TZID=Europe/Helsinki:20190507T180000
DTEND;TZID=Europe/Helsinki:20190507T200000
DTSTAMP:20260423T212341
CREATED:20181025T054554Z
LAST-MODIFIED:20181210T093410Z
UID:1715-1557252000-1557259200@www.evankeliset.net
SUMMARY:Riihimäki\, Siionin Kannel -seurat
DESCRIPTION:
URL:https://www.evankeliset.net/tapahtuma/riihimaki-siionin-kannel-seurat-6/
END:VEVENT
BEGIN:VEVENT
DTSTART;TZID=Europe/Helsinki:20190508T100000
DTEND;TZID=Europe/Helsinki:20190508T140000
DTSTAMP:20260423T212341
CREATED:20190326T173005Z
LAST-MODIFIED:20190326T173005Z
UID:2355-1557309600-1557324000@www.evankeliset.net
SUMMARY:Kokkola\, Lähetyssoppi
DESCRIPTION:
URL:https://www.evankeliset.net/tapahtuma/kokkola-lahetyssoppi-12/
END:VEVENT
BEGIN:VEVENT
DTSTART;TZID=Europe/Helsinki:20190508T183000
DTEND;TZID=Europe/Helsinki:20190508T203000
DTSTAMP:20260423T212341
CREATED:20190315T062907Z
LAST-MODIFIED:20190502T063951Z
UID:2307-1557340200-1557347400@www.evankeliset.net
SUMMARY:Ylistaro\, Kevätseurat
DESCRIPTION:
URL:https://www.evankeliset.net/tapahtuma/ylistaro-kevatseurat/
END:VEVENT
BEGIN:VEVENT
DTSTART;TZID=Europe/Helsinki:20190509T180000
DTEND;TZID=Europe/Helsinki:20190509T200000
DTSTAMP:20260423T212341
CREATED:20190311T100326Z
LAST-MODIFIED:20190318T072114Z
UID:2285-1557424800-1557432000@www.evankeliset.net
SUMMARY:Lappajärvi\, Minä uskon? raamattuluento
DESCRIPTION:
URL:https://www.evankeliset.net/tapahtuma/lappajarvi-mina-uskon-raamattuluento-2/
END:VEVENT
BEGIN:VEVENT
DTSTART;TZID=Europe/Helsinki:20190512T100000
DTEND;TZID=Europe/Helsinki:20190512T130000
DTSTAMP:20260423T212341
CREATED:20181220T150703Z
LAST-MODIFIED:20181220T150703Z
UID:1902-1557655200-1557666000@www.evankeliset.net
SUMMARY:Ylöjärvi\, kirkkopyhä
DESCRIPTION:
URL:https://www.evankeliset.net/tapahtuma/ylojarvi-kirkkopyha/
END:VEVENT
BEGIN:VEVENT
DTSTART;TZID=Europe/Helsinki:20190512T100000
DTEND;TZID=Europe/Helsinki:20190512T130000
DTSTAMP:20260423T212341
CREATED:20190110T125215Z
LAST-MODIFIED:20190110T125215Z
UID:2003-1557655200-1557666000@www.evankeliset.net
SUMMARY:Joutseno\, kirkkopyhä
DESCRIPTION:
URL:https://www.evankeliset.net/tapahtuma/joutseno-kirkkopyha/
END:VEVENT
BEGIN:VEVENT
DTSTART;TZID=Europe/Helsinki:20190512T100000
DTEND;TZID=Europe/Helsinki:20190512T140000
DTSTAMP:20260423T212341
CREATED:20190412T054541Z
LAST-MODIFIED:20190412T054541Z
UID:2396-1557655200-1557669600@www.evankeliset.net
SUMMARY:Hanko\, Elyn kirkkopyhä
DESCRIPTION:
URL:https://www.evankeliset.net/tapahtuma/hanko-elyn-kirkkopyha-2/
END:VEVENT
BEGIN:VEVENT
DTSTART;TZID=Europe/Helsinki:20190515T180000
DTEND;TZID=Europe/Helsinki:20190515T200000
DTSTAMP:20260423T212341
CREATED:20190321T070927Z
LAST-MODIFIED:20190424T040938Z
UID:2316-1557943200-1557950400@www.evankeliset.net
SUMMARY:Hyvinkää\, Kotiseurat
DESCRIPTION:
URL:https://www.evankeliset.net/tapahtuma/hyvinkaa-kotiseurat/
END:VEVENT
BEGIN:VEVENT
DTSTART;TZID=Europe/Helsinki:20190515T190000
DTEND;TZID=Europe/Helsinki:20190515T210000
DTSTAMP:20260423T212341
CREATED:20190307T162757Z
LAST-MODIFIED:20190423T043710Z
UID:2273-1557946800-1557954000@www.evankeliset.net
SUMMARY:Kuortane\, kevätseurat
DESCRIPTION:
URL:https://www.evankeliset.net/tapahtuma/kuortane-kevatseurat/
END:VEVENT
BEGIN:VEVENT
DTSTART;TZID=Europe/Helsinki:20190516T100000
DTEND;TZID=Europe/Helsinki:20190516T140000
DTSTAMP:20260423T212341
CREATED:20190325T120737Z
LAST-MODIFIED:20190325T120737Z
UID:2349-1558000800-1558015200@www.evankeliset.net
SUMMARY:Kokkola\, Lähetyssoppi
DESCRIPTION:
URL:https://www.evankeliset.net/tapahtuma/kokkola-lahetyssoppi-10/
END:VEVENT
BEGIN:VEVENT
DTSTART;TZID=Europe/Helsinki:20190516T130000
DTEND;TZID=Europe/Helsinki:20190516T150000
DTSTAMP:20260423T212341
CREATED:20180413T081048Z
LAST-MODIFIED:20190506T121751Z
UID:792-1558011600-1558018800@www.evankeliset.net
SUMMARY:Kauhajoki\, Lauluseurat
DESCRIPTION:
URL:https://www.evankeliset.net/tapahtuma/kauhajoki-lauluseurat-4/
END:VEVENT
BEGIN:VEVENT
DTSTART;TZID=Europe/Helsinki:20190516T180000
DTEND;TZID=Europe/Helsinki:20190516T200000
DTSTAMP:20260423T212341
CREATED:20190412T054702Z
LAST-MODIFIED:20190412T054702Z
UID:2398-1558029600-1558036800@www.evankeliset.net
SUMMARY:Salo\, Lähetyspiiri
DESCRIPTION:
URL:https://www.evankeliset.net/tapahtuma/salo-lahetyspiiri/
END:VEVENT
BEGIN:VEVENT
DTSTART;TZID=Europe/Helsinki:20190519T100000
DTEND;TZID=Europe/Helsinki:20190519T140000
DTSTAMP:20260423T212341
CREATED:20181220T085505Z
LAST-MODIFIED:20181220T085505Z
UID:1883-1558260000-1558274400@www.evankeliset.net
SUMMARY:Hämeenlinna\, Elyn kirkkopyhä
DESCRIPTION:
URL:https://www.evankeliset.net/tapahtuma/hameenlinna-elyn-kirkkopyha-3/
END:VEVENT
BEGIN:VEVENT
DTSTART;TZID=Europe/Helsinki:20190519T123000
DTEND;TZID=Europe/Helsinki:20190519T133000
DTSTAMP:20260423T212341
CREATED:20190205T204654Z
LAST-MODIFIED:20190205T204654Z
UID:2177-1558269000-1558272600@www.evankeliset.net
SUMMARY:Yhdessä Raamatun äärellä
DESCRIPTION:
URL:https://www.evankeliset.net/tapahtuma/yhdessa-raamatun-aarella-3/
END:VEVENT
BEGIN:VEVENT
DTSTART;TZID=Europe/Helsinki:20190519T150000
DTEND;TZID=Europe/Helsinki:20190519T170000
DTSTAMP:20260423T212341
CREATED:20181010T091135Z
LAST-MODIFIED:20190315T093629Z
UID:1615-1558278000-1558285200@www.evankeliset.net
SUMMARY:Seinäjoki\, Kevätlauluseurat
DESCRIPTION:
URL:https://www.evankeliset.net/tapahtuma/seinajoki-kevatlauluseurat/
END:VEVENT
BEGIN:VEVENT
DTSTART;TZID=Europe/Helsinki:20190519T160000
DTEND;TZID=Europe/Helsinki:20190519T180000
DTSTAMP:20260423T212341
CREATED:20190110T125325Z
LAST-MODIFIED:20190110T125325Z
UID:2005-1558281600-1558288800@www.evankeliset.net
SUMMARY:Lappenranta\, Lauritsalan srk\, perheraamis
DESCRIPTION:
URL:https://www.evankeliset.net/tapahtuma/lappenranta-lauritsalan-srk-perheraamis/
END:VEVENT
BEGIN:VEVENT
DTSTART;TZID=Europe/Helsinki:20190521T180000
DTEND;TZID=Europe/Helsinki:20190521T193000
DTSTAMP:20260423T212341
CREATED:20190110T125421Z
LAST-MODIFIED:20190110T125421Z
UID:2007-1558461600-1558467000@www.evankeliset.net
SUMMARY:Juva\, Raamattuluento
DESCRIPTION:
URL:https://www.evankeliset.net/tapahtuma/juva-raamattuluento-9/
END:VEVENT
BEGIN:VEVENT
DTSTART;TZID=Europe/Helsinki:20190522T180000
DTEND;TZID=Europe/Helsinki:20190522T193000
DTSTAMP:20260423T212341
CREATED:20190511T060351Z
LAST-MODIFIED:20190511T060351Z
UID:2520-1558548000-1558553400@www.evankeliset.net
SUMMARY:Sulkava\, rukousilta
DESCRIPTION:
URL:https://www.evankeliset.net/tapahtuma/sulkava-rukousilta-7/
END:VEVENT
BEGIN:VEVENT
DTSTART;TZID=Europe/Helsinki:20190522T180000
DTEND;TZID=Europe/Helsinki:20190522T200000
DTSTAMP:20260423T212341
CREATED:20190311T100701Z
LAST-MODIFIED:20190318T072219Z
UID:2287-1558548000-1558555200@www.evankeliset.net
SUMMARY:Lappajärvi\, Minä uskon? raamattuluento
DESCRIPTION:
URL:https://www.evankeliset.net/tapahtuma/lappajarvi-mina-uskon-raamattuluento-3/
END:VEVENT
BEGIN:VEVENT
DTSTART;TZID=Europe/Helsinki:20190523T180000
DTEND;TZID=Europe/Helsinki:20190523T193000
DTSTAMP:20260423T212341
CREATED:20190110T125521Z
LAST-MODIFIED:20190110T125521Z
UID:2009-1558634400-1558639800@www.evankeliset.net
SUMMARY:Sulkava\, Raamattuluento
DESCRIPTION:
URL:https://www.evankeliset.net/tapahtuma/sulkava-raamattuluento-10/
END:VEVENT
BEGIN:VEVENT
DTSTART;TZID=Europe/Helsinki:20190525T160000
DTEND;TZID=Europe/Helsinki:20190525T180000
DTSTAMP:20260423T212341
CREATED:20180618T062928Z
LAST-MODIFIED:20180618T062928Z
UID:1045-1558800000-1558807200@www.evankeliset.net
SUMMARY:Salo\, Mökkiseurat
DESCRIPTION:
URL:https://www.evankeliset.net/tapahtuma/salo-mokkiseurat/
END:VEVENT
END:VCALENDAR