BEGIN:VCALENDAR
VERSION:2.0
PRODID:-//Evankelinen lähetysyhdistys ELY ry - ECPv6.15.18//NONSGML v1.0//EN
CALSCALE:GREGORIAN
METHOD:PUBLISH
X-ORIGINAL-URL:https://www.evankeliset.net
X-WR-CALDESC:Tapahtumat Evankelinen lähetysyhdistys ELY ry
REFRESH-INTERVAL;VALUE=DURATION:PT1H
X-Robots-Tag:noindex
X-PUBLISHED-TTL:PT1H
BEGIN:VTIMEZONE
TZID:Europe/Helsinki
BEGIN:DAYLIGHT
TZOFFSETFROM:+0200
TZOFFSETTO:+0300
TZNAME:EEST
DTSTART:20190331T010000
END:DAYLIGHT
BEGIN:STANDARD
TZOFFSETFROM:+0300
TZOFFSETTO:+0200
TZNAME:EET
DTSTART:20191027T010000
END:STANDARD
BEGIN:DAYLIGHT
TZOFFSETFROM:+0200
TZOFFSETTO:+0300
TZNAME:EEST
DTSTART:20200329T010000
END:DAYLIGHT
BEGIN:STANDARD
TZOFFSETFROM:+0300
TZOFFSETTO:+0200
TZNAME:EET
DTSTART:20201025T010000
END:STANDARD
BEGIN:DAYLIGHT
TZOFFSETFROM:+0200
TZOFFSETTO:+0300
TZNAME:EEST
DTSTART:20210328T010000
END:DAYLIGHT
BEGIN:STANDARD
TZOFFSETFROM:+0300
TZOFFSETTO:+0200
TZNAME:EET
DTSTART:20211031T010000
END:STANDARD
BEGIN:DAYLIGHT
TZOFFSETFROM:+0200
TZOFFSETTO:+0300
TZNAME:EEST
DTSTART:20220327T010000
END:DAYLIGHT
BEGIN:STANDARD
TZOFFSETFROM:+0300
TZOFFSETTO:+0200
TZNAME:EET
DTSTART:20221030T010000
END:STANDARD
END:VTIMEZONE
BEGIN:VEVENT
DTSTART;TZID=Europe/Helsinki:20201129T120000
DTEND;TZID=Europe/Helsinki:20201129T140000
DTSTAMP:20260425T152810
CREATED:20201113T061149Z
LAST-MODIFIED:20201123T083523Z
UID:4563-1606651200-1606658400@www.evankeliset.net
SUMMARY:PERUTTU: Espoo\, Adventin messu
DESCRIPTION:
URL:https://www.evankeliset.net/tapahtuma/espoo-adventin-messu/
END:VEVENT
BEGIN:VEVENT
DTSTART;TZID=Europe/Helsinki:20201129T170000
DTEND;TZID=Europe/Helsinki:20201129T183000
DTSTAMP:20260425T152810
CREATED:20200823T140029Z
LAST-MODIFIED:20201123T083625Z
UID:4240-1606669200-1606674600@www.evankeliset.net
SUMMARY:PERUTTU: Helsinki\, Puistola\, Valon messu
DESCRIPTION:
URL:https://www.evankeliset.net/tapahtuma/helsinki-puistola-valon-messu-2/
END:VEVENT
BEGIN:VEVENT
DTSTART;TZID=Europe/Helsinki:20201130T180000
DTEND;TZID=Europe/Helsinki:20201130T200000
DTSTAMP:20260425T152810
CREATED:20201124T080522Z
LAST-MODIFIED:20201127T105227Z
UID:4735-1606759200-1606766400@www.evankeliset.net
SUMMARY:Siirretään:Leppävaaran kirkko\, Israel-ilta
DESCRIPTION:
URL:https://www.evankeliset.net/tapahtuma/leppavaaran-kirkko-israel-ilta/
END:VEVENT
BEGIN:VEVENT
DTSTART;TZID=Europe/Helsinki:20201201T130000
DTEND;TZID=Europe/Helsinki:20201201T150000
DTSTAMP:20260425T152810
CREATED:20200820T105949Z
LAST-MODIFIED:20200820T105949Z
UID:4187-1606827600-1606834800@www.evankeliset.net
SUMMARY:Riihimäki\, Siionin kannel -seurat
DESCRIPTION:
URL:https://www.evankeliset.net/tapahtuma/riihimaki-siionin-kannel-seurat-13/
END:VEVENT
BEGIN:VEVENT
DTSTART;TZID=Europe/Helsinki:20201205T100000
DTEND;TZID=Europe/Helsinki:20201205T150000
DTSTAMP:20260425T152810
CREATED:20201126T080420Z
LAST-MODIFIED:20201130T130310Z
UID:4744-1607162400-1607180400@www.evankeliset.net
SUMMARY:PERUTTU\, Kokkola\, Lähetyssoppi
DESCRIPTION:
URL:https://www.evankeliset.net/tapahtuma/kokkola-lahetyssoppi-27/
END:VEVENT
BEGIN:VEVENT
DTSTART;TZID=Europe/Helsinki:20201207T130000
DTEND;TZID=Europe/Helsinki:20201207T150000
DTSTAMP:20260425T152810
CREATED:20201021T064925Z
LAST-MODIFIED:20201203T134306Z
UID:4411-1607346000-1607353200@www.evankeliset.net
SUMMARY:PERUTTU\, Kurikka\, Joululauluseurat
DESCRIPTION:
URL:https://www.evankeliset.net/tapahtuma/kurikka-siionin-kannel-seurat-30/
END:VEVENT
BEGIN:VEVENT
DTSTART;TZID=Europe/Helsinki:20201208T100000
DTEND;TZID=Europe/Helsinki:20201208T140000
DTSTAMP:20260425T152810
CREATED:20201125T081232Z
LAST-MODIFIED:20201130T130426Z
UID:4737-1607421600-1607436000@www.evankeliset.net
SUMMARY:PERUTTU\, Kokkola\, Lähetyssoppi
DESCRIPTION:
URL:https://www.evankeliset.net/tapahtuma/kokkola-lahetyssoppi-26/
END:VEVENT
BEGIN:VEVENT
DTSTART;TZID=Europe/Helsinki:20201208T173000
DTEND;TZID=Europe/Helsinki:20201208T200000
DTSTAMP:20260425T152810
CREATED:20200917T050900Z
LAST-MODIFIED:20200924T051953Z
UID:4323-1607448600-1607457600@www.evankeliset.net
SUMMARY:Salo\, Siionin kannel -seurat
DESCRIPTION:
URL:https://www.evankeliset.net/tapahtuma/salo-siionin-kannel-seurat-9/
END:VEVENT
BEGIN:VEVENT
DTSTART;TZID=Europe/Helsinki:20201208T180000
DTEND;TZID=Europe/Helsinki:20201208T190000
DTSTAMP:20260425T152810
CREATED:20201202T213216Z
LAST-MODIFIED:20201203T161913Z
UID:4811-1607450400-1607454000@www.evankeliset.net
SUMMARY:Peruttu: Savonlinna\, Raamattuluento
DESCRIPTION:
URL:https://www.evankeliset.net/tapahtuma/savonlinna-raamattuluento-11/
END:VEVENT
BEGIN:VEVENT
DTSTART;TZID=Europe/Helsinki:20201208T180000
DTEND;TZID=Europe/Helsinki:20201208T200000
DTSTAMP:20260425T152810
CREATED:20200831T083151Z
LAST-MODIFIED:20201202T084347Z
UID:4270-1607450400-1607457600@www.evankeliset.net
SUMMARY:PERUTTU\, Jalasjärvi\, ELYn ja HYn yhteiset adventtiseurat
DESCRIPTION:
URL:https://www.evankeliset.net/tapahtuma/jalasjarvi-elyn-ja-hyn-yhteiset-adventtiseurat/
END:VEVENT
BEGIN:VEVENT
DTSTART;TZID=Europe/Helsinki:20201209T183000
DTEND;TZID=Europe/Helsinki:20201209T200000
DTSTAMP:20260425T152810
CREATED:20201116T131614Z
LAST-MODIFIED:20201203T080538Z
UID:4573-1607538600-1607544000@www.evankeliset.net
SUMMARY:PERUTTU\, Ylistaro\, Joululauluseurat
DESCRIPTION:
URL:https://www.evankeliset.net/tapahtuma/ylistaro-joululauluseurat/
END:VEVENT
BEGIN:VEVENT
DTSTART;TZID=Europe/Helsinki:20201210T160000
DTEND;TZID=Europe/Helsinki:20201210T200000
DTSTAMP:20260425T152810
CREATED:20201126T080532Z
LAST-MODIFIED:20201130T130520Z
UID:4746-1607616000-1607630400@www.evankeliset.net
SUMMARY:PERUTTU\, Kokkola\, Lähetyssoppi
DESCRIPTION:
URL:https://www.evankeliset.net/tapahtuma/kokkola-lahetyssoppi-28/
END:VEVENT
BEGIN:VEVENT
DTSTART;TZID=Europe/Helsinki:20201210T180000
DTEND;TZID=Europe/Helsinki:20201210T193000
DTSTAMP:20260425T152810
CREATED:20200821T125856Z
LAST-MODIFIED:20201203T161848Z
UID:4230-1607623200-1607628600@www.evankeliset.net
SUMMARY:Peruttu: Sulkava\, Raamattuluento
DESCRIPTION:
URL:https://www.evankeliset.net/tapahtuma/sulkava-raamattuluento-25/
END:VEVENT
BEGIN:VEVENT
DTSTART;TZID=Europe/Helsinki:20201210T180000
DTEND;TZID=Europe/Helsinki:20201210T200000
DTSTAMP:20260425T152810
CREATED:20201118T114923Z
LAST-MODIFIED:20201203T092823Z
UID:4637-1607623200-1607630400@www.evankeliset.net
SUMMARY:PERUTTU\, Peräseinäjoki\, Joululauluseurat
DESCRIPTION:
URL:https://www.evankeliset.net/tapahtuma/peraseinajoki-joululauluseurat/
END:VEVENT
BEGIN:VEVENT
DTSTART;TZID=Europe/Helsinki:20201212T170000
DTEND;TZID=Europe/Helsinki:20201212T183000
DTSTAMP:20260425T152810
CREATED:20201202T213444Z
LAST-MODIFIED:20201202T213444Z
UID:4813-1607792400-1607797800@www.evankeliset.net
SUMMARY:Savonlinna\, Loisto-ilta
DESCRIPTION:
URL:https://www.evankeliset.net/tapahtuma/savonlinna-loisto-ilta-5/
END:VEVENT
BEGIN:VEVENT
DTSTART;TZID=Europe/Helsinki:20201213T100000
DTEND;TZID=Europe/Helsinki:20201213T140000
DTSTAMP:20260425T152810
CREATED:20201120T074209Z
LAST-MODIFIED:20201203T092744Z
UID:4669-1607853600-1607868000@www.evankeliset.net
SUMMARY:SIIRRETÄÄN\, Keuruu\, Elyn kirkkopyhä
DESCRIPTION:
URL:https://www.evankeliset.net/tapahtuma/keuruu-elyn-kirkkopyha-2/
END:VEVENT
BEGIN:VEVENT
DTSTART;TZID=Europe/Helsinki:20201213T100000
DTEND;TZID=Europe/Helsinki:20201213T150000
DTSTAMP:20260425T152810
CREATED:20200803T061927Z
LAST-MODIFIED:20201202T115137Z
UID:4091-1607853600-1607871600@www.evankeliset.net
SUMMARY:PERUTTU\, Himanka\, kirkkopyhä ja joulujuhla
DESCRIPTION:
URL:https://www.evankeliset.net/tapahtuma/himanka-kirkkopyha-ja-joulujuhla/
END:VEVENT
BEGIN:VEVENT
DTSTART;TZID=Europe/Helsinki:20201213T120000
DTEND;TZID=Europe/Helsinki:20201213T150000
DTSTAMP:20260425T152810
CREATED:20200624T073840Z
LAST-MODIFIED:20201203T080637Z
UID:4069-1607860800-1607871600@www.evankeliset.net
SUMMARY:PERUTTU\, Seinäjoki\, Maakunnallinen joulujuhla
DESCRIPTION:
URL:https://www.evankeliset.net/tapahtuma/seinajoki-maakunnallinen-joulujuhla-2/
END:VEVENT
BEGIN:VEVENT
DTSTART;TZID=Europe/Helsinki:20201215T180000
DTEND;TZID=Europe/Helsinki:20201215T193000
DTSTAMP:20260425T152810
CREATED:20200821T130007Z
LAST-MODIFIED:20201207T172148Z
UID:4232-1608055200-1608060600@www.evankeliset.net
SUMMARY:Peruttu: Juva\, Raamattuluento
DESCRIPTION:
URL:https://www.evankeliset.net/tapahtuma/juva-raamattuluento-21/
END:VEVENT
BEGIN:VEVENT
DTSTART;TZID=Europe/Helsinki:20201217T160000
DTEND;TZID=Europe/Helsinki:20201217T200000
DTSTAMP:20260425T152810
CREATED:20201126T080638Z
LAST-MODIFIED:20201130T130600Z
UID:4748-1608220800-1608235200@www.evankeliset.net
SUMMARY:PERUTTU\, Kokkola\, Lähetyssoppi
DESCRIPTION:
URL:https://www.evankeliset.net/tapahtuma/kokkola-lahetyssoppi-29/
END:VEVENT
BEGIN:VEVENT
DTSTART;TZID=Europe/Helsinki:20201226T100000
DTEND;TZID=Europe/Helsinki:20201226T110000
DTSTAMP:20260425T152810
CREATED:20200821T130123Z
LAST-MODIFIED:20200821T130123Z
UID:4234-1608976800-1608980400@www.evankeliset.net
SUMMARY:Sulkava\, messu
DESCRIPTION:
URL:https://www.evankeliset.net/tapahtuma/sulkava-messu-2/
END:VEVENT
BEGIN:VEVENT
DTSTART;TZID=Europe/Helsinki:20210101T120000
DTEND;TZID=Europe/Helsinki:20210101T143000
DTSTAMP:20260425T152810
CREATED:20200407T085316Z
LAST-MODIFIED:20200407T085316Z
UID:3656-1609502400-1609511400@www.evankeliset.net
SUMMARY:Iitti Kausala\, Elyn kirkkopyhä
DESCRIPTION:
URL:https://www.evankeliset.net/tapahtuma/iitti-kausala-elyn-kirkkopyha/
END:VEVENT
BEGIN:VEVENT
DTSTART;TZID=Europe/Helsinki:20210106T110000
DTEND;TZID=Europe/Helsinki:20210106T140000
DTSTAMP:20260425T152810
CREATED:20201116T125237Z
LAST-MODIFIED:20201228T061649Z
UID:4569-1609930800-1609941600@www.evankeliset.net
SUMMARY:SIIRRETÄÄN\, Laihia\, Elyn kirkkopyhä
DESCRIPTION:
URL:https://www.evankeliset.net/tapahtuma/laihia-elyn-kirkkopyha/
END:VEVENT
BEGIN:VEVENT
DTSTART;TZID=Europe/Helsinki:20210106T180000
DTEND;TZID=Europe/Helsinki:20210106T200000
DTSTAMP:20260425T152810
CREATED:20201121T085547Z
LAST-MODIFIED:20210105T070855Z
UID:4709-1609956000-1609963200@www.evankeliset.net
SUMMARY:PERUTTU\, Lapua\, Loppiainen armolle ja ilolle
DESCRIPTION:
URL:https://www.evankeliset.net/tapahtuma/lapua-loppiainen-armolle-ja-ilolle/
END:VEVENT
BEGIN:VEVENT
DTSTART;TZID=Europe/Helsinki:20210110T100000
DTEND;TZID=Europe/Helsinki:20210110T110000
DTSTAMP:20260425T152810
CREATED:20210108T081937Z
LAST-MODIFIED:20210108T081937Z
UID:4986-1610272800-1610276400@www.evankeliset.net
SUMMARY:Sulkava\, striimattu jumalanpalvelus
DESCRIPTION:
URL:https://www.evankeliset.net/tapahtuma/sulkava-striimattu-jumalanpalvelus/
END:VEVENT
BEGIN:VEVENT
DTSTART;TZID=Europe/Helsinki:20210110T100000
DTEND;TZID=Europe/Helsinki:20210110T140000
DTSTAMP:20260425T152810
CREATED:20201116T125603Z
LAST-MODIFIED:20201216T085121Z
UID:4571-1610272800-1610287200@www.evankeliset.net
SUMMARY:SIIRRETÄÄN Kaustinen\, Elyn kirkkopyhä
DESCRIPTION:
URL:https://www.evankeliset.net/tapahtuma/kaustinen-elyn-kirkkopyha/
END:VEVENT
BEGIN:VEVENT
DTSTART;TZID=Europe/Helsinki:20210111T130000
DTEND;TZID=Europe/Helsinki:20210111T150000
DTSTAMP:20260425T152810
CREATED:20201118T130646Z
LAST-MODIFIED:20210105T070830Z
UID:4639-1610370000-1610377200@www.evankeliset.net
SUMMARY:PERUTTU\, Kurikka\, Siionin kannel seurat
DESCRIPTION:
URL:https://www.evankeliset.net/tapahtuma/kurikka-siionin-kannel-seurat-31/
END:VEVENT
BEGIN:VEVENT
DTSTART;TZID=Europe/Helsinki:20210113T133000
DTEND;TZID=Europe/Helsinki:20210113T150000
DTSTAMP:20260425T152810
CREATED:20201117T144606Z
LAST-MODIFIED:20201218T081351Z
UID:4614-1610544600-1610550000@www.evankeliset.net
SUMMARY:PERUTTU\, Kokkola\, Elyn päiväkahvitilaisuus
DESCRIPTION:
URL:https://www.evankeliset.net/tapahtuma/kokkola-elyn-paivakahvitilaisuus-3/
END:VEVENT
BEGIN:VEVENT
DTSTART;TZID=Europe/Helsinki:20210114T130000
DTEND;TZID=Europe/Helsinki:20210114T150000
DTSTAMP:20260425T152810
CREATED:20201117T150512Z
LAST-MODIFIED:20210105T065844Z
UID:4622-1610629200-1610636400@www.evankeliset.net
SUMMARY:SIIRRETÄÄN\, Kauhajoki\, Raamattuluento
DESCRIPTION:
URL:https://www.evankeliset.net/tapahtuma/kauhajoki-siionin-kanteleen-seurat/
END:VEVENT
BEGIN:VEVENT
DTSTART;TZID=Europe/Helsinki:20210117T100000
DTEND;TZID=Europe/Helsinki:20210117T120000
DTSTAMP:20260425T152810
CREATED:20210108T082410Z
LAST-MODIFIED:20210108T082410Z
UID:4989-1610877600-1610884800@www.evankeliset.net
SUMMARY:Toivakka\, striimattu jumalanpalvelus
DESCRIPTION:
URL:https://www.evankeliset.net/tapahtuma/toivakka-striimattu-jumalanpalvelus/
END:VEVENT
END:VCALENDAR