BEGIN:VCALENDAR
VERSION:2.0
PRODID:-//Evankelinen lähetysyhdistys ELY ry - ECPv6.15.18//NONSGML v1.0//EN
CALSCALE:GREGORIAN
METHOD:PUBLISH
X-ORIGINAL-URL:https://www.evankeliset.net
X-WR-CALDESC:Tapahtumat Evankelinen lähetysyhdistys ELY ry
REFRESH-INTERVAL;VALUE=DURATION:PT1H
X-Robots-Tag:noindex
X-PUBLISHED-TTL:PT1H
BEGIN:VTIMEZONE
TZID:Europe/Helsinki
BEGIN:DAYLIGHT
TZOFFSETFROM:+0200
TZOFFSETTO:+0300
TZNAME:EEST
DTSTART:20210328T010000
END:DAYLIGHT
BEGIN:STANDARD
TZOFFSETFROM:+0300
TZOFFSETTO:+0200
TZNAME:EET
DTSTART:20211031T010000
END:STANDARD
BEGIN:DAYLIGHT
TZOFFSETFROM:+0200
TZOFFSETTO:+0300
TZNAME:EEST
DTSTART:20220327T010000
END:DAYLIGHT
BEGIN:STANDARD
TZOFFSETFROM:+0300
TZOFFSETTO:+0200
TZNAME:EET
DTSTART:20221030T010000
END:STANDARD
BEGIN:DAYLIGHT
TZOFFSETFROM:+0200
TZOFFSETTO:+0300
TZNAME:EEST
DTSTART:20230326T010000
END:DAYLIGHT
BEGIN:STANDARD
TZOFFSETFROM:+0300
TZOFFSETTO:+0200
TZNAME:EET
DTSTART:20231029T010000
END:STANDARD
END:VTIMEZONE
BEGIN:VEVENT
DTSTART;TZID=Europe/Helsinki:20220116T100000
DTEND;TZID=Europe/Helsinki:20220116T140000
DTSTAMP:20260424T190906
CREATED:20211008T071854Z
LAST-MODIFIED:20220113T112546Z
UID:6071-1642327200-1642341600@www.evankeliset.net
SUMMARY:Peräseinäjoki\, Elyn kirkkopyhä
DESCRIPTION:
URL:https://www.evankeliset.net/tapahtuma/peraseinajoki-elyn-kirkkopyha-3/
CATEGORIES:Tilaisuudet netissä
END:VEVENT
BEGIN:VEVENT
DTSTART;TZID=Europe/Helsinki:20220116T100000
DTEND;TZID=Europe/Helsinki:20220116T140000
DTSTAMP:20260424T190906
CREATED:20211117T065133Z
LAST-MODIFIED:20220110T155238Z
UID:6271-1642327200-1642341600@www.evankeliset.net
SUMMARY:Luumäki\, Elyn kirkkopyhä
DESCRIPTION:
URL:https://www.evankeliset.net/tapahtuma/luumaki-elyn-kirkkopyha-2/
END:VEVENT
BEGIN:VEVENT
DTSTART;TZID=Europe/Helsinki:20220116T110000
DTEND;TZID=Europe/Helsinki:20220116T130000
DTSTAMP:20260424T190906
CREATED:20220113T091033Z
LAST-MODIFIED:20220113T091033Z
UID:6453-1642330800-1642338000@www.evankeliset.net
SUMMARY:Savonlinna\, vapaaseurakunta\, sunnuntaikokous
DESCRIPTION:
URL:https://www.evankeliset.net/tapahtuma/savonlinna-vapaaseurakunta-sunnuntaikokous/
END:VEVENT
BEGIN:VEVENT
DTSTART;TZID=Europe/Helsinki:20220116T170000
DTEND;TZID=Europe/Helsinki:20220116T190000
DTSTAMP:20260424T190906
CREATED:20220104T130459Z
LAST-MODIFIED:20220104T130459Z
UID:6418-1642352400-1642359600@www.evankeliset.net
SUMMARY:Viiala\, Majataloilta
DESCRIPTION:
URL:https://www.evankeliset.net/tapahtuma/viiala-majataloilta/
END:VEVENT
BEGIN:VEVENT
DTSTART;TZID=Europe/Helsinki:20220118T133000
DTEND;TZID=Europe/Helsinki:20220118T153000
DTSTAMP:20260424T190906
CREATED:20211119T100940Z
LAST-MODIFIED:20220110T154906Z
UID:6295-1642512600-1642519800@www.evankeliset.net
SUMMARY:Forssa\, Siionin kannel -seurat PERUTTU
DESCRIPTION:
URL:https://www.evankeliset.net/tapahtuma/forssa-ystavan-kammari/
END:VEVENT
BEGIN:VEVENT
DTSTART;TZID=Europe/Helsinki:20220118T180000
DTEND;TZID=Europe/Helsinki:20220118T193000
DTSTAMP:20260424T190906
CREATED:20220113T091312Z
LAST-MODIFIED:20220113T091312Z
UID:6456-1642528800-1642534200@www.evankeliset.net
SUMMARY:Savonlinna\, Raamattuluento
DESCRIPTION:
URL:https://www.evankeliset.net/tapahtuma/savonlinna-raamattuluento-22/
CATEGORIES:Tilaisuudet netissä
END:VEVENT
BEGIN:VEVENT
DTSTART;TZID=Europe/Helsinki:20220118T180000
DTEND;TZID=Europe/Helsinki:20220118T200000
DTSTAMP:20260424T190906
CREATED:20211014T093135Z
LAST-MODIFIED:20220110T172023Z
UID:6093-1642528800-1642536000@www.evankeliset.net
SUMMARY:Laihia\, Lähetysseurat
DESCRIPTION:
URL:https://www.evankeliset.net/tapahtuma/laihia-lahetysseurat-2/
CATEGORIES:Tilaisuudet netissä
END:VEVENT
BEGIN:VEVENT
DTSTART;TZID=Europe/Helsinki:20220119T130000
DTEND;TZID=Europe/Helsinki:20220119T143000
DTSTAMP:20260424T190906
CREATED:20211005T091553Z
LAST-MODIFIED:20220113T112744Z
UID:6038-1642597200-1642602600@www.evankeliset.net
SUMMARY:Jalasjärvi\, Siionin kannel seurat
DESCRIPTION:
URL:https://www.evankeliset.net/tapahtuma/jalasjarvi-siionin-kannel-seurat-7/
CATEGORIES:Tilaisuudet netissä
END:VEVENT
BEGIN:VEVENT
DTSTART;TZID=Europe/Helsinki:20220122T170000
DTEND;TZID=Europe/Helsinki:20220122T190000
DTSTAMP:20260424T190906
CREATED:20220113T091437Z
LAST-MODIFIED:20220113T091437Z
UID:6458-1642870800-1642878000@www.evankeliset.net
SUMMARY:Savonlinna\, Loistoilta
DESCRIPTION:
URL:https://www.evankeliset.net/tapahtuma/savonlinna-loistoilta-2/
END:VEVENT
BEGIN:VEVENT
DTSTART;TZID=Europe/Helsinki:20220123T100000
DTEND;TZID=Europe/Helsinki:20220123T130000
DTSTAMP:20260424T190906
CREATED:20220104T130826Z
LAST-MODIFIED:20220112T083806Z
UID:6420-1642932000-1642942800@www.evankeliset.net
SUMMARY:Tuusula\, Elyn kirkkopyhä
DESCRIPTION:
URL:https://www.evankeliset.net/tapahtuma/tuusula-elyn-kirkkopyha/
END:VEVENT
BEGIN:VEVENT
DTSTART;TZID=Europe/Helsinki:20220123T100000
DTEND;TZID=Europe/Helsinki:20220123T150000
DTSTAMP:20260424T190906
CREATED:20211005T064941Z
LAST-MODIFIED:20220105T083823Z
UID:6031-1642932000-1642950000@www.evankeliset.net
SUMMARY:Kurikka\, Elyn kirkkopyhä
DESCRIPTION:
URL:https://www.evankeliset.net/tapahtuma/kurikka-elyn-kirkkopyha-3/
CATEGORIES:Tilaisuudet netissä
END:VEVENT
BEGIN:VEVENT
DTSTART;TZID=Europe/Helsinki:20220123T150000
DTEND;TZID=Europe/Helsinki:20220123T170000
DTSTAMP:20260424T190906
CREATED:20211005T065134Z
LAST-MODIFIED:20220117T072006Z
UID:6033-1642950000-1642957200@www.evankeliset.net
SUMMARY:PERUTTU\, Seinäjoki\, Siionin kannel seurat
DESCRIPTION:
URL:https://www.evankeliset.net/tapahtuma/seinajoki-siionin-kannel-seurat-7/
END:VEVENT
BEGIN:VEVENT
DTSTART;TZID=Europe/Helsinki:20220124T120000
DTEND;TZID=Europe/Helsinki:20220124T140000
DTSTAMP:20260424T190906
CREATED:20211014T093556Z
LAST-MODIFIED:20220110T171845Z
UID:6098-1643025600-1643032800@www.evankeliset.net
SUMMARY:Alajärvi\, Lähetystilaisuus
DESCRIPTION:
URL:https://www.evankeliset.net/tapahtuma/alajarvi-lahetystilaisuus/
END:VEVENT
BEGIN:VEVENT
DTSTART;TZID=Europe/Helsinki:20220124T130000
DTEND;TZID=Europe/Helsinki:20220124T150000
DTSTAMP:20260424T190906
CREATED:20220104T131247Z
LAST-MODIFIED:20220104T131247Z
UID:6424-1643029200-1643036400@www.evankeliset.net
SUMMARY:Hamina\, lähetystilaisuus
DESCRIPTION:
URL:https://www.evankeliset.net/tapahtuma/hamina-lahetystilaisuus/
END:VEVENT
BEGIN:VEVENT
DTSTART;TZID=Europe/Helsinki:20220125T180000
DTEND;TZID=Europe/Helsinki:20220125T193000
DTSTAMP:20260424T190906
CREATED:20211014T093423Z
LAST-MODIFIED:20220117T135754Z
UID:6096-1643133600-1643139000@www.evankeliset.net
SUMMARY:SIIRRETÄÄN\, Jämijärvi\, Lähetysseurat
DESCRIPTION:
URL:https://www.evankeliset.net/tapahtuma/jamijarvi-lahetysseurat/
END:VEVENT
BEGIN:VEVENT
DTSTART;TZID=Europe/Helsinki:20220126T120000
DTEND;TZID=Europe/Helsinki:20220126T133000
DTSTAMP:20260424T190906
CREATED:20211214T080716Z
LAST-MODIFIED:20220113T113249Z
UID:6359-1643198400-1643203800@www.evankeliset.net
SUMMARY:PERUTAAN\, Kuortane\, Hyvässä seurassa
DESCRIPTION:
URL:https://www.evankeliset.net/tapahtuma/kuortane-hyvassa-seurassa-2/
END:VEVENT
BEGIN:VEVENT
DTSTART;TZID=Europe/Helsinki:20220127T130000
DTEND;TZID=Europe/Helsinki:20220127T150000
DTSTAMP:20260424T190906
CREATED:20211111T105718Z
LAST-MODIFIED:20220120T115607Z
UID:6187-1643288400-1643295600@www.evankeliset.net
SUMMARY:PERUTTU Alavus\, Hyvässä seurassa
DESCRIPTION:
URL:https://www.evankeliset.net/tapahtuma/alavus-hyvassa-seurassa-15/
END:VEVENT
BEGIN:VEVENT
DTSTART;TZID=Europe/Helsinki:20220130T100000
DTEND;TZID=Europe/Helsinki:20220130T120000
DTSTAMP:20260424T190906
CREATED:20211111T122921Z
LAST-MODIFIED:20211111T123042Z
UID:6231-1643536800-1643544000@www.evankeliset.net
SUMMARY:Vimpeli\, Elyn kirkkopyhä
DESCRIPTION:
URL:https://www.evankeliset.net/tapahtuma/vimpeli-elyn-kirkkopyha-3/
END:VEVENT
BEGIN:VEVENT
DTSTART;TZID=Europe/Helsinki:20220130T100000
DTEND;TZID=Europe/Helsinki:20220130T130000
DTSTAMP:20260424T190906
CREATED:20220128T193750Z
LAST-MODIFIED:20220128T193750Z
UID:6502-1643536800-1643547600@www.evankeliset.net
SUMMARY:Heinävesi\, ELYn kirkkopyhä
DESCRIPTION:
URL:https://www.evankeliset.net/tapahtuma/heinavesi-elyn-kirkkopyha-2/
END:VEVENT
BEGIN:VEVENT
DTSTART;TZID=Europe/Helsinki:20220130T100000
DTEND;TZID=Europe/Helsinki:20220130T140000
DTSTAMP:20260424T190906
CREATED:20211117T064316Z
LAST-MODIFIED:20220121T095130Z
UID:6267-1643536800-1643551200@www.evankeliset.net
SUMMARY:PERUTTU\, Hämeenlinna\, Elyn kirkkopyhä
DESCRIPTION:
URL:https://www.evankeliset.net/tapahtuma/hameenlinnaelyn-kirkkopyha/
END:VEVENT
BEGIN:VEVENT
DTSTART;TZID=Europe/Helsinki:20220130T100000
DTEND;TZID=Europe/Helsinki:20220130T200000
DTSTAMP:20260424T190906
CREATED:20210820T100105Z
LAST-MODIFIED:20210820T100105Z
UID:5775-1643536800-1643572800@www.evankeliset.net
SUMMARY:Salo\, Messu ja Siionin kannel -seurat
DESCRIPTION:
URL:https://www.evankeliset.net/tapahtuma/salo-messu-ja-siionin-kannel-seurat/
END:VEVENT
BEGIN:VEVENT
DTSTART;TZID=Europe/Helsinki:20220201T130000
DTEND;TZID=Europe/Helsinki:20220201T170000
DTSTAMP:20260424T190906
CREATED:20220111T063502Z
LAST-MODIFIED:20220111T063855Z
UID:6446-1643720400-1643734800@www.evankeliset.net
SUMMARY:Riihimäki\, Siionin kannel -seurat
DESCRIPTION:
URL:https://www.evankeliset.net/tapahtuma/riihimaki-siionin-kannel-seurat-17/
END:VEVENT
BEGIN:VEVENT
DTSTART;TZID=Europe/Helsinki:20220201T180000
DTEND;TZID=Europe/Helsinki:20220201T193000
DTSTAMP:20260424T190906
CREATED:20220128T194014Z
LAST-MODIFIED:20220128T194014Z
UID:6504-1643738400-1643743800@www.evankeliset.net
SUMMARY:Savonlinna\, Raamattuluento
DESCRIPTION:
URL:https://www.evankeliset.net/tapahtuma/savonlinna-raamattuluento-23/
CATEGORIES:Tilaisuudet netissä
END:VEVENT
BEGIN:VEVENT
DTSTART;TZID=Europe/Helsinki:20220207T130000
DTEND;TZID=Europe/Helsinki:20220207T143000
DTSTAMP:20260424T190906
CREATED:20211111T114136Z
LAST-MODIFIED:20220118T101856Z
UID:6217-1644238800-1644244200@www.evankeliset.net
SUMMARY:PERUTTU\, Kurikka\, Siionin kannel seurat
DESCRIPTION:
URL:https://www.evankeliset.net/tapahtuma/kurikka-siionin-kannel-seurat-43/
END:VEVENT
BEGIN:VEVENT
DTSTART;TZID=Europe/Helsinki:20220207T140000
DTEND;TZID=Europe/Helsinki:20220207T160000
DTSTAMP:20260424T190906
CREATED:20211117T090148Z
LAST-MODIFIED:20211117T090148Z
UID:6276-1644242400-1644249600@www.evankeliset.net
SUMMARY:Kouvola\, Lähetyspiiri
DESCRIPTION:
URL:https://www.evankeliset.net/tapahtuma/kouvola-lahetyspiiri-16/
END:VEVENT
BEGIN:VEVENT
DTSTART;TZID=Europe/Helsinki:20220209T133000
DTEND;TZID=Europe/Helsinki:20220209T150000
DTSTAMP:20260424T190906
CREATED:20211214T075116Z
LAST-MODIFIED:20211214T075116Z
UID:6351-1644413400-1644418800@www.evankeliset.net
SUMMARY:Kokkola\, Elyn päiväkahvitilaisuus
DESCRIPTION:
URL:https://www.evankeliset.net/tapahtuma/kokkola-elyn-paivakahvitilaisuus-7/
END:VEVENT
BEGIN:VEVENT
DTSTART;TZID=Europe/Helsinki:20220210T130000
DTEND;TZID=Europe/Helsinki:20220210T143000
DTSTAMP:20260424T190906
CREATED:20211111T103010Z
LAST-MODIFIED:20211111T103010Z
UID:6175-1644498000-1644503400@www.evankeliset.net
SUMMARY:Kauhajoki\, Siionin kannel seurat
DESCRIPTION:
URL:https://www.evankeliset.net/tapahtuma/kauhajoki-siionin-kannel-seurat-11/
END:VEVENT
BEGIN:VEVENT
DTSTART;TZID=Europe/Helsinki:20220210T180000
DTEND;TZID=Europe/Helsinki:20220210T193000
DTSTAMP:20260424T190906
CREATED:20220207T161333Z
LAST-MODIFIED:20220207T161333Z
UID:6531-1644516000-1644521400@www.evankeliset.net
SUMMARY:Sulkava\, Raamattuluento
DESCRIPTION:
URL:https://www.evankeliset.net/tapahtuma/sulkava-raamattuluento-37/
END:VEVENT
BEGIN:VEVENT
DTSTART;TZID=Europe/Helsinki:20220213T100000
DTEND;TZID=Europe/Helsinki:20220213T113000
DTSTAMP:20260424T190906
CREATED:20211115T104052Z
LAST-MODIFIED:20211115T104052Z
UID:6246-1644746400-1644751800@www.evankeliset.net
SUMMARY:Perho\, Elyn kolehtipyhä
DESCRIPTION:
URL:https://www.evankeliset.net/tapahtuma/perho-elyn-kolehtipyha/
CATEGORIES:Tilaisuudet netissä
END:VEVENT
BEGIN:VEVENT
DTSTART;TZID=Europe/Helsinki:20220213T100000
DTEND;TZID=Europe/Helsinki:20220213T130000
DTSTAMP:20260424T190906
CREATED:20210809T074259Z
LAST-MODIFIED:20220210T103631Z
UID:5717-1644746400-1644757200@www.evankeliset.net
SUMMARY:Nurmes\, Elyn kirkkopyhä
DESCRIPTION:
URL:https://www.evankeliset.net/tapahtuma/nurmes-elyn-kirkkopyha-2/
END:VEVENT
END:VCALENDAR