BEGIN:VCALENDAR
VERSION:2.0
PRODID:-//Evankelinen lähetysyhdistys ELY ry - ECPv6.15.18//NONSGML v1.0//EN
CALSCALE:GREGORIAN
METHOD:PUBLISH
X-ORIGINAL-URL:https://www.evankeliset.net
X-WR-CALDESC:Tapahtumat Evankelinen lähetysyhdistys ELY ry
REFRESH-INTERVAL;VALUE=DURATION:PT1H
X-Robots-Tag:noindex
X-PUBLISHED-TTL:PT1H
BEGIN:VTIMEZONE
TZID:Europe/Helsinki
BEGIN:DAYLIGHT
TZOFFSETFROM:+0200
TZOFFSETTO:+0300
TZNAME:EEST
DTSTART:20210328T010000
END:DAYLIGHT
BEGIN:STANDARD
TZOFFSETFROM:+0300
TZOFFSETTO:+0200
TZNAME:EET
DTSTART:20211031T010000
END:STANDARD
BEGIN:DAYLIGHT
TZOFFSETFROM:+0200
TZOFFSETTO:+0300
TZNAME:EEST
DTSTART:20220327T010000
END:DAYLIGHT
BEGIN:STANDARD
TZOFFSETFROM:+0300
TZOFFSETTO:+0200
TZNAME:EET
DTSTART:20221030T010000
END:STANDARD
BEGIN:DAYLIGHT
TZOFFSETFROM:+0200
TZOFFSETTO:+0300
TZNAME:EEST
DTSTART:20230326T010000
END:DAYLIGHT
BEGIN:STANDARD
TZOFFSETFROM:+0300
TZOFFSETTO:+0200
TZNAME:EET
DTSTART:20231029T010000
END:STANDARD
END:VTIMEZONE
BEGIN:VEVENT
DTSTART;TZID=Europe/Helsinki:20220403T100000
DTEND;TZID=Europe/Helsinki:20220403T120000
DTSTAMP:20260424T234849
CREATED:20220117T133511Z
LAST-MODIFIED:20220308T090811Z
UID:6471-1648980000-1648987200@www.evankeliset.net
SUMMARY:Ylivieska\, Elyn kirkkopyhä\, messu
DESCRIPTION:
URL:https://www.evankeliset.net/tapahtuma/ylivieska-elyn-kirkkopyha-messu/
END:VEVENT
BEGIN:VEVENT
DTSTART;TZID=Europe/Helsinki:20220403T100000
DTEND;TZID=Europe/Helsinki:20220403T130000
DTSTAMP:20260424T234849
CREATED:20220202T112214Z
LAST-MODIFIED:20220202T112214Z
UID:6514-1648980000-1648990800@www.evankeliset.net
SUMMARY:Soini\, Elyn kirkkopyhä
DESCRIPTION:
URL:https://www.evankeliset.net/tapahtuma/soini-elyn-kirkkopyha-3/
END:VEVENT
BEGIN:VEVENT
DTSTART;TZID=Europe/Helsinki:20220403T100000
DTEND;TZID=Europe/Helsinki:20220403T140000
DTSTAMP:20260424T234849
CREATED:20211115T094620Z
LAST-MODIFIED:20211115T094620Z
UID:6244-1648980000-1648994400@www.evankeliset.net
SUMMARY:Perho\, Elyn kirkkopyhä
DESCRIPTION:
URL:https://www.evankeliset.net/tapahtuma/perho-elyn-kirkkopyha-4/
END:VEVENT
BEGIN:VEVENT
DTSTART;TZID=Europe/Helsinki:20220403T100000
DTEND;TZID=Europe/Helsinki:20220403T140000
DTSTAMP:20260424T234849
CREATED:20220328T082316Z
LAST-MODIFIED:20220328T082316Z
UID:6704-1648980000-1648994400@www.evankeliset.net
SUMMARY:Ruokolahti\, Elyn kirkkopyhä
DESCRIPTION:
URL:https://www.evankeliset.net/tapahtuma/ruokolahti-elyn-kirkkopyha/
END:VEVENT
BEGIN:VEVENT
DTSTART;TZID=Europe/Helsinki:20220403T120000
DTEND;TZID=Europe/Helsinki:20220403T140000
DTSTAMP:20260424T234849
CREATED:20220124T075023Z
LAST-MODIFIED:20220329T091619Z
UID:6491-1648987200-1648994400@www.evankeliset.net
SUMMARY:Ilmajoki\, muistoseurat
DESCRIPTION:
URL:https://www.evankeliset.net/tapahtuma/ilmajoki-muistoseurat/
END:VEVENT
BEGIN:VEVENT
DTSTART;TZID=Europe/Helsinki:20220403T140000
DTEND;TZID=Europe/Helsinki:20220403T160000
DTSTAMP:20260424T234849
CREATED:20220328T081826Z
LAST-MODIFIED:20220328T081826Z
UID:6702-1648994400-1649001600@www.evankeliset.net
SUMMARY:Kyyjärvi\, Elyn kirkkopyhä
DESCRIPTION:
URL:https://www.evankeliset.net/tapahtuma/kyyjarvi-elyn-kirkkopyha/
END:VEVENT
BEGIN:VEVENT
DTSTART;TZID=Europe/Helsinki:20220404T130000
DTEND;TZID=Europe/Helsinki:20220404T143000
DTSTAMP:20260424T234849
CREATED:20211111T114624Z
LAST-MODIFIED:20211111T114624Z
UID:6225-1649077200-1649082600@www.evankeliset.net
SUMMARY:Kurikka\, Siionin kannel seurat
DESCRIPTION:
URL:https://www.evankeliset.net/tapahtuma/kurikka-siionin-kannel-seurat-47/
END:VEVENT
BEGIN:VEVENT
DTSTART;TZID=Europe/Helsinki:20220405T130000
DTEND;TZID=Europe/Helsinki:20220405T170000
DTSTAMP:20260424T234849
CREATED:20220111T063739Z
LAST-MODIFIED:20220111T063739Z
UID:6448-1649163600-1649178000@www.evankeliset.net
SUMMARY:Riihimäki\, Siionin kannel -seurat
DESCRIPTION:
URL:https://www.evankeliset.net/tapahtuma/riihimaki-siionin-kannel-seurat-18/
END:VEVENT
BEGIN:VEVENT
DTSTART;TZID=Europe/Helsinki:20220406T133000
DTEND;TZID=Europe/Helsinki:20220406T150000
DTSTAMP:20260424T234849
CREATED:20211214T075404Z
LAST-MODIFIED:20211214T075404Z
UID:6355-1649251800-1649257200@www.evankeliset.net
SUMMARY:Kokkola\, Elyn päiväkahvitilaisuus
DESCRIPTION:
URL:https://www.evankeliset.net/tapahtuma/kokkola-elyn-paivakahvitilaisuus-9/
END:VEVENT
BEGIN:VEVENT
DTSTART;TZID=Europe/Helsinki:20220407T130000
DTEND;TZID=Europe/Helsinki:20220407T143000
DTSTAMP:20260424T234849
CREATED:20211111T103310Z
LAST-MODIFIED:20211111T103310Z
UID:6179-1649336400-1649341800@www.evankeliset.net
SUMMARY:Kauhajoki\, Siionin kannel seurat
DESCRIPTION:
URL:https://www.evankeliset.net/tapahtuma/kauhajoki-siionin-kannel-seurat-13/
END:VEVENT
BEGIN:VEVENT
DTSTART;TZID=Europe/Helsinki:20220412T190000
DTEND;TZID=Europe/Helsinki:20220412T200000
DTSTAMP:20260424T234849
CREATED:20211116T125640Z
LAST-MODIFIED:20220407T045424Z
UID:6255-1649790000-1649793600@www.evankeliset.net
SUMMARY:Alahärmä\, Hiljaisen viikon iltakirkko
DESCRIPTION:
URL:https://www.evankeliset.net/tapahtuma/alaharma-hiljaisen-viikon-iltakirkko/
END:VEVENT
BEGIN:VEVENT
DTSTART;TZID=Europe/Helsinki:20220413T093000
DTEND;TZID=Europe/Helsinki:20220413T103000
DTSTAMP:20260424T234849
CREATED:20220318T165534Z
LAST-MODIFIED:20220331T150503Z
UID:6678-1649842200-1649845800@www.evankeliset.net
SUMMARY:Alahärmä\, Laula kanssain
DESCRIPTION:
URL:https://www.evankeliset.net/tapahtuma/alaharma-laula-kanssain-8/
END:VEVENT
BEGIN:VEVENT
DTSTART;TZID=Europe/Helsinki:20220413T113000
DTEND;TZID=Europe/Helsinki:20220413T130000
DTSTAMP:20260424T234849
CREATED:20220318T092055Z
LAST-MODIFIED:20220318T165407Z
UID:6671-1649849400-1649854800@www.evankeliset.net
SUMMARY:Alahärmä\, Laula kanssain
DESCRIPTION:
URL:https://www.evankeliset.net/tapahtuma/alaharma-laula-kanssain-7/
END:VEVENT
BEGIN:VEVENT
DTSTART;TZID=Europe/Helsinki:20220414T100000
DTEND;TZID=Europe/Helsinki:20220414T110000
DTSTAMP:20260424T234849
CREATED:20220318T092236Z
LAST-MODIFIED:20220407T045724Z
UID:6673-1649930400-1649934000@www.evankeliset.net
SUMMARY:Tiistenjoki\, Laulaen pääsiäiseen
DESCRIPTION:
URL:https://www.evankeliset.net/tapahtuma/tiistenjoki-laulaen-paasiaiseen-2/
END:VEVENT
BEGIN:VEVENT
DTSTART;TZID=Europe/Helsinki:20220414T113000
DTEND;TZID=Europe/Helsinki:20220414T123000
DTSTAMP:20260424T234849
CREATED:20220318T091917Z
LAST-MODIFIED:20220318T091917Z
UID:6669-1649935800-1649939400@www.evankeliset.net
SUMMARY:Alahärmä\, Laula kanssain
DESCRIPTION:
URL:https://www.evankeliset.net/tapahtuma/alaharma-laula-kanssain-6/
END:VEVENT
BEGIN:VEVENT
DTSTART;TZID=Europe/Helsinki:20220415T110000
DTEND;TZID=Europe/Helsinki:20220415T130000
DTSTAMP:20260424T234849
CREATED:20220210T102933Z
LAST-MODIFIED:20220310T083520Z
UID:6540-1650020400-1650027600@www.evankeliset.net
SUMMARY:Hamina\, ristinjuhla Simeon salissa
DESCRIPTION:
URL:https://www.evankeliset.net/tapahtuma/hamina-ristinjuhla-simeon-salissa/
END:VEVENT
BEGIN:VEVENT
DTSTART;TZID=Europe/Helsinki:20220415T140000
DTEND;TZID=Europe/Helsinki:20220415T150000
DTSTAMP:20260424T234849
CREATED:20211111T111013Z
LAST-MODIFIED:20220407T053952Z
UID:6197-1650031200-1650034800@www.evankeliset.net
SUMMARY:Seinäjoki\, Ristinjuhla
DESCRIPTION:
URL:https://www.evankeliset.net/tapahtuma/ristinjuhla-seinajoki/
END:VEVENT
BEGIN:VEVENT
DTSTART;TZID=Europe/Helsinki:20220418T100000
DTEND;TZID=Europe/Helsinki:20220418T130000
DTSTAMP:20260424T234849
CREATED:20220328T082638Z
LAST-MODIFIED:20220328T082638Z
UID:6706-1650276000-1650286800@www.evankeliset.net
SUMMARY:Anjalankoski\, Myllykosken kirkko\, Elyn kirkkopyhä
DESCRIPTION:
URL:https://www.evankeliset.net/tapahtuma/anjalankoski-myllykosken-kirkko-elyn-kirkkopyha/
END:VEVENT
BEGIN:VEVENT
DTSTART;TZID=Europe/Helsinki:20220418T100000
DTEND;TZID=Europe/Helsinki:20220418T140000
DTSTAMP:20260424T234849
CREATED:20220328T084005Z
LAST-MODIFIED:20220328T084005Z
UID:6708-1650276000-1650290400@www.evankeliset.net
SUMMARY:Imatra\, Elyn kirkkopyhä
DESCRIPTION:
URL:https://www.evankeliset.net/tapahtuma/imatra-elyn-kirkkopyha/
END:VEVENT
BEGIN:VEVENT
DTSTART;TZID=Europe/Helsinki:20220419T133000
DTEND;TZID=Europe/Helsinki:20220419T153000
DTSTAMP:20260424T234849
CREATED:20220328T084312Z
LAST-MODIFIED:20220328T084312Z
UID:6710-1650375000-1650382200@www.evankeliset.net
SUMMARY:Forssa\, ystävän kammari Siionin kannel seurat
DESCRIPTION:
URL:https://www.evankeliset.net/tapahtuma/forssa-ystavan-kammari-siionin-kannel-seurat/
END:VEVENT
BEGIN:VEVENT
DTSTART;TZID=Europe/Helsinki:20220419T190000
DTEND;TZID=Europe/Helsinki:20220419T203000
DTSTAMP:20260424T234849
CREATED:20220221T125523Z
LAST-MODIFIED:20220316T080724Z
UID:6574-1650394800-1650400200@www.evankeliset.net
SUMMARY:Kurikka\, Jumala on -seurakuntailta
DESCRIPTION:
URL:https://www.evankeliset.net/tapahtuma/kurikka-jumala-on-seurakuntailta/
END:VEVENT
BEGIN:VEVENT
DTSTART;TZID=Europe/Helsinki:20220420T100000
DTEND;TZID=Europe/Helsinki:20220420T140000
DTSTAMP:20260424T234849
CREATED:20220317T071539Z
LAST-MODIFIED:20220317T071539Z
UID:6633-1650448800-1650463200@www.evankeliset.net
SUMMARY:Kokkola\, Lähetyssoppi
DESCRIPTION:
URL:https://www.evankeliset.net/tapahtuma/kokkola-lahetyssoppi-36/
END:VEVENT
BEGIN:VEVENT
DTSTART;TZID=Europe/Helsinki:20220420T120000
DTEND;TZID=Europe/Helsinki:20220420T133000
DTSTAMP:20260424T234849
CREATED:20211214T082036Z
LAST-MODIFIED:20211214T082036Z
UID:6367-1650456000-1650461400@www.evankeliset.net
SUMMARY:Kuortane\, Hyvässä seurassa
DESCRIPTION:
URL:https://www.evankeliset.net/tapahtuma/kuortane-hyvassa-seurassa-6/
END:VEVENT
BEGIN:VEVENT
DTSTART;TZID=Europe/Helsinki:20220420T180000
DTEND;TZID=Europe/Helsinki:20220420T200000
DTSTAMP:20260424T234849
CREATED:20210820T101145Z
LAST-MODIFIED:20220114T125808Z
UID:5785-1650477600-1650484800@www.evankeliset.net
SUMMARY:Salo\, Siionin kannel -seurat
DESCRIPTION:
URL:https://www.evankeliset.net/tapahtuma/salo-siionin-kannel-seurat-17/
END:VEVENT
BEGIN:VEVENT
DTSTART;TZID=Europe/Helsinki:20220421T180000
DTEND;TZID=Europe/Helsinki:20220421T200000
DTSTAMP:20260424T234849
CREATED:20220221T131029Z
LAST-MODIFIED:20220411T093626Z
UID:6576-1650564000-1650571200@www.evankeliset.net
SUMMARY:Lapua\, Jumala on - seurakuntailta
DESCRIPTION:
URL:https://www.evankeliset.net/tapahtuma/lapua-jumala-on-seurakuntailta/
END:VEVENT
BEGIN:VEVENT
DTSTART;TZID=Europe/Helsinki:20220422T190000
DTEND;TZID=Europe/Helsinki:20220422T210000
DTSTAMP:20260424T234849
CREATED:20220331T152635Z
LAST-MODIFIED:20220331T152635Z
UID:6730-1650654000-1650661200@www.evankeliset.net
SUMMARY:Alahärmä\, Miestenilta
DESCRIPTION:
URL:https://www.evankeliset.net/tapahtuma/alaharma-miestenilta/
END:VEVENT
BEGIN:VEVENT
DTSTART;TZID=Europe/Helsinki:20220424T100000
DTEND;TZID=Europe/Helsinki:20220424T170000
DTSTAMP:20260424T234849
CREATED:20211111T111957Z
LAST-MODIFIED:20220222T140428Z
UID:6203-1650794400-1650819600@www.evankeliset.net
SUMMARY:Alajärvi\, Elyn kirkkopyhä\, Jumala on - päiväjuhla
DESCRIPTION:
URL:https://www.evankeliset.net/tapahtuma/alajarvi-elyn-kirkkopyha-3/
END:VEVENT
BEGIN:VEVENT
DTSTART;TZID=Europe/Helsinki:20220424T130000
DTEND;TZID=Europe/Helsinki:20220424T140000
DTSTAMP:20260424T234849
CREATED:20211111T112125Z
LAST-MODIFIED:20220221T133900Z
UID:6205-1650805200-1650808800@www.evankeliset.net
SUMMARY:Lehtimäki\, Elyn kirkkopyhä
DESCRIPTION:
URL:https://www.evankeliset.net/tapahtuma/lehtimaki-elyn-kirkkopyha-4/
END:VEVENT
BEGIN:VEVENT
DTSTART;TZID=Europe/Helsinki:20220424T150000
DTEND;TZID=Europe/Helsinki:20220424T170000
DTSTAMP:20260424T234849
CREATED:20211214T145535Z
LAST-MODIFIED:20220407T045105Z
UID:6373-1650812400-1650819600@www.evankeliset.net
SUMMARY:Seinäjoki\, Raamattuluento
DESCRIPTION:
URL:https://www.evankeliset.net/tapahtuma/seinajoki-raamattuluento/
END:VEVENT
BEGIN:VEVENT
DTSTART;TZID=Europe/Helsinki:20220425T130000
DTEND;TZID=Europe/Helsinki:20220425T143000
DTSTAMP:20260424T234849
CREATED:20211111T114720Z
LAST-MODIFIED:20211120T163453Z
UID:6227-1650891600-1650897000@www.evankeliset.net
SUMMARY:Kurikka\, Siionin kannel seurat
DESCRIPTION:
URL:https://www.evankeliset.net/tapahtuma/kurikka-siionin-kannel-seurat-48/
END:VEVENT
END:VCALENDAR