BEGIN:VCALENDAR
VERSION:2.0
PRODID:-//Evankelinen lähetysyhdistys ELY ry - ECPv6.15.18//NONSGML v1.0//EN
CALSCALE:GREGORIAN
METHOD:PUBLISH
X-ORIGINAL-URL:https://www.evankeliset.net
X-WR-CALDESC:Tapahtumat Evankelinen lähetysyhdistys ELY ry
REFRESH-INTERVAL;VALUE=DURATION:PT1H
X-Robots-Tag:noindex
X-PUBLISHED-TTL:PT1H
BEGIN:VTIMEZONE
TZID:Europe/Helsinki
BEGIN:DAYLIGHT
TZOFFSETFROM:+0200
TZOFFSETTO:+0300
TZNAME:EEST
DTSTART:20210328T010000
END:DAYLIGHT
BEGIN:STANDARD
TZOFFSETFROM:+0300
TZOFFSETTO:+0200
TZNAME:EET
DTSTART:20211031T010000
END:STANDARD
BEGIN:DAYLIGHT
TZOFFSETFROM:+0200
TZOFFSETTO:+0300
TZNAME:EEST
DTSTART:20220327T010000
END:DAYLIGHT
BEGIN:STANDARD
TZOFFSETFROM:+0300
TZOFFSETTO:+0200
TZNAME:EET
DTSTART:20221030T010000
END:STANDARD
BEGIN:DAYLIGHT
TZOFFSETFROM:+0200
TZOFFSETTO:+0300
TZNAME:EEST
DTSTART:20230326T010000
END:DAYLIGHT
BEGIN:STANDARD
TZOFFSETFROM:+0300
TZOFFSETTO:+0200
TZNAME:EET
DTSTART:20231029T010000
END:STANDARD
END:VTIMEZONE
BEGIN:VEVENT
DTSTART;TZID=Europe/Helsinki:20220419T133000
DTEND;TZID=Europe/Helsinki:20220419T153000
DTSTAMP:20260424T235028
CREATED:20220328T084312Z
LAST-MODIFIED:20220328T084312Z
UID:6710-1650375000-1650382200@www.evankeliset.net
SUMMARY:Forssa\, ystävän kammari Siionin kannel seurat
DESCRIPTION:
URL:https://www.evankeliset.net/tapahtuma/forssa-ystavan-kammari-siionin-kannel-seurat/
END:VEVENT
BEGIN:VEVENT
DTSTART;TZID=Europe/Helsinki:20220419T190000
DTEND;TZID=Europe/Helsinki:20220419T203000
DTSTAMP:20260424T235029
CREATED:20220221T125523Z
LAST-MODIFIED:20220316T080724Z
UID:6574-1650394800-1650400200@www.evankeliset.net
SUMMARY:Kurikka\, Jumala on -seurakuntailta
DESCRIPTION:
URL:https://www.evankeliset.net/tapahtuma/kurikka-jumala-on-seurakuntailta/
END:VEVENT
BEGIN:VEVENT
DTSTART;TZID=Europe/Helsinki:20220420T100000
DTEND;TZID=Europe/Helsinki:20220420T140000
DTSTAMP:20260424T235029
CREATED:20220317T071539Z
LAST-MODIFIED:20220317T071539Z
UID:6633-1650448800-1650463200@www.evankeliset.net
SUMMARY:Kokkola\, Lähetyssoppi
DESCRIPTION:
URL:https://www.evankeliset.net/tapahtuma/kokkola-lahetyssoppi-36/
END:VEVENT
BEGIN:VEVENT
DTSTART;TZID=Europe/Helsinki:20220420T120000
DTEND;TZID=Europe/Helsinki:20220420T133000
DTSTAMP:20260424T235029
CREATED:20211214T082036Z
LAST-MODIFIED:20211214T082036Z
UID:6367-1650456000-1650461400@www.evankeliset.net
SUMMARY:Kuortane\, Hyvässä seurassa
DESCRIPTION:
URL:https://www.evankeliset.net/tapahtuma/kuortane-hyvassa-seurassa-6/
END:VEVENT
BEGIN:VEVENT
DTSTART;TZID=Europe/Helsinki:20220420T180000
DTEND;TZID=Europe/Helsinki:20220420T200000
DTSTAMP:20260424T235029
CREATED:20210820T101145Z
LAST-MODIFIED:20220114T125808Z
UID:5785-1650477600-1650484800@www.evankeliset.net
SUMMARY:Salo\, Siionin kannel -seurat
DESCRIPTION:
URL:https://www.evankeliset.net/tapahtuma/salo-siionin-kannel-seurat-17/
END:VEVENT
BEGIN:VEVENT
DTSTART;TZID=Europe/Helsinki:20220421T180000
DTEND;TZID=Europe/Helsinki:20220421T200000
DTSTAMP:20260424T235029
CREATED:20220221T131029Z
LAST-MODIFIED:20220411T093626Z
UID:6576-1650564000-1650571200@www.evankeliset.net
SUMMARY:Lapua\, Jumala on - seurakuntailta
DESCRIPTION:
URL:https://www.evankeliset.net/tapahtuma/lapua-jumala-on-seurakuntailta/
END:VEVENT
BEGIN:VEVENT
DTSTART;TZID=Europe/Helsinki:20220422T190000
DTEND;TZID=Europe/Helsinki:20220422T210000
DTSTAMP:20260424T235029
CREATED:20220331T152635Z
LAST-MODIFIED:20220331T152635Z
UID:6730-1650654000-1650661200@www.evankeliset.net
SUMMARY:Alahärmä\, Miestenilta
DESCRIPTION:
URL:https://www.evankeliset.net/tapahtuma/alaharma-miestenilta/
END:VEVENT
BEGIN:VEVENT
DTSTART;TZID=Europe/Helsinki:20220424T100000
DTEND;TZID=Europe/Helsinki:20220424T170000
DTSTAMP:20260424T235029
CREATED:20211111T111957Z
LAST-MODIFIED:20220222T140428Z
UID:6203-1650794400-1650819600@www.evankeliset.net
SUMMARY:Alajärvi\, Elyn kirkkopyhä\, Jumala on - päiväjuhla
DESCRIPTION:
URL:https://www.evankeliset.net/tapahtuma/alajarvi-elyn-kirkkopyha-3/
END:VEVENT
BEGIN:VEVENT
DTSTART;TZID=Europe/Helsinki:20220424T130000
DTEND;TZID=Europe/Helsinki:20220424T140000
DTSTAMP:20260424T235029
CREATED:20211111T112125Z
LAST-MODIFIED:20220221T133900Z
UID:6205-1650805200-1650808800@www.evankeliset.net
SUMMARY:Lehtimäki\, Elyn kirkkopyhä
DESCRIPTION:
URL:https://www.evankeliset.net/tapahtuma/lehtimaki-elyn-kirkkopyha-4/
END:VEVENT
BEGIN:VEVENT
DTSTART;TZID=Europe/Helsinki:20220424T150000
DTEND;TZID=Europe/Helsinki:20220424T170000
DTSTAMP:20260424T235029
CREATED:20211214T145535Z
LAST-MODIFIED:20220407T045105Z
UID:6373-1650812400-1650819600@www.evankeliset.net
SUMMARY:Seinäjoki\, Raamattuluento
DESCRIPTION:
URL:https://www.evankeliset.net/tapahtuma/seinajoki-raamattuluento/
END:VEVENT
BEGIN:VEVENT
DTSTART;TZID=Europe/Helsinki:20220425T130000
DTEND;TZID=Europe/Helsinki:20220425T143000
DTSTAMP:20260424T235029
CREATED:20211111T114720Z
LAST-MODIFIED:20211120T163453Z
UID:6227-1650891600-1650897000@www.evankeliset.net
SUMMARY:Kurikka\, Siionin kannel seurat
DESCRIPTION:
URL:https://www.evankeliset.net/tapahtuma/kurikka-siionin-kannel-seurat-48/
END:VEVENT
BEGIN:VEVENT
DTSTART;TZID=Europe/Helsinki:20220425T140000
DTEND;TZID=Europe/Helsinki:20220425T160000
DTSTAMP:20260424T235029
CREATED:20211117T090311Z
LAST-MODIFIED:20220204T063546Z
UID:6278-1650895200-1650902400@www.evankeliset.net
SUMMARY:Kouvola\, Lähetyspiiri
DESCRIPTION:
URL:https://www.evankeliset.net/tapahtuma/kouvola-lahetyspiiri-17/
END:VEVENT
BEGIN:VEVENT
DTSTART;TZID=Europe/Helsinki:20220425T180000
DTEND;TZID=Europe/Helsinki:20220425T200000
DTSTAMP:20260424T235029
CREATED:20220210T104758Z
LAST-MODIFIED:20220210T104758Z
UID:6547-1650909600-1650916800@www.evankeliset.net
SUMMARY:Hamina\, Hyvässä seurassa ilta
DESCRIPTION:
URL:https://www.evankeliset.net/tapahtuma/hamina-hyvassa-seurassa-ilta-13/
END:VEVENT
BEGIN:VEVENT
DTSTART;TZID=Europe/Helsinki:20220428T120000
DTEND;TZID=Europe/Helsinki:20220428T140000
DTSTAMP:20260424T235029
CREATED:20220426T052752Z
LAST-MODIFIED:20220426T052752Z
UID:6835-1651147200-1651154400@www.evankeliset.net
SUMMARY:Kokkola\, Syntymäpäiväseurat
DESCRIPTION:
URL:https://www.evankeliset.net/tapahtuma/kokkola-syntymapaivaseurat/
END:VEVENT
BEGIN:VEVENT
DTSTART;TZID=Europe/Helsinki:20220428T190000
DTEND;TZID=Europe/Helsinki:20220428T210000
DTSTAMP:20260424T235029
CREATED:20220221T134705Z
LAST-MODIFIED:20220331T150146Z
UID:6582-1651172400-1651179600@www.evankeliset.net
SUMMARY:Alavus\, Jumala on -seurakuntailta
DESCRIPTION:
URL:https://www.evankeliset.net/tapahtuma/alavus-jumala-on-seurakuntailta/
CATEGORIES:Tilaisuudet netissä
END:VEVENT
BEGIN:VEVENT
DTSTART;TZID=Europe/Helsinki:20220430T150000
DTEND;TZID=Europe/Helsinki:20220430T180000
DTSTAMP:20260424T235029
CREATED:20220307T111902Z
LAST-MODIFIED:20220429T053744Z
UID:6616-1651330800-1651341600@www.evankeliset.net
SUMMARY:Lapua\, vappumyyjäiset ja seurat
DESCRIPTION:
URL:https://www.evankeliset.net/tapahtuma/lapua-vappumyyjaiset-ja-seurat-2/
END:VEVENT
BEGIN:VEVENT
DTSTART;TZID=Europe/Helsinki:20220501T100000
DTEND;TZID=Europe/Helsinki:20220501T120000
DTSTAMP:20260424T235029
CREATED:20220328T060128Z
LAST-MODIFIED:20220411T142514Z
UID:6696-1651399200-1651406400@www.evankeliset.net
SUMMARY:Kaustinen\, Elyn kolehtipyhä
DESCRIPTION:
URL:https://www.evankeliset.net/tapahtuma/kautinen-elyn-kolehtipyha/
END:VEVENT
BEGIN:VEVENT
DTSTART;TZID=Europe/Helsinki:20220501T100000
DTEND;TZID=Europe/Helsinki:20220501T130000
DTSTAMP:20260424T235029
CREATED:20211117T114923Z
LAST-MODIFIED:20220406T051904Z
UID:6283-1651399200-1651410000@www.evankeliset.net
SUMMARY:Nurmo\, Elyn kirkkopyhä ja Jumala on-päiväjuhla
DESCRIPTION:
URL:https://www.evankeliset.net/tapahtuma/nurmo-elyn-kirkkopyha-3/
END:VEVENT
BEGIN:VEVENT
DTSTART;TZID=Europe/Helsinki:20220501T100000
DTEND;TZID=Europe/Helsinki:20220501T140000
DTSTAMP:20260424T235029
CREATED:20211214T082505Z
LAST-MODIFIED:20211214T082505Z
UID:6370-1651399200-1651413600@www.evankeliset.net
SUMMARY:Toholampi\, Elyn kirkkopyhä
DESCRIPTION:
URL:https://www.evankeliset.net/tapahtuma/toholampi-elyn-kirkkopyha-3/
END:VEVENT
BEGIN:VEVENT
DTSTART;TZID=Europe/Helsinki:20220502T180000
DTEND;TZID=Europe/Helsinki:20220502T200000
DTSTAMP:20260424T235029
CREATED:20220318T073049Z
LAST-MODIFIED:20220318T073049Z
UID:6665-1651514400-1651521600@www.evankeliset.net
SUMMARY:Helsinki\, Lähetysilta
DESCRIPTION:
URL:https://www.evankeliset.net/tapahtuma/helsinki-lahetysilta/
END:VEVENT
BEGIN:VEVENT
DTSTART;TZID=Europe/Helsinki:20220504T133000
DTEND;TZID=Europe/Helsinki:20220504T150000
DTSTAMP:20260424T235029
CREATED:20211214T075458Z
LAST-MODIFIED:20220328T084522Z
UID:6357-1651671000-1651676400@www.evankeliset.net
SUMMARY:Kokkola\, Elyn päiväkahvitilaisuus
DESCRIPTION:
URL:https://www.evankeliset.net/tapahtuma/elyn-paivakahvitilaisuus/
END:VEVENT
BEGIN:VEVENT
DTSTART;TZID=Europe/Helsinki:20220509T130000
DTEND;TZID=Europe/Helsinki:20220509T143000
DTSTAMP:20260424T235029
CREATED:20211111T114815Z
LAST-MODIFIED:20211111T114815Z
UID:6229-1652101200-1652106600@www.evankeliset.net
SUMMARY:Kurikka\, Siionin kannel seurat
DESCRIPTION:
URL:https://www.evankeliset.net/tapahtuma/kurikka-siionin-kannel-seurat-49/
END:VEVENT
BEGIN:VEVENT
DTSTART;TZID=Europe/Helsinki:20220511T153000
DTEND;TZID=Europe/Helsinki:20220511T173000
DTSTAMP:20260424T235029
CREATED:20220328T065625Z
LAST-MODIFIED:20220502T072001Z
UID:6700-1652283000-1652290200@www.evankeliset.net
SUMMARY:Tampere\, Syntymäpäiväseurat
DESCRIPTION:
URL:https://www.evankeliset.net/tapahtuma/tampere-syntymapaivaseurat/
END:VEVENT
BEGIN:VEVENT
DTSTART;TZID=Europe/Helsinki:20220512T130000
DTEND;TZID=Europe/Helsinki:20220512T143000
DTSTAMP:20260424T235029
CREATED:20211111T103428Z
LAST-MODIFIED:20211111T103441Z
UID:6181-1652360400-1652365800@www.evankeliset.net
SUMMARY:Kauhajoki\, Siionin kannel seurat
DESCRIPTION:
URL:https://www.evankeliset.net/tapahtuma/kauhajoki-siionin-kannel-seurat-14/
END:VEVENT
BEGIN:VEVENT
DTSTART;TZID=Europe/Helsinki:20220512T190000
DTEND;TZID=Europe/Helsinki:20220512T210000
DTSTAMP:20260424T235029
CREATED:20220411T051109Z
LAST-MODIFIED:20220411T051109Z
UID:6792-1652382000-1652389200@www.evankeliset.net
SUMMARY:Peräseinäjoki\, Siionin kannel seurat
DESCRIPTION:
URL:https://www.evankeliset.net/tapahtuma/peraseinajoki-siionin-kannel-seurat-2/
END:VEVENT
BEGIN:VEVENT
DTSTART;TZID=Europe/Helsinki:20220522T190000
DTEND;TZID=Europe/Helsinki:20220522T200000
DTSTAMP:20260424T235029
CREATED:20211111T111258Z
LAST-MODIFIED:20220421T094734Z
UID:6199-1653246000-1653249600@www.evankeliset.net
SUMMARY:Seinäjoki\, Törnävä\, Kevätkirkko
DESCRIPTION:
URL:https://www.evankeliset.net/tapahtuma/seinajoki-tornava-kevatkirkko/
END:VEVENT
BEGIN:VEVENT
DTSTART;TZID=Europe/Helsinki:20220524T100000
DTEND;TZID=Europe/Helsinki:20220524T140000
DTSTAMP:20260424T235029
CREATED:20220317T071657Z
LAST-MODIFIED:20220317T071736Z
UID:6635-1653386400-1653400800@www.evankeliset.net
SUMMARY:Kokkola\, Lähetyssoppi
DESCRIPTION:
URL:https://www.evankeliset.net/tapahtuma/kokkola-lahetyssoppi-37/
END:VEVENT
BEGIN:VEVENT
DTSTART;TZID=Europe/Helsinki:20220524T130000
DTEND;TZID=Europe/Helsinki:20220524T150000
DTSTAMP:20260424T235029
CREATED:20220421T094646Z
LAST-MODIFIED:20220421T094646Z
UID:6830-1653397200-1653404400@www.evankeliset.net
SUMMARY:Keuruu\, Siionin kannel seurat
DESCRIPTION:
URL:https://www.evankeliset.net/tapahtuma/keuruu-siionin-kannel-seurat/
END:VEVENT
BEGIN:VEVENT
DTSTART;TZID=Europe/Helsinki:20220526T100000
DTEND;TZID=Europe/Helsinki:20220526T120000
DTSTAMP:20260424T235029
CREATED:20220522T091644Z
LAST-MODIFIED:20220522T091644Z
UID:6957-1653559200-1653566400@www.evankeliset.net
SUMMARY:Elimäki\, Elyn kirkkopyhä
DESCRIPTION:
URL:https://www.evankeliset.net/tapahtuma/elimaki-elyn-kirkkopyha/
END:VEVENT
BEGIN:VEVENT
DTSTART;TZID=Europe/Helsinki:20220526T130000
DTEND;TZID=Europe/Helsinki:20220526T150000
DTSTAMP:20260424T235029
CREATED:20211116T130351Z
LAST-MODIFIED:20220210T170132Z
UID:6257-1653570000-1653577200@www.evankeliset.net
SUMMARY:Ylihärmä\, Aarrearkkuperhekirkko
DESCRIPTION:
URL:https://www.evankeliset.net/tapahtuma/aarrearkkuperhekirkko/
END:VEVENT
END:VCALENDAR